Workbook

Sheet Informe 1
B2: Seleccionar año | D2: Seleccionar año | F2: Seleccionar año
B3: 1998 | D3: 2000 | F3: 2004 | V3: =+'Informe 1'!B3 -> 1998 | W3: =+'Informe 1'!D3 -> 2000 | X3: =+'Informe 1'!F3 -> 2004 | Z3: =+'Informe 1'!B3 -> 1998 | AA3: =+'Informe 1'!D3 -> 2000 | AB3: =+'Informe 1'!F3 -> 2004 | AC3: =+Z3 -> 1998 | AD3: =+AA3 -> 2000 | AE3: =+AB3 -> 2004
T5: 1 | U5: 50 | V5: =HLOOKUP($V$3,Datos!$Z$2:$AT$303,$T5+2,FALSE) -> 38.110146 | W5: =HLOOKUP($W$3,Datos!$Z$2:$AT$303,$T5+2,FALSE) -> 23.536874 | X5: =HLOOKUP($X$3,Datos!$Z$2:$AT$303,$T5+2,FALSE) -> 27.634221 | Z5: =HLOOKUP($Z$3,Datos!$AV$2:$BP$305,Datos!$A4+2,FALSE) -> 0.79396352 | AA5: =HLOOKUP($AA$3,Datos!$AV$2:$BP$305,Datos!$A4+2,FALSE) -> 0.53255495 | AB5: =HLOOKUP($AB$3,Datos!$AV$2:$BP$305,Datos!$A4+2,FALSE) -> 0.43035277 | AC5: =+Z$305 -> 24.87509 | AD5: =+AA$305 -> 25.180895 | AE5: =+AB$305 -> 29.406288
T6: 2 | U6: 150 | V6: =HLOOKUP($V$3,Datos!$Z$2:$AT$303,$T6+2,FALSE) -> 96.141335 | W6: =HLOOKUP($W$3,Datos!$Z$2:$AT$303,$T6+2,FALSE) -> 57.030337 | X6: =HLOOKUP($X$3,Datos!$Z$2:$AT$303,$T6+2,FALSE) -> 63.951489 | Z6: =HLOOKUP($Z$3,Datos!$AV$2:$BP$305,Datos!$A5+2,FALSE) -> 2.0029499 | AA6: =HLOOKUP($AA$3,Datos!$AV$2:$BP$305,Datos!$A5+2,FALSE) -> 1.2903918 | AB6: =HLOOKUP($AB$3,Datos!$AV$2:$BP$305,Datos!$A5+2,FALSE) -> 0.99592822 | AC6: =+Z$305 -> 24.87509 | AD6: =+AA$305 -> 25.180895 | AE6: =+AB$305 -> 29.406288
T7: 3 | U7: 250 | V7: =HLOOKUP($V$3,Datos!$Z$2:$AT$303,$T7+2,FALSE) -> 128.12616 | W7: =HLOOKUP($W$3,Datos!$Z$2:$AT$303,$T7+2,FALSE) -> 73.882762 | X7: =HLOOKUP($X$3,Datos!$Z$2:$AT$303,$T7+2,FALSE) -> 83.378441 | Z7: =HLOOKUP($Z$3,Datos!$AV$2:$BP$305,Datos!$A6+2,FALSE) -> 2.6693021 | AA7: =HLOOKUP($AA$3,Datos!$AV$2:$BP$305,Datos!$A6+2,FALSE) -> 1.6717016 | AB7: =HLOOKUP($AB$3,Datos!$AV$2:$BP$305,Datos!$A6+2,FALSE) -> 1.2984677 | AC7: =+Z$305 -> 24.87509 | AD7: =+AA$305 -> 25.180895 | AE7: =+AB$305 -> 29.406288
T8: 4 | U8: 350 | V8: =HLOOKUP($V$3,Datos!$Z$2:$AT$303,$T8+2,FALSE) -> 132.57582 | W8: =HLOOKUP($W$3,Datos!$Z$2:$AT$303,$T8+2,FALSE) -> 81.92301 | X8: =HLOOKUP($X$3,Datos!$Z$2:$AT$303,$T8+2,FALSE) -> 92.770126 | Z8: =HLOOKUP($Z$3,Datos!$AV$2:$BP$305,Datos!$A7+2,FALSE) -> 2.7620038 | AA8: =HLOOKUP($AA$3,Datos!$AV$2:$BP$305,Datos!$A7+2,FALSE) -> 1.8536236 | AB8: =HLOOKUP($AB$3,Datos!$AV$2:$BP$305,Datos!$A7+2,FALSE) -> 1.4447261 | AC8: =+Z$305 -> 24.87509 | AD8: =+AA$305 -> 25.180895 | AE8: =+AB$305 -> 29.406288
T9: 5 | U9: 450 | V9: =HLOOKUP($V$3,Datos!$Z$2:$AT$303,$T9+2,FALSE) -> 121.7035 | W9: =HLOOKUP($W$3,Datos!$Z$2:$AT$303,$T9+2,FALSE) -> 83.519099 | X9: =HLOOKUP($X$3,Datos!$Z$2:$AT$303,$T9+2,FALSE) -> 95.050784 | Z9: =HLOOKUP($Z$3,Datos!$AV$2:$BP$305,Datos!$A8+2,FALSE) -> 2.5354964 | AA9: =HLOOKUP($AA$3,Datos!$AV$2:$BP$305,Datos!$A8+2,FALSE) -> 1.8897373 | AB9: =HLOOKUP($AB$3,Datos!$AV$2:$BP$305,Datos!$A8+2,FALSE) -> 1.4802432 | AC9: =+Z$305 -> 24.87509 | AD9: =+AA$305 -> 25.180895 | AE9: =+AB$305 -> 29.406288
T10: 6 | U10: 550 | V10: =HLOOKUP($V$3,Datos!$Z$2:$AT$303,$T10+2,FALSE) -> 110.30856 | W10: =HLOOKUP($W$3,Datos!$Z$2:$AT$303,$T10+2,FALSE) -> 83.780849 | X10: =HLOOKUP($X$3,Datos!$Z$2:$AT$303,$T10+2,FALSE) -> 94.629396 | Z10: =HLOOKUP($Z$3,Datos!$AV$2:$BP$305,Datos!$A9+2,FALSE) -> 2.2981011 | AA10: =HLOOKUP($AA$3,Datos!$AV$2:$BP$305,Datos!$A9+2,FALSE) -> 1.8956598 | AB10: =HLOOKUP($AB$3,Datos!$AV$2:$BP$305,Datos!$A9+2,FALSE) -> 1.4736809 | AC10: =+Z$305 -> 24.87509 | AD10: =+AA$305 -> 25.180895 | AE10: =+AB$305 -> 29.406288
T11: 7 | U11: 650 | V11: =HLOOKUP($V$3,Datos!$Z$2:$AT$303,$T11+2,FALSE) -> 101.29699 | W11: =HLOOKUP($W$3,Datos!$Z$2:$AT$303,$T11+2,FALSE) -> 81.313449 | X11: =HLOOKUP($X$3,Datos!$Z$2:$AT$303,$T11+2,FALSE) -> 93.351593 | Z11: =HLOOKUP($Z$3,Datos!$AV$2:$BP$305,Datos!$A10+2,FALSE) -> 2.1103596 | AA11: =HLOOKUP($AA$3,Datos!$AV$2:$BP$305,Datos!$A10+2,FALSE) -> 1.8398314 | AB11: =HLOOKUP($AB$3,Datos!$AV$2:$BP$305,Datos!$A10+2,FALSE) -> 1.4537814 | AC11: =+Z$305 -> 24.87509 | AD11: =+AA$305 -> 25.180895 | AE11: =+AB$305 -> 29.406288
T12: 8 | U12: 750 | V12: =HLOOKUP($V$3,Datos!$Z$2:$AT$303,$T12+2,FALSE) -> 94.957533 | W12: =HLOOKUP($W$3,Datos!$Z$2:$AT$303,$T12+2,FALSE) -> 80.764863 | X12: =HLOOKUP($X$3,Datos!$Z$2:$AT$303,$T12+2,FALSE) -> 92.383893 | Z12: =HLOOKUP($Z$3,Datos!$AV$2:$BP$305,Datos!$A11+2,FALSE) -> 1.9782873 | AA12: =HLOOKUP($AA$3,Datos!$AV$2:$BP$305,Datos!$A11+2,FALSE) -> 1.8274189 | AB12: =HLOOKUP($AB$3,Datos!$AV$2:$BP$305,Datos!$A11+2,FALSE) -> 1.4387112 | AC12: =+Z$305 -> 24.87509 | AD12: =+AA$305 -> 25.180895 | AE12: =+AB$305 -> 29.406288
T13: 9 | U13: 850 | V13: =HLOOKUP($V$3,Datos!$Z$2:$AT$303,$T13+2,FALSE) -> 89.010164 | W13: =HLOOKUP($W$3,Datos!$Z$2:$AT$303,$T13+2,FALSE) -> 78.900479 | X13: =HLOOKUP($X$3,Datos!$Z$2:$AT$303,$T13+2,FALSE) -> 90.915765 | Z13: =HLOOKUP($Z$3,Datos!$AV$2:$BP$305,Datos!$A12+2,FALSE) -> 1.8543834 | AA13: =HLOOKUP($AA$3,Datos!$AV$2:$BP$305,Datos!$A12+2,FALSE) -> 1.7852345 | AB13: =HLOOKUP($AB$3,Datos!$AV$2:$BP$305,Datos!$A12+2,FALSE) -> 1.4158478 | AC13: =+Z$305 -> 24.87509 | AD13: =+AA$305 -> 25.180895 | AE13: =+AB$305 -> 29.406288
T14: 10 | U14: 950 | V14: =HLOOKUP($V$3,Datos!$Z$2:$AT$303,$T14+2,FALSE) -> 82.989217 | W14: =HLOOKUP($W$3,Datos!$Z$2:$AT$303,$T14+2,FALSE) -> 76.323715 | X14: =HLOOKUP($X$3,Datos!$Z$2:$AT$303,$T14+2,FALSE) -> 87.720646 | Z14: =HLOOKUP($Z$3,Datos!$AV$2:$BP$305,Datos!$A13+2,FALSE) -> 1.7289467 | AA14: =HLOOKUP($AA$3,Datos!$AV$2:$BP$305,Datos!$A13+2,FALSE) -> 1.7269316 | AB14: =HLOOKUP($AB$3,Datos!$AV$2:$BP$305,Datos!$A13+2,FALSE) -> 1.3660896 | AC14: =+Z$305 -> 24.87509 | AD14: =+AA$305 -> 25.180895 | AE14: =+AB$305 -> 29.406288
T15: 11 | U15: 1050 | V15: =HLOOKUP($V$3,Datos!$Z$2:$AT$303,$T15+2,FALSE) -> 77.889164 | W15: =HLOOKUP($W$3,Datos!$Z$2:$AT$303,$T15+2,FALSE) -> 72.591944 | X15: =HLOOKUP($X$3,Datos!$Z$2:$AT$303,$T15+2,FALSE) -> 84.105572 | Z15: =HLOOKUP($Z$3,Datos!$AV$2:$BP$305,Datos!$A14+2,FALSE) -> 1.6226953 | AA15: =HLOOKUP($AA$3,Datos!$AV$2:$BP$305,Datos!$A14+2,FALSE) -> 1.6424951 | AB15: =HLOOKUP($AB$3,Datos!$AV$2:$BP$305,Datos!$A14+2,FALSE) -> 1.3097914 | AC15: =+Z$305 -> 24.87509 | AD15: =+AA$305 -> 25.180895 | AE15: =+AB$305 -> 29.406288
T16: 12 | U16: 1150 | V16: =HLOOKUP($V$3,Datos!$Z$2:$AT$303,$T16+2,FALSE) -> 73.694509 | W16: =HLOOKUP($W$3,Datos!$Z$2:$AT$303,$T16+2,FALSE) -> 70.330641 | X16: =HLOOKUP($X$3,Datos!$Z$2:$AT$303,$T16+2,FALSE) -> 82.386785 | Z16: =HLOOKUP($Z$3,Datos!$AV$2:$BP$305,Datos!$A15+2,FALSE) -> 1.5353064 | AA16: =HLOOKUP($AA$3,Datos!$AV$2:$BP$305,Datos!$A15+2,FALSE) -> 1.5913299 | AB16: =HLOOKUP($AB$3,Datos!$AV$2:$BP$305,Datos!$A15+2,FALSE) -> 1.2830244 | AC16: =+Z$305 -> 24.87509 | AD16: =+AA$305 -> 25.180895 | AE16: =+AB$305 -> 29.406288
... T23: 19 | U23: 1850 | V23: =HLOOKUP($V$3,Datos!$Z$2:$AT$303,$T23+2,FALSE) -> 46.603003 | W23: =HLOOKUP($W$3,Datos!$Z$2:$AT$303,$T23+2,FALSE) -> 50.775211 | X23: =HLOOKUP($X$3,Datos!$Z$2:$AT$303,$T23+2,FALSE) -> 61.105058 | Z23: =HLOOKUP($Z$3,Datos!$AV$2:$BP$305,Datos!$A22+2,FALSE) -> 0.97089852 | AA23: =HLOOKUP($AA$3,Datos!$AV$2:$BP$305,Datos!$A22+2,FALSE) -> 1.1488607 | AB23: =HLOOKUP($AB$3,Datos!$AV$2:$BP$305,Datos!$A22+2,FALSE) -> 0.95160023 | AC23: =+Z$305 -> 24.87509 | AD23: =+AA$305 -> 25.180895 | AE23: =+AB$305 -> 29.406288
K24: Pesos sobre el total de ingresos por tramos (%) | T24: 20 | U24: 1950 | V24: =HLOOKUP($V$3,Datos!$Z$2:$AT$303,$T24+2,FALSE) -> 44.80057 | W24: =HLOOKUP($W$3,Datos!$Z$2:$AT$303,$T24+2,FALSE) -> 48.943636 | X24: =HLOOKUP($X$3,Datos!$Z$2:$AT$303,$T24+2,FALSE) -> 60.200669 | Z24: =HLOOKUP($Z$3,Datos!$AV$2:$BP$305,Datos!$A23+2,FALSE) -> 0.93334772 | AA24: =HLOOKUP($AA$3,Datos!$AV$2:$BP$305,Datos!$A23+2,FALSE) -> 1.1074187 | AB24: =HLOOKUP($AB$3,Datos!$AV$2:$BP$305,Datos!$A23+2,FALSE) -> 0.93751601 | AC24: =+Z$305 -> 24.87509 | AD24: =+AA$305 -> 25.180895 | AE24: =+AB$305 -> 29.406288
K25: Tramos de ingresos | M25: =+B3 -> 1998 | N25: =+D3 -> 2000 | O25: =+F3 -> 2004 | T25: 21 | U25: 2050 | V25: =HLOOKUP($V$3,Datos!$Z$2:$AT$303,$T25+2,FALSE) -> 43.711318 | W25: =HLOOKUP($W$3,Datos!$Z$2:$AT$303,$T25+2,FALSE) -> 48.287494 | X25: =HLOOKUP($X$3,Datos!$Z$2:$AT$303,$T25+2,FALSE) -> 58.001813 | Z25: =HLOOKUP($Z$3,Datos!$AV$2:$BP$305,Datos!$A24+2,FALSE) -> 0.91065491 | AA25: =HLOOKUP($AA$3,Datos!$AV$2:$BP$305,Datos!$A24+2,FALSE) -> 1.0925726 | AB25: =HLOOKUP($AB$3,Datos!$AV$2:$BP$305,Datos!$A24+2,FALSE) -> 0.90327283 | AC25: =+Z$305 -> 24.87509 | AD25: =+AA$305 -> 25.180895 | AE25: =+AB$305 -> 29.406288
K26: Ingresos <= 150 | M26: =SUMIF('Informe 1'!$U$5:$U$304,"<=150",'Informe 1'!Z$5:Z$304) -> 2.7969134 | N26: =SUMIF('Informe 1'!$U$5:$U$304,"<=150",'Informe 1'!AA$5:AA$304) -> 1.8229467 | O26: =SUMIF('Informe 1'!$U$5:$U$304,"<=150",'Informe 1'!AB$5:AB$304) -> 1.426281 | T26: 22 | U26: 2150 | V26: =HLOOKUP($V$3,Datos!$Z$2:$AT$303,$T26+2,FALSE) -> 42.361394 | W26: =HLOOKUP($W$3,Datos!$Z$2:$AT$303,$T26+2,FALSE) -> 46.999205 | X26: =HLOOKUP($X$3,Datos!$Z$2:$AT$303,$T26+2,FALSE) -> 55.485296 | Z26: =HLOOKUP($Z$3,Datos!$AV$2:$BP$305,Datos!$A25+2,FALSE) -> 0.88253143 | AA26: =HLOOKUP($AA$3,Datos!$AV$2:$BP$305,Datos!$A25+2,FALSE) -> 1.0634232 | AB26: =HLOOKUP($AB$3,Datos!$AV$2:$BP$305,Datos!$A25+2,FALSE) -> 0.86408264 | AC26: =+Z$305 -> 24.87509 | AD26: =+AA$305 -> 25.180895 | AE26: =+AB$305 -> 29.406288
K27: 150> ingresos<= 1.050 | M27: =SUMIF('Informe 1'!$U$5:$U$304,"<=1050",'Informe 1'!Z$5:Z$304)-SUM(M$26:M26) -> 19.559576 | N27: =SUMIF('Informe 1'!$U$5:$U$304,"<=1050",'Informe 1'!AA$5:AA$304)-SUM(N$26:N26) -> 16.132634 | O27: =SUMIF('Informe 1'!$U$5:$U$304,"<=1050",'Informe 1'!AB$5:AB$304)-SUM(O$26:O26) -> 12.681339 | T27: 23 | U27: 2250 | V27: =HLOOKUP($V$3,Datos!$Z$2:$AT$303,$T27+2,FALSE) -> 41.267448 | W27: =HLOOKUP($W$3,Datos!$Z$2:$AT$303,$T27+2,FALSE) -> 44.460448 | X27: =HLOOKUP($X$3,Datos!$Z$2:$AT$303,$T27+2,FALSE) -> 53.670056 | Z27: =HLOOKUP($Z$3,Datos!$AV$2:$BP$305,Datos!$A26+2,FALSE) -> 0.85974082 | AA27: =HLOOKUP($AA$3,Datos!$AV$2:$BP$305,Datos!$A26+2,FALSE) -> 1.0059803 | AB27: =HLOOKUP($AB$3,Datos!$AV$2:$BP$305,Datos!$A26+2,FALSE) -> 0.83581358 | AC27: =+Z$305 -> 24.87509 | AD27: =+AA$305 -> 25.180895 | AE27: =+AB$305 -> 29.406288
K28: 1050> ingresos<= 2.250 | M28: =SUMIF('Informe 1'!$U$5:$U$304,"<=2050",'Informe 1'!Z$5:Z$304)-SUM(M$26:M27) -> 11.733366 | N28: =SUMIF('Informe 1'!$U$5:$U$304,"<=2050",'Informe 1'!AA$5:AA$304)-SUM(N$26:N27) -> 13.077163 | O28: =SUMIF('Informe 1'!$U$5:$U$304,"<=2050",'Informe 1'!AB$5:AB$304)-SUM(O$26:O27) -> 10.724407 | T28: 24 | U28: 2350 | V28: =HLOOKUP($V$3,Datos!$Z$2:$AT$303,$T28+2,FALSE) -> 38.357856 | W28: =HLOOKUP($W$3,Datos!$Z$2:$AT$303,$T28+2,FALSE) -> 41.318982 | X28: =HLOOKUP($X$3,Datos!$Z$2:$AT$303,$T28+2,FALSE) -> 53.161174 | Z28: =HLOOKUP($Z$3,Datos!$AV$2:$BP$305,Datos!$A27+2,FALSE) -> 0.79912415 | AA28: =HLOOKUP($AA$3,Datos!$AV$2:$BP$305,Datos!$A27+2,FALSE) -> 0.93490021 | AB28: =HLOOKUP($AB$3,Datos!$AV$2:$BP$305,Datos!$A27+2,FALSE) -> 0.82788868 | AC28: =+Z$305 -> 24.87509 | AD28: =+AA$305 -> 25.180895 | AE28: =+AB$305 -> 29.406288
K29: 2.250> ingresos<= 3.050 | M29: =SUMIF('Informe 1'!$U$5:$U$304,"<=3050",'Informe 1'!Z$5:Z$304)-SUM(M$26:M28) -> 7.0145592 | N29: =SUMIF('Informe 1'!$U$5:$U$304,"<=3050",'Informe 1'!AA$5:AA$304)-SUM(N$26:N28) -> 8.037303 | O29: =SUMIF('Informe 1'!$U$5:$U$304,"<=3050",'Informe 1'!AB$5:AB$304)-SUM(O$26:O28) -> 7.3877951 | T29: 25 | U29: 2450 | V29: =HLOOKUP($V$3,Datos!$Z$2:$AT$303,$T29+2,FALSE) -> 35.360308 | W29: =HLOOKUP($W$3,Datos!$Z$2:$AT$303,$T29+2,FALSE) -> 37.166437 | X29: =HLOOKUP($X$3,Datos!$Z$2:$AT$303,$T29+2,FALSE) -> 50.583985 | Z29: =HLOOKUP($Z$3,Datos!$AV$2:$BP$305,Datos!$A28+2,FALSE) -> 0.73667508 | AA29: =HLOOKUP($AA$3,Datos!$AV$2:$BP$305,Datos!$A28+2,FALSE) -> 0.84094303 | AB29: =HLOOKUP($AB$3,Datos!$AV$2:$BP$305,Datos!$A28+2,FALSE) -> 0.78775364 | AC29: =+Z$305 -> 24.87509 | AD29: =+AA$305 -> 25.180895 | AE29: =+AB$305 -> 29.406288
K30: 3.050> ingresos<= 4.050 | M30: =SUMIF('Informe 1'!$U$5:$U$304,"<=4050",'Informe 1'!Z$5:Z$304)-SUM(M$26:M29) -> 4.6938932 | N30: =SUMIF('Informe 1'!$U$5:$U$304,"<=4050",'Informe 1'!AA$5:AA$304)-SUM(N$26:N29) -> 5.0815102 | O30: =SUMIF('Informe 1'!$U$5:$U$304,"<=4050",'Informe 1'!AB$5:AB$304)-SUM(O$26:O29) -> 5.105212 | T30: 26 | U30: 2550 | V30: =HLOOKUP($V$3,Datos!$Z$2:$AT$303,$T30+2,FALSE) -> 33.390979 | W30: =HLOOKUP($W$3,Datos!$Z$2:$AT$303,$T30+2,FALSE) -> 35.016047 | X30: =HLOOKUP($X$3,Datos!$Z$2:$AT$303,$T30+2,FALSE) -> 48.277857 | Z30: =HLOOKUP($Z$3,Datos!$AV$2:$BP$305,Datos!$A29+2,FALSE) -> 0.69564726 | AA30: =HLOOKUP($AA$3,Datos!$AV$2:$BP$305,Datos!$A29+2,FALSE) -> 0.79228743 | AB30: =HLOOKUP($AB$3,Datos!$AV$2:$BP$305,Datos!$A29+2,FALSE) -> 0.75183989 | AC30: =+Z$305 -> 24.87509 | AD30: =+AA$305 -> 25.180895 | AE30: =+AB$305 -> 29.406288
K31: 4.050> ingresos<= 5.050 | M31: =SUMIF('Informe 1'!$U$5:$U$304,"<=5050",'Informe 1'!Z$5:Z$304)-SUM(M$26:M30) -> 3.5362601 | N31: =SUMIF('Informe 1'!$U$5:$U$304,"<=5050",'Informe 1'!AA$5:AA$304)-SUM(N$26:N30) -> 3.7608928 | O31: =SUMIF('Informe 1'!$U$5:$U$304,"<=5050",'Informe 1'!AB$5:AB$304)-SUM(O$26:O30) -> 3.9357093 | T31: 27 | U31: 2650 | V31: =HLOOKUP($V$3,Datos!$Z$2:$AT$303,$T31+2,FALSE) -> 31.845192 | W31: =HLOOKUP($W$3,Datos!$Z$2:$AT$303,$T31+2,FALSE) -> 32.911522 | X31: =HLOOKUP($X$3,Datos!$Z$2:$AT$303,$T31+2,FALSE) -> 46.684374 | Z31: =HLOOKUP($Z$3,Datos!$AV$2:$BP$305,Datos!$A30+2,FALSE) -> 0.66344329 | AA31: =HLOOKUP($AA$3,Datos!$AV$2:$BP$305,Datos!$A30+2,FALSE) -> 0.74466957 | AB31: =HLOOKUP($AB$3,Datos!$AV$2:$BP$305,Datos!$A30+2,FALSE) -> 0.72702429 | AC31: =+Z$305 -> 24.87509 | AD31: =+AA$305 -> 25.180895 | AE31: =+AB$305 -> 29.406288
K32: 5.050> ingresos<= 13.350 | M32: =SUMIF('Informe 1'!$U$5:$U$304,"<=13350",'Informe 1'!Z$5:Z$304)-SUM(M$26:M31) -> 14.688758 | N32: =SUMIF('Informe 1'!$U$5:$U$304,"<=13350",'Informe 1'!AA$5:AA$304)-SUM(N$26:N31) -> 15.659758 | O32: =SUMIF('Informe 1'!$U$5:$U$304,"<=13350",'Informe 1'!AB$5:AB$304)-SUM(O$26:O31) -> 17.028585 | T32: 28 | U32: 2750 | V32: =HLOOKUP($V$3,Datos!$Z$2:$AT$303,$T32+2,FALSE) -> 30.611727 | W32: =HLOOKUP($W$3,Datos!$Z$2:$AT$303,$T32+2,FALSE) -> 31.240111 | X32: =HLOOKUP($X$3,Datos!$Z$2:$AT$303,$T32+2,FALSE) -> 44.563935 | Z32: =HLOOKUP($Z$3,Datos!$AV$2:$BP$305,Datos!$A31+2,FALSE) -> 0.63774604 | AA32: =HLOOKUP($AA$3,Datos!$AV$2:$BP$305,Datos!$A31+2,FALSE) -> 0.70685154 | AB32: =HLOOKUP($AB$3,Datos!$AV$2:$BP$305,Datos!$A31+2,FALSE) -> 0.69400231 | AC32: =+Z$305 -> 24.87509 | AD32: =+AA$305 -> 25.180895 | AE32: =+AB$305 -> 29.406288
K33: 13.350> ingresos<= 21.650 | M33: =SUMIF('Informe 1'!$U$5:$U$304,"<=21650",'Informe 1'!Z$5:Z$304)-SUM(M$26:M32) -> 6.8826787 | N33: =SUMIF('Informe 1'!$U$5:$U$304,"<=21650",'Informe 1'!AA$5:AA$304)-SUM(N$26:N32) -> 7.0490327 | O33: =SUMIF('Informe 1'!$U$5:$U$304,"<=21650",'Informe 1'!AB$5:AB$304)-SUM(O$26:O32) -> 7.6380714 | T33: 29 | U33: 2850 | V33: =HLOOKUP($V$3,Datos!$Z$2:$AT$303,$T33+2,FALSE) -> 28.863679 | W33: =HLOOKUP($W$3,Datos!$Z$2:$AT$303,$T33+2,FALSE) -> 30.032914 | X33: =HLOOKUP($X$3,Datos!$Z$2:$AT$303,$T33+2,FALSE) -> 42.489087 | Z33: =HLOOKUP($Z$3,Datos!$AV$2:$BP$305,Datos!$A32+2,FALSE) -> 0.60132827 | AA33: =HLOOKUP($AA$3,Datos!$AV$2:$BP$305,Datos!$A32+2,FALSE) -> 0.67953701 | AB33: =HLOOKUP($AB$3,Datos!$AV$2:$BP$305,Datos!$A32+2,FALSE) -> 0.66169031 | AC33: =+Z$305 -> 24.87509 | AD33: =+AA$305 -> 25.180895 | AE33: =+AB$305 -> 29.406288
K34: 21.650> ingresos<= 29.950 | M34: =SUMIF('Informe 1'!$U$5:$U$304,"<=29950",'Informe 1'!Z$5:Z$304)-SUM(M$26:M33) -> 4.218906 | N34: =SUMIF('Informe 1'!$U$5:$U$304,"<=29950",'Informe 1'!AA$5:AA$304)-SUM(N$26:N33) -> 4.1978641 | O34: =SUMIF('Informe 1'!$U$5:$U$304,"<=29950",'Informe 1'!AB$5:AB$304)-SUM(O$26:O33) -> 4.6663112 | T34: 30 | U34: 2950 | V34: =HLOOKUP($V$3,Datos!$Z$2:$AT$303,$T34+2,FALSE) -> 27.974292 | W34: =HLOOKUP($W$3,Datos!$Z$2:$AT$303,$T34+2,FALSE) -> 28.883506 | X34: =HLOOKUP($X$3,Datos!$Z$2:$AT$303,$T34+2,FALSE) -> 41.131601 | Z34: =HLOOKUP($Z$3,Datos!$AV$2:$BP$305,Datos!$A33+2,FALSE) -> 0.58279931 | AA34: =HLOOKUP($AA$3,Datos!$AV$2:$BP$305,Datos!$A33+2,FALSE) -> 0.65353003 | AB34: =HLOOKUP($AB$3,Datos!$AV$2:$BP$305,Datos!$A33+2,FALSE) -> 0.64054993 | AC34: =+Z$305 -> 24.87509 | AD34: =+AA$305 -> 25.180895 | AE34: =+AB$305 -> 29.406288
K35: Ingresos > 29.950 | M35: =+'Informe 1'!Z305 -> 24.87509 | N35: =+'Informe 1'!AA305 -> 25.180895 | O35: =+'Informe 1'!AB305 -> 29.406288 | T35: 31 | U35: 3050 | V35: =HLOOKUP($V$3,Datos!$Z$2:$AT$303,$T35+2,FALSE) -> 26.665058 | W35: =HLOOKUP($W$3,Datos!$Z$2:$AT$303,$T35+2,FALSE) -> 27.188611 | X35: =HLOOKUP($X$3,Datos!$Z$2:$AT$303,$T35+2,FALSE) -> 38.34475 | Z35: =HLOOKUP($Z$3,Datos!$AV$2:$BP$305,Datos!$A34+2,FALSE) -> 0.55552353 | AA35: =HLOOKUP($AA$3,Datos!$AV$2:$BP$305,Datos!$A34+2,FALSE) -> 0.61518064 | AB35: =HLOOKUP($AB$3,Datos!$AV$2:$BP$305,Datos!$A34+2,FALSE) -> 0.59714979 | AC35: =+Z$305 -> 24.87509 | AD35: =+AA$305 -> 25.180895 | AE35: =+AB$305 -> 29.406288
T36: 32 | U36: 3150 | V36: =HLOOKUP($V$3,Datos!$Z$2:$AT$303,$T36+2,FALSE) -> 25.684635 | W36: =HLOOKUP($W$3,Datos!$Z$2:$AT$303,$T36+2,FALSE) -> 25.922483 | X36: =HLOOKUP($X$3,Datos!$Z$2:$AT$303,$T36+2,FALSE) -> 37.722285 | Z36: =HLOOKUP($Z$3,Datos!$AV$2:$BP$305,Datos!$A35+2,FALSE) -> 0.53509802 | AA36: =HLOOKUP($AA$3,Datos!$AV$2:$BP$305,Datos!$A35+2,FALSE) -> 0.58653272 | AB36: =HLOOKUP($AB$3,Datos!$AV$2:$BP$305,Datos!$A35+2,FALSE) -> 0.58745604 | AC36: =+Z$305 -> 24.87509 | AD36: =+AA$305 -> 25.180895 | AE36: =+AB$305 -> 29.406288
T37: 33 | U37: 3250 | V37: =HLOOKUP($V$3,Datos!$Z$2:$AT$303,$T37+2,FALSE) -> 25.070641 | W37: =HLOOKUP($W$3,Datos!$Z$2:$AT$303,$T37+2,FALSE) -> 24.712021 | X37: =HLOOKUP($X$3,Datos!$Z$2:$AT$303,$T37+2,FALSE) -> 36.561305 | Z37: =HLOOKUP($Z$3,Datos!$AV$2:$BP$305,Datos!$A36+2,FALSE) -> 0.52230643 | AA37: =HLOOKUP($AA$3,Datos!$AV$2:$BP$305,Datos!$A36+2,FALSE) -> 0.55914431 | AB37: =HLOOKUP($AB$3,Datos!$AV$2:$BP$305,Datos!$A36+2,FALSE) -> 0.56937588 | AC37: =+Z$305 -> 24.87509 | AD37: =+AA$305 -> 25.180895 | AE37: =+AB$305 -> 29.406288
T38: 34 | U38: 3350 | V38: =HLOOKUP($V$3,Datos!$Z$2:$AT$303,$T38+2,FALSE) -> 24.777458 | W38: =HLOOKUP($W$3,Datos!$Z$2:$AT$303,$T38+2,FALSE) -> 24.9589 | X38: =HLOOKUP($X$3,Datos!$Z$2:$AT$303,$T38+2,FALSE) -> 34.888586 | Z38: =HLOOKUP($Z$3,Datos!$AV$2:$BP$305,Datos!$A37+2,FALSE) -> 0.51619844 | AA38: =HLOOKUP($AA$3,Datos!$AV$2:$BP$305,Datos!$A37+2,FALSE) -> 0.56473029 | AB38: =HLOOKUP($AB$3,Datos!$AV$2:$BP$305,Datos!$A37+2,FALSE) -> 0.54332632 | AC38: =+Z$305 -> 24.87509 | AD38: =+AA$305 -> 25.180895 | AE38: =+AB$305 -> 29.406288
T39: 35 | U39: 3450 | V39: =HLOOKUP($V$3,Datos!$Z$2:$AT$303,$T39+2,FALSE) -> 23.526662 | W39: =HLOOKUP($W$3,Datos!$Z$2:$AT$303,$T39+2,FALSE) -> 23.623919 | X39: =HLOOKUP($X$3,Datos!$Z$2:$AT$303,$T39+2,FALSE) -> 33.846968 | Z39: =HLOOKUP($Z$3,Datos!$AV$2:$BP$305,Datos!$A38+2,FALSE) -> 0.49014012 | AA39: =HLOOKUP($AA$3,Datos!$AV$2:$BP$305,Datos!$A38+2,FALSE) -> 0.53452446 | AB39: =HLOOKUP($AB$3,Datos!$AV$2:$BP$305,Datos!$A38+2,FALSE) -> 0.52710502 | AC39: =+Z$305 -> 24.87509 | AD39: =+AA$305 -> 25.180895 | AE39: =+AB$305 -> 29.406288
T40: 36 | U40: 3550 | V40: =HLOOKUP($V$3,Datos!$Z$2:$AT$303,$T40+2,FALSE) -> 22.771929 | W40: =HLOOKUP($W$3,Datos!$Z$2:$AT$303,$T40+2,FALSE) -> 22.842399 | X40: =HLOOKUP($X$3,Datos!$Z$2:$AT$303,$T40+2,FALSE) -> 33.316329 | Z40: =HLOOKUP($Z$3,Datos!$AV$2:$BP$305,Datos!$A39+2,FALSE) -> 0.47441647 | AA40: =HLOOKUP($AA$3,Datos!$AV$2:$BP$305,Datos!$A39+2,FALSE) -> 0.51684147 | AB40: =HLOOKUP($AB$3,Datos!$AV$2:$BP$305,Datos!$A39+2,FALSE) -> 0.51884127 | AC40: =+Z$305 -> 24.87509 | AD40: =+AA$305 -> 25.180895 | AE40: =+AB$305 -> 29.406288
T41: 37 | U41: 3650 | V41: =HLOOKUP($V$3,Datos!$Z$2:$AT$303,$T41+2,FALSE) -> 21.423414 | W41: =HLOOKUP($W$3,Datos!$Z$2:$AT$303,$T41+2,FALSE) -> 21.763571 | X41: =HLOOKUP($X$3,Datos!$Z$2:$AT$303,$T41+2,FALSE) -> 31.751766 | Z41: =HLOOKUP($Z$3,Datos!$AV$2:$BP$305,Datos!$A40+2,FALSE) -> 0.44632233 | AA41: =HLOOKUP($AA$3,Datos!$AV$2:$BP$305,Datos!$A40+2,FALSE) -> 0.49243146 | AB41: =HLOOKUP($AB$3,Datos!$AV$2:$BP$305,Datos!$A40+2,FALSE) -> 0.49447605 | AC41: =+Z$305 -> 24.87509 | AD41: =+AA$305 -> 25.180895 | AE41: =+AB$305 -> 29.406288
T42: 38 | U42: 3750 | V42: =HLOOKUP($V$3,Datos!$Z$2:$AT$303,$T42+2,FALSE) -> 21.269089 | W42: =HLOOKUP($W$3,Datos!$Z$2:$AT$303,$T42+2,FALSE) -> 20.919703 | X42: =HLOOKUP($X$3,Datos!$Z$2:$AT$303,$T42+2,FALSE) -> 31.025518 | Z42: =HLOOKUP($Z$3,Datos!$AV$2:$BP$305,Datos!$A41+2,FALSE) -> 0.44310722 | AA42: =HLOOKUP($AA$3,Datos!$AV$2:$BP$305,Datos!$A41+2,FALSE) -> 0.47333777 | AB42: =HLOOKUP($AB$3,Datos!$AV$2:$BP$305,Datos!$A41+2,FALSE) -> 0.48316605 | AC42: =+Z$305 -> 24.87509 | AD42: =+AA$305 -> 25.180895 | AE42: =+AB$305 -> 29.406288
T43: 39 | U43: 3850 | V43: =HLOOKUP($V$3,Datos!$Z$2:$AT$303,$T43+2,FALSE) -> 20.98714 | W43: =HLOOKUP($W$3,Datos!$Z$2:$AT$303,$T43+2,FALSE) -> 20.540301 | X43: =HLOOKUP($X$3,Datos!$Z$2:$AT$303,$T43+2,FALSE) -> 30.310493 | Z43: =HLOOKUP($Z$3,Datos!$AV$2:$BP$305,Datos!$A42+2,FALSE) -> 0.43723327 | AA43: =HLOOKUP($AA$3,Datos!$AV$2:$BP$305,Datos!$A42+2,FALSE) -> 0.46475327 | AB43: =HLOOKUP($AB$3,Datos!$AV$2:$BP$305,Datos!$A42+2,FALSE) -> 0.47203084 | AC43: =+Z$305 -> 24.87509 | AD43: =+AA$305 -> 25.180895 | AE43: =+AB$305 -> 29.406288
T44: 40 | U44: 3950 | V44: =HLOOKUP($V$3,Datos!$Z$2:$AT$303,$T44+2,FALSE) -> 19.852392 | W44: =HLOOKUP($W$3,Datos!$Z$2:$AT$303,$T44+2,FALSE) -> 19.738288 | X44: =HLOOKUP($X$3,Datos!$Z$2:$AT$303,$T44+2,FALSE) -> 30.200807 | Z44: =HLOOKUP($Z$3,Datos!$AV$2:$BP$305,Datos!$A43+2,FALSE) -> 0.41359262 | AA44: =HLOOKUP($AA$3,Datos!$AV$2:$BP$305,Datos!$A43+2,FALSE) -> 0.44660659 | AB44: =HLOOKUP($AB$3,Datos!$AV$2:$BP$305,Datos!$A43+2,FALSE) -> 0.47032269 | AC44: =+Z$305 -> 24.87509 | AD44: =+AA$305 -> 25.180895 | AE44: =+AB$305 -> 29.406288
T45: 41 | U45: 4050 | V45: =HLOOKUP($V$3,Datos!$Z$2:$AT$303,$T45+2,FALSE) -> 19.942907 | W45: =HLOOKUP($W$3,Datos!$Z$2:$AT$303,$T45+2,FALSE) -> 19.56156 | X45: =HLOOKUP($X$3,Datos!$Z$2:$AT$303,$T45+2,FALSE) -> 28.196665 | Z45: =HLOOKUP($Z$3,Datos!$AV$2:$BP$305,Datos!$A44+2,FALSE) -> 0.41547835 | AA45: =HLOOKUP($AA$3,Datos!$AV$2:$BP$305,Datos!$A44+2,FALSE) -> 0.44260787 | AB45: =HLOOKUP($AB$3,Datos!$AV$2:$BP$305,Datos!$A44+2,FALSE) -> 0.43911181 | AC45: =+Z$305 -> 24.87509 | AD45: =+AA$305 -> 25.180895 | AE45: =+AB$305 -> 29.406288
T46: 42 | U46: 4150 | V46: =HLOOKUP($V$3,Datos!$Z$2:$AT$303,$T46+2,FALSE) -> 19.288446 | W46: =HLOOKUP($W$3,Datos!$Z$2:$AT$303,$T46+2,FALSE) -> 18.884211 | X46: =HLOOKUP($X$3,Datos!$Z$2:$AT$303,$T46+2,FALSE) -> 27.671657 | Z46: =HLOOKUP($Z$3,Datos!$AV$2:$BP$305,Datos!$A45+2,FALSE) -> 0.40184371 | AA46: =HLOOKUP($AA$3,Datos!$AV$2:$BP$305,Datos!$A45+2,FALSE) -> 0.42728189 | AB46: =HLOOKUP($AB$3,Datos!$AV$2:$BP$305,Datos!$A45+2,FALSE) -> 0.43093577 | AC46: =+Z$305 -> 24.87509 | AD46: =+AA$305 -> 25.180895 | AE46: =+AB$305 -> 29.406288
T47: 43 | U47: 4250 | V47: =HLOOKUP($V$3,Datos!$Z$2:$AT$303,$T47+2,FALSE) -> 18.231834 | W47: =HLOOKUP($W$3,Datos!$Z$2:$AT$303,$T47+2,FALSE) -> 17.943072 | X47: =HLOOKUP($X$3,Datos!$Z$2:$AT$303,$T47+2,FALSE) -> 26.719438 | Z47: =HLOOKUP($Z$3,Datos!$AV$2:$BP$305,Datos!$A46+2,FALSE) -> 0.3798309 | AA47: =HLOOKUP($AA$3,Datos!$AV$2:$BP$305,Datos!$A46+2,FALSE) -> 0.40598728 | AB47: =HLOOKUP($AB$3,Datos!$AV$2:$BP$305,Datos!$A46+2,FALSE) -> 0.41610669 | AC47: =+Z$305 -> 24.87509 | AD47: =+AA$305 -> 25.180895 | AE47: =+AB$305 -> 29.406288
... T304: 300 | U304: 29950 | V304: =HLOOKUP($V$3,Datos!$Z$2:$AT$303,$T304+2,FALSE) -> 1.8572546 | W304: =HLOOKUP($W$3,Datos!$Z$2:$AT$303,$T304+2,FALSE) -> 1.8871536 | X304: =HLOOKUP($X$3,Datos!$Z$2:$AT$303,$T304+2,FALSE) -> 3.1149202 | Z304: =HLOOKUP($Z$3,Datos!$AV$2:$BP$305,Datos!$A303+2,FALSE) -> 0.038692908 | AA304: =HLOOKUP($AA$3,Datos!$AV$2:$BP$305,Datos!$A303+2,FALSE) -> 0.042699509 | AB304: =HLOOKUP($AB$3,Datos!$AV$2:$BP$305,Datos!$A303+2,FALSE) -> 0.048509222 | AC304: =+Z$305 -> 24.87509 | AD304: =+AA$305 -> 25.180895 | AE304: =+AB$305 -> 29.406288
...

Sheet Informe 2
B2: Seleccionar tramo 1 | D2: Seleccionar tramo 2 | F2: Seleccionar tramo 3 | H2: Seleccionar tramo 4
B3: 50 | D3: 550 | F3: 1150 | H3: 6550 | N3: =+'Informe 2'!B3 -> 50 | O3: ='Informe 2'!D3 -> 550 | P3: =+'Informe 2'!F3 -> 1150
Q4: =+H3 -> 6550
L5: 2 | M5: 1998 | N5: =VLOOKUP('Informe 2'!$B$3,Datos!$Y$4:$AT$303,$L5,FALSE) -> 38.110146 | O5: =VLOOKUP('Informe 2'!$D$3,Datos!$Y$4:$AT$303,$L5,FALSE) -> 110.30856 | P5: =VLOOKUP('Informe 2'!$F$3,Datos!$Y$4:$AT$303,$L5,FALSE) -> 73.694509
L6: =+L5+1 -> 3 | M6: =+M5+1 -> 1999 | N6: =VLOOKUP('Informe 2'!$B$3,Datos!$Y$4:$AT$303,$L6,FALSE) -> 22.6111 | O6: =VLOOKUP('Informe 2'!$D$3,Datos!$Y$4:$AT$303,$L6,FALSE) -> 75.414699 | P6: =VLOOKUP('Informe 2'!$F$3,Datos!$Y$4:$AT$303,$L6,FALSE) -> 63.315471 | Q6: =VLOOKUP($H$3,Datos!$Y$4:$AT$303,'Informe 2'!$L5,FALSE) -> 11.299733
L7: =+L6+1 -> 4 | M7: =+M6+1 -> 2000 | N7: =VLOOKUP('Informe 2'!$B$3,Datos!$Y$4:$AT$303,$L7,FALSE) -> 23.536874 | O7: =VLOOKUP('Informe 2'!$D$3,Datos!$Y$4:$AT$303,$L7,FALSE) -> 83.780849 | P7: =VLOOKUP('Informe 2'!$F$3,Datos!$Y$4:$AT$303,$L7,FALSE) -> 70.330641 | Q7: =VLOOKUP($H$3,Datos!$Y$4:$AT$303,'Informe 2'!$L6,FALSE) -> 10.393734
L8: =+L7+1 -> 5 | M8: =+M7+1 -> 2001 | N8: =VLOOKUP('Informe 2'!$B$3,Datos!$Y$4:$AT$303,$L8,FALSE) -> 25.5628 | O8: =VLOOKUP('Informe 2'!$D$3,Datos!$Y$4:$AT$303,$L8,FALSE) -> 94.783118 | P8: =VLOOKUP('Informe 2'!$F$3,Datos!$Y$4:$AT$303,$L8,FALSE) -> 79.638263 | Q8: =VLOOKUP($H$3,Datos!$Y$4:$AT$303,'Informe 2'!$L7,FALSE) -> 10.740142
L9: =+L8+1 -> 6 | M9: =+M8+1 -> 2002 | N9: =VLOOKUP('Informe 2'!$B$3,Datos!$Y$4:$AT$303,$L9,FALSE) -> 27.277134 | O9: =VLOOKUP('Informe 2'!$D$3,Datos!$Y$4:$AT$303,$L9,FALSE) -> 100.28471 | P9: =VLOOKUP('Informe 2'!$F$3,Datos!$Y$4:$AT$303,$L9,FALSE) -> 85.631603 | Q9: =VLOOKUP($H$3,Datos!$Y$4:$AT$303,'Informe 2'!$L8,FALSE) -> 12.865669
L10: =+L9+1 -> 7 | M10: =+M9+1 -> 2003 | N10: =VLOOKUP('Informe 2'!$B$3,Datos!$Y$4:$AT$303,$L10,FALSE) -> 26.060041 | O10: =VLOOKUP('Informe 2'!$D$3,Datos!$Y$4:$AT$303,$L10,FALSE) -> 85.113646 | P10: =VLOOKUP('Informe 2'!$F$3,Datos!$Y$4:$AT$303,$L10,FALSE) -> 73.583264 | Q10: =VLOOKUP($H$3,Datos!$Y$4:$AT$303,'Informe 2'!$L9,FALSE) -> 13.532852
L11: =+L10+1 -> 8 | M11: =+M10+1 -> 2004 | N11: =VLOOKUP('Informe 2'!$B$3,Datos!$Y$4:$AT$303,$L11,FALSE) -> 27.634221 | O11: =VLOOKUP('Informe 2'!$D$3,Datos!$Y$4:$AT$303,$L11,FALSE) -> 94.629396 | P11: =VLOOKUP('Informe 2'!$F$3,Datos!$Y$4:$AT$303,$L11,FALSE) -> 82.386785 | Q11: =VLOOKUP($H$3,Datos!$Y$4:$AT$303,'Informe 2'!$L10,FALSE) -> 14.056608
L12: =+L11+1 -> 9 | M12: =+M11+1 -> 2005 | N12: =VLOOKUP('Informe 2'!$B$3,Datos!$Y$4:$AT$303,$L12,FALSE) -> 29.035545 | O12: =VLOOKUP('Informe 2'!$D$3,Datos!$Y$4:$AT$303,$L12,FALSE) -> 104.71716 | P12: =VLOOKUP('Informe 2'!$F$3,Datos!$Y$4:$AT$303,$L12,FALSE) -> 90.882871 | Q12: =VLOOKUP($H$3,Datos!$Y$4:$AT$303,'Informe 2'!$L11,FALSE) -> 17.160091
L13: =+L12+1 -> 10 | M13: =+M12+1 -> 2006 | N13: =VLOOKUP('Informe 2'!$B$3,Datos!$Y$4:$AT$303,$L13,FALSE) -> 31.105176 | O13: =VLOOKUP('Informe 2'!$D$3,Datos!$Y$4:$AT$303,$L13,FALSE) -> 119.42168 | P13: =VLOOKUP('Informe 2'!$F$3,Datos!$Y$4:$AT$303,$L13,FALSE) -> 104.35702 | Q13: =VLOOKUP($H$3,Datos!$Y$4:$AT$303,'Informe 2'!$L12,FALSE) -> 21.314723
L14: =+L13+1 -> 11 | M14: =+M13+1 -> 2007 | N14: =VLOOKUP('Informe 2'!$B$3,Datos!$Y$4:$AT$303,$L14,FALSE) -> 27.126574 | O14: =VLOOKUP('Informe 2'!$D$3,Datos!$Y$4:$AT$303,$L14,FALSE) -> 109.52272 | P14: =VLOOKUP('Informe 2'!$F$3,Datos!$Y$4:$AT$303,$L14,FALSE) -> 103.72769 | Q14: =VLOOKUP($H$3,Datos!$Y$4:$AT$303,'Informe 2'!$L13,FALSE) -> 27.413735
L15: =+L14+1 -> 12 | M15: =+M14+1 -> 2008 | N15: =VLOOKUP('Informe 2'!$B$3,Datos!$Y$4:$AT$303,$L15,FALSE) -> 27.413869 | O15: =VLOOKUP('Informe 2'!$D$3,Datos!$Y$4:$AT$303,$L15,FALSE) -> 90.598995 | P15: =VLOOKUP('Informe 2'!$F$3,Datos!$Y$4:$AT$303,$L15,FALSE) -> 81.869169 | Q15: =VLOOKUP($H$3,Datos!$Y$4:$AT$303,'Informe 2'!$L14,FALSE) -> 25.264521
L16: =+L15+1 -> 13 | M16: =+M15+1 -> 2009 | N16: =VLOOKUP('Informe 2'!$B$3,Datos!$Y$4:$AT$303,$L16,FALSE) -> 28.862092 | O16: =VLOOKUP('Informe 2'!$D$3,Datos!$Y$4:$AT$303,$L16,FALSE) -> 93.774152 | P16: =VLOOKUP('Informe 2'!$F$3,Datos!$Y$4:$AT$303,$L16,FALSE) -> 82.939258 | Q16: =VLOOKUP($H$3,Datos!$Y$4:$AT$303,'Informe 2'!$L15,FALSE) -> 19.305693
L17: =+L16+1 -> 14 | M17: =+M16+1 -> 2010 | N17: =VLOOKUP('Informe 2'!$B$3,Datos!$Y$4:$AT$303,$L17,FALSE) -> 29.420867 | O17: =VLOOKUP('Informe 2'!$D$3,Datos!$Y$4:$AT$303,$L17,FALSE) -> 108.57857 | P17: =VLOOKUP('Informe 2'!$F$3,Datos!$Y$4:$AT$303,$L17,FALSE) -> 105.0078 | Q17: =VLOOKUP($H$3,Datos!$Y$4:$AT$303,'Informe 2'!$L16,FALSE) -> 17.803679
... L25: =+L24+1 -> 22 | M25: =+M24+1 -> 2018 | N25: =VLOOKUP('Informe 2'!$B$3,Datos!$Y$4:$AT$303,$L25,FALSE) -> 35.048784 | O25: =VLOOKUP('Informe 2'!$D$3,Datos!$Y$4:$AT$303,$L25,FALSE) -> 140.34023 | P25: =VLOOKUP('Informe 2'!$F$3,Datos!$Y$4:$AT$303,$L25,FALSE) -> 123.21644 | Q25: =VLOOKUP($H$3,Datos!$Y$4:$AT$303,'Informe 2'!$L24,FALSE) -> 29.203375
Q26: =VLOOKUP($H$3,Datos!$Y$4:$AT$303,'Informe 2'!$L25,FALSE) -> 31.440689

Sheet Datos
C1: Ejercicio | Z1: Ejercicio | AV1: Ejercicio
C2: 1998 | D2: 1999 | E2: 2000 | F2: 2001 | G2: 2002 | H2: 2003 | I2: 2004 | J2: 2005 | K2: 2006 | L2: 2007 | M2: 2008 | N2: 2009 | O2: 2010 | P2: 2011 | Q2: 2012 | R2: 2013 | S2: 2014 | T2: 2015 | U2: 2016 | V2: 2017 | W2: 2018 | Z2: 1998 | AA2: 1999 | AB2: 2000 | AC2: 2001 | AD2: 2002 | AE2: 2003 | AF2: 2004 | AG2: 2005 | AH2: 2006 | AI2: 2007 | AJ2: 2008 | AK2: 2009 | AL2: 2010 | AM2: 2011 | AN2: 2012 | AO2: 2013 | AP2: 2014 | AQ2: 2015 | AR2: 2016 | AS2: 2017 | AT2: 2018 | AV2: 1998 | AW2: 1999 | AX2: 2000 | AY2: 2001 | AZ2: 2002 | BA2: 2003 | BB2: 2004 | BC2: 2005 | BD2: 2006 | BE2: 2007 | BF2: 2008 | BG2: 2009 | BH2: 2010 | BI2: 2011 | BJ2: 2012 | BK2: 2013 | BL2: 2014 | BM2: 2015 | BN2: 2016 | BO2: 2017 | BP2: 2018
A3: Tramo | C3: Declara-ciones | D3: Declara-ciones | E3: Declara-ciones | F3: Declara-ciones | G3: Declara-ciones | H3: Declara-ciones | I3: Declara-ciones | J3: Declara-ciones | K3: Declara-ciones | L3: Declara-ciones | M3: Declara-ciones | N3: Declara-ciones | O3: Declara-ciones | P3: Declara-ciones | Q3: Declara-ciones | R3: Declara-ciones | S3: Declara-ciones | T3: Declara-ciones | U3: Declara-ciones | V3: Declara-ciones | W3: Declara-ciones | Z3: Importe mill € | AA3: Importe mill € | AB3: Importe mill € | AC3: Importe mill € | AD3: Importe mill € | AE3: Importe mill € | AF3: Importe mill € | AG3: Importe mill € | AH3: Importe mill € | AI3: Importe mill € | AJ3: Importe mill € | AK3: Importe mill € | AL3: Importe mill € | AM3: Importe mill € | AN3: Importe mill € | AO3: Importe mill € | AP3: Importe mill € | AQ3: Importe mill € | AR3: Importe mill € | AS3: Importe mill € | AT3: Importe mill € | AV3: Pesos sobre el total ingresado cada ejercicio
A4: 1 | B4: 50 | C4: 812451 | D4: 546936 | E4: 583099 | F4: 638824 | G4: 626631 | H4: 555709 | I4: 582281 | J4: 607355 | K4: 645623 | L4: 562017 | M4: 596526 | N4: 637184 | O4: 637226 | P4: 647104 | Q4: 627918 | R4: 637556 | S4: 647877 | T4: 600064 | U4: 672511 | V4: 751010 | W4: 750054 | Y4: 50 | Z4: 38.110146 | AA4: 22.6111 | AB4: 23.536874 | AC4: 25.5628 | AD4: 27.277134 | AE4: 26.060041 | AF4: 27.634221 | AG4: 29.035545 | AH4: 31.105176 | AI4: 27.126574 | AJ4: 27.413869 | AK4: 28.862092 | AL4: 29.420867 | AM4: 29.933199 | AN4: 29.021073 | AO4: 29.240511 | AP4: 29.476104 | AQ4: 28.939962 | AR4: 31.802769 | AS4: 34.780471 | AT4: 35.048784 | AV4: =+Datos!Z4/Datos!Z$305*100 -> 0.79396352 | AW4: =+Datos!AA4/Datos!AA$305*100 -> 0.56548147 | AX4: =+Datos!AB4/Datos!AB$305*100 -> 0.53255495 | AY4: =+Datos!AC4/Datos!AC$305*100 -> 0.51308174 | AZ4: =+Datos!AD4/Datos!AD$305*100 -> 0.51091921 | BA4: =+Datos!AE4/Datos!AE$305*100 -> 0.48259013 | BB4: =+Datos!AF4/Datos!AF$305*100 -> 0.43035277 | BC4: =+Datos!AG4/Datos!AG$305*100 -> 0.36450576 | ... BP4: =+Datos!AT4/Datos!AT$305*100 -> 0.29403767
A5: 2 | B5: 150 | C5: 647408 | D5: 359577 | E5: 383505 | F5: 426990 | G5: 442729 | H5: 400142 | I5: 432986 | J5: 461380 | K5: 503941 | L5: 434015 | M5: 418079 | N5: 443887 | O5: 449536 | P5: 458604 | Q5: 454056 | R5: 460490 | S5: 470781 | T5: 496482 | U5: 606379 | V5: 629600 | W5: 633390 | Y5: =+Y4+100 -> 150 | Z5: 96.141335 | AA5: 53.352613 | AB5: 57.030337 | AC5: 63.602644 | AD5: 65.725732 | AE5: 59.015574 | AF5: 63.951489 | AG5: 68.160839 | AH5: 74.468973 | AI5: 64.123544 | AJ5: 61.647202 | AK5: 65.519284 | AL5: 66.419847 | AM5: 67.69033 | AN5: 67.061065 | AO5: 67.999048 | AP5: 69.639261 | AQ5: 72.785485 | AR5: 90.715192 | AS5: 94.181772 | AT5: 94.787595 | AV5: =+Datos!Z5/Datos!Z$305*100 -> 2.0029499 | AW5: =+Datos!AA5/Datos!AA$305*100 -> 1.3342966 | AX5: =+Datos!AB5/Datos!AB$305*100 -> 1.2903918 | AY5: =+Datos!AC5/Datos!AC$305*100 -> 1.2765955 | AZ5: =+Datos!AD5/Datos!AD$305*100 -> 1.2310875 | BA5: =+Datos!AE5/Datos!AE$305*100 -> 1.0928737 | BB5: =+Datos!AF5/Datos!AF$305*100 -> 0.99592822 | BC5: =+Datos!AG5/Datos!AG$305*100 -> 0.85567599 | ... BP5: =+Datos!AT5/Datos!AT$305*100 -> 0.79520942
A6: 3 | B6: 250 | C6: 517277 | D6: 275128 | E6: 298065 | F6: 335043 | G6: 350177 | H6: 304963 | I6: 335847 | J6: 361876 | K6: 395743 | L6: 335474 | M6: 313837 | N6: 333885 | O6: 354174 | P6: 356340 | Q6: 360215 | R6: 368845 | S6: 378872 | T6: 375101 | U6: 459605 | V6: 485351 | W6: 481728 | Y6: =+Y5+100 -> 250 | Z6: 128.12616 | AA6: 68.137342 | AB6: 73.882762 | AC6: 83.098848 | AD6: 86.883373 | AE6: 75.623558 | AF6: 83.378441 | AG6: 89.920204 | AH6: 98.320329 | AI6: 83.270314 | AJ6: 77.754827 | AK6: 82.741444 | AL6: 87.988594 | AM6: 88.516925 | AN6: 89.40784 | AO6: 91.621367 | AP6: 94.162572 | AQ6: 93.22247 | AR6: 113.7235 | AS6: 120.01099 | AT6: 118.87995 | AV6: =+Datos!Z6/Datos!Z$305*100 -> 2.6693021 | AW6: =+Datos!AA6/Datos!AA$305*100 -> 1.7040482 | AX6: =+Datos!AB6/Datos!AB$305*100 -> 1.6717016 | AY6: =+Datos!AC6/Datos!AC$305*100 -> 1.6679121 | AZ6: =+Datos!AD6/Datos!AD$305*100 -> 1.6273845 | BA6: =+Datos!AE6/Datos!AE$305*100 -> 1.4004269 | BB6: =+Datos!AF6/Datos!AF$305*100 -> 1.2984677 | BC6: =+Datos!AG6/Datos!AG$305*100 -> 1.1288382 | ... BP6: =+Datos!AT6/Datos!AT$305*100 -> 0.99732938
A7: 4 | B7: 350 | C7: 381575 | D7: 212265 | E7: 235251 | F7: 266747 | G7: 279831 | H7: 239683 | I7: 266430 | J7: 293040 | K7: 321896 | L7: 272437 | M7: 240974 | N7: 255137 | O7: 282715 | P7: 283449 | Q7: 291258 | R7: 297543 | S7: 309713 | T7: 298817 | U7: 366586 | V7: 389655 | W7: 382559 | Y7: =+Y6+100 -> 350 | Z7: 132.57582 | AA7: 73.90032 | AB7: 81.92301 | AC7: 92.873974 | AD7: 97.461764 | AE7: 83.436917 | AF7: 92.770126 | AG7: 102.0933 | AH7: 112.1566 | AI7: 94.98142 | AJ7: 83.917485 | AK7: 88.847301 | AL7: 98.532934 | AM7: 98.805911 | AN7: 101.40116 | AO7: 103.65079 | AP7: 107.96096 | AQ7: 104.1597 | AR7: 127.64337 | AS7: 135.6646 | AT7: 133.11242 | AV7: =+Datos!Z7/Datos!Z$305*100 -> 2.7620038 | AW7: =+Datos!AA7/Datos!AA$305*100 -> 1.8481747 | AX7: =+Datos!AB7/Datos!AB$305*100 -> 1.8536236 | AY7: =+Datos!AC7/Datos!AC$305*100 -> 1.8641127 | AZ7: =+Datos!AD7/Datos!AD$305*100 -> 1.8255249 | BA7: =+Datos!AE7/Datos!AE$305*100 -> 1.5451178 | BB7: =+Datos!AF7/Datos!AF$305*100 -> 1.4447261 | BC7: =+Datos!AG7/Datos!AG$305*100 -> 1.2816565 | ... BP7: =+Datos!AT7/Datos!AT$305*100 -> 1.1167311
A8: 5 | B8: 450 | C8: 272157 | D8: 168267 | E8: 186378 | F8: 213800 | G8: 224356 | H8: 190367 | I8: 212032 | J8: 235112 | K8: 263048 | L8: 234437 | M8: 196600 | N8: 206308 | O8: 234123 | P8: 235808 | Q8: 240091 | R8: 246177 | S8: 255257 | T8: 243209 | U8: 294701 | V8: 315072 | W8: 307640 | Y8: =+Y7+100 -> 450 | Z8: 121.7035 | AA8: 75.389857 | AB8: 83.519099 | AC8: 95.811348 | AD8: 100.61216 | AE8: 85.36527 | AF8: 95.050784 | AG8: 105.43283 | AH8: 118.0094 | AI8: 105.24782 | AJ8: 88.212478 | AK8: 92.530389 | AL8: 105.05571 | AM8: 105.7995 | AN8: 107.70725 | AO8: 110.4478 | AP8: 114.52029 | AQ8: 109.12482 | AR8: 132.19401 | AS8: 141.3284 | AT8: 138.00081 | AV8: =+Datos!Z8/Datos!Z$305*100 -> 2.5354964 | AW8: =+Datos!AA8/Datos!AA$305*100 -> 1.8854265 | AX8: =+Datos!AB8/Datos!AB$305*100 -> 1.8897373 | AY8: =+Datos!AC8/Datos!AC$305*100 -> 1.92307 | AZ8: =+Datos!AD8/Datos!AD$305*100 -> 1.884534 | BA8: =+Datos!AE8/Datos!AE$305*100 -> 1.5808278 | BB8: =+Datos!AF8/Datos!AF$305*100 -> 1.4802432 | BC8: =+Datos!AG8/Datos!AG$305*100 -> 1.3235802 | ... BP8: =+Datos!AT8/Datos!AT$305*100 -> 1.1577416
A9: 6 | B9: 550 | C9: 201335 | D9: 137526 | E9: 152764 | F9: 172794 | G9: 182818 | H9: 155186 | I9: 172512 | J9: 190871 | K9: 217643 | L9: 199567 | M9: 165081 | N9: 170901 | O9: 197838 | P9: 197231 | Q9: 201142 | R9: 206375 | S9: 213666 | T9: 204242 | U9: 242511 | V9: 261180 | W9: 255778 | Y9: =+Y8+100 -> 550 | Z9: 110.30856 | AA9: 75.414699 | AB9: 83.780849 | AC9: 94.783118 | AD9: 100.28471 | AE9: 85.113646 | AF9: 94.629396 | AG9: 104.71716 | AH9: 119.42168 | AI9: 109.52272 | AJ9: 90.598995 | AK9: 93.774152 | AL9: 108.57857 | AM9: 108.24395 | AN9: 110.37477 | AO9: 113.24511 | AP9: 117.26063 | AQ9: 112.07784 | AR9: 133.05812 | AS9: 143.30087 | AT9: 140.34023 | AV9: =+Datos!Z9/Datos!Z$305*100 -> 2.2981011 | AW9: =+Datos!AA9/Datos!AA$305*100 -> 1.8860478 | AX9: =+Datos!AB9/Datos!AB$305*100 -> 1.8956598 | AY9: =+Datos!AC9/Datos!AC$305*100 -> 1.902432 | AZ9: =+Datos!AD9/Datos!AD$305*100 -> 1.8784006 | BA9: =+Datos!AE9/Datos!AE$305*100 -> 1.5761681 | BB9: =+Datos!AF9/Datos!AF$305*100 -> 1.4736809 | BC9: =+Datos!AG9/Datos!AG$305*100 -> 1.314596 | ... BP9: =+Datos!AT9/Datos!AT$305*100 -> 1.1773679
A10: 7 | B10: 650 | C10: 156284 | D10: 113445 | E10: 125372 | F10: 144119 | G10: 152489 | H10: 129732 | I10: 143869 | J10: 158945 | K10: 182315 | L10: 173334 | M10: 140878 | N10: 145953 | O10: 171145 | P10: 169304 | Q10: 171436 | R10: 175171 | S10: 180800 | T10: 173393 | U10: 203904 | V10: 219389 | W10: 214962 | Y10: =+Y9+100 -> 650 | Z10: 101.29699 | AA10: 73.596975 | AB10: 81.313449 | AC10: 93.467945 | AD10: 98.899591 | AE10: 84.16288 | AF10: 93.351593 | AG10: 103.11687 | AH10: 118.2867 | AI10: 112.48991 | AJ10: 91.417734 | AK10: 94.680144 | AL10: 111.07013 | AM10: 109.87346 | AN10: 111.22123 | AO10: 113.65917 | AP10: 117.28677 | AQ10: 112.46254 | AR10: 132.27488 | AS10: 142.32944 | AT10: 139.4683 | AV10: =+Datos!Z10/Datos!Z$305*100 -> 2.1103596 | AW10: =+Datos!AA10/Datos!AA$305*100 -> 1.8405883 | AX10: =+Datos!AB10/Datos!AB$305*100 -> 1.8398314 | AY10: =+Datos!AC10/Datos!AC$305*100 -> 1.8760346 | AZ10: =+Datos!AD10/Datos!AD$305*100 -> 1.8524564 | BA10: =+Datos!AE10/Datos!AE$305*100 -> 1.5585615 | BB10: =+Datos!AF10/Datos!AF$305*100 -> 1.4537814 | BC10: =+Datos!AG10/Datos!AG$305*100 -> 1.2945062 | ... BP10: =+Datos!AT10/Datos!AT$305*100 -> 1.170053
A11: 8 | B11: 750 | C11: 126885 | D11: 97322 | E11: 107869 | F11: 123026 | G11: 130072 | H11: 110494 | I11: 123360 | J11: 136217 | K11: 157303 | L11: 150980 | M11: 122328 | N11: 125537 | O11: 149183 | P11: 146225 | Q11: 149372 | R11: 150796 | S11: 156329 | T11: 146336 | U11: 171773 | V11: 185755 | W11: 183732 | Y11: =+Y10+100 -> 750 | Z11: 94.957533 | AA11: 72.87646 | AB11: 80.764863 | AC11: 92.111516 | AD11: 97.402998 | AE11: 82.744262 | AF11: 92.383893 | AG11: 102.0146 | AH11: 117.80915 | AI11: 113.09353 | AJ11: 91.607333 | AK11: 94.017744 | AL11: 111.74445 | AM11: 109.50975 | AN11: 111.86684 | AO11: 112.93905 | AP11: 117.08713 | AQ11: 109.58201 | AR11: 128.61605 | AS11: 139.08235 | AT11: 137.58827 | AV11: =+Datos!Z11/Datos!Z$305*100 -> 1.9782873 | AW11: =+Datos!AA11/Datos!AA$305*100 -> 1.8225689 | AX11: =+Datos!AB11/Datos!AB$305*100 -> 1.8274189 | AY11: =+Datos!AC11/Datos!AC$305*100 -> 1.8488091 | AZ11: =+Datos!AD11/Datos!AD$305*100 -> 1.8244242 | BA11: =+Datos!AE11/Datos!AE$305*100 -> 1.5322909 | BB11: =+Datos!AF11/Datos!AF$305*100 -> 1.4387112 | BC11: =+Datos!AG11/Datos!AG$305*100 -> 1.2806686 | ... BP11: =+Datos!AT11/Datos!AT$305*100 -> 1.1542807
A12: 9 | B12: 850 | C12: 104903 | D12: 83382 | E12: 92971 | F12: 105669 | G12: 112216 | H12: 95689 | I12: 107081 | J12: 117570 | K12: 136130 | L12: 132134 | M12: 106456 | N12: 107396 | O12: 130015 | P12: 127310 | Q12: 129688 | R12: 130211 | S12: 135256 | T12: 126939 | U12: 145894 | V12: 158542 | W12: 158486 | Y12: =+Y11+100 -> 850 | Z12: 89.010164 | AA12: 70.787352 | AB12: 78.900479 | AC12: 89.692049 | AD12: 95.267713 | AE12: 81.23609 | AF12: 90.915765 | AG12: 99.821461 | AH12: 115.5718 | AI12: 112.18773 | AJ12: 90.359755 | AK12: 91.186032 | AL12: 110.39499 | AM12: 108.10418 | AN12: 110.08698 | AO12: 110.52289 | AP12: 114.84536 | AQ12: 107.77055 | AR12: 123.86976 | AS12: 134.58409 | AT12: 134.53352 | AV12: =+Datos!Z12/Datos!Z$305*100 -> 1.8543834 | AW12: =+Datos!AA12/Datos!AA$305*100 -> 1.7703224 | AX12: =+Datos!AB12/Datos!AB$305*100 -> 1.7852345 | AY12: =+Datos!AC12/Datos!AC$305*100 -> 1.800247 | AZ12: =+Datos!AD12/Datos!AD$305*100 -> 1.7844289 | BA12: =+Datos!AE12/Datos!AE$305*100 -> 1.504362 | BB12: =+Datos!AF12/Datos!AF$305*100 -> 1.4158478 | BC12: =+Datos!AG12/Datos!AG$305*100 -> 1.2531364 | ... BP12: =+Datos!AT12/Datos!AT$305*100 -> 1.1286532
A13: 10 | B13: 950 | C13: 87472 | D13: 72223 | E13: 80451 | F13: 91867 | G13: 97219 | H13: 82825 | I13: 92426 | J13: 102496 | K13: 118011 | L13: 115537 | M13: 91888 | N13: 93371 | O13: 114572 | P13: 112586 | Q13: 113337 | R13: 114722 | S13: 118627 | T13: 110464 | U13: 127380 | V13: 138082 | W13: 137259 | Y13: =+Y12+100 -> 950 | Z13: 82.989217 | AA13: 68.522085 | AB13: 76.323715 | AC13: 87.17276 | AD13: 92.24933 | AE13: 78.584519 | AF13: 87.720646 | AG13: 97.2694 | AH13: 112.00236 | AI13: 109.66722 | AJ13: 87.208331 | AK13: 88.610584 | AL13: 108.77831 | AM13: 106.86492 | AN13: 107.58402 | AO13: 108.89037 | AP13: 112.58861 | AQ13: 104.83823 | AR13: 120.90451 | AS13: 131.03953 | AT13: 130.27958 | AV13: =+Datos!Z13/Datos!Z$305*100 -> 1.7289467 | AW13: =+Datos!AA13/Datos!AA$305*100 -> 1.7136703 | AX13: =+Datos!AB13/Datos!AB$305*100 -> 1.7269316 | AY13: =+Datos!AC13/Datos!AC$305*100 -> 1.7496813 | AZ13: =+Datos!AD13/Datos!AD$305*100 -> 1.7278925 | BA13: =+Datos!AE13/Datos!AE$305*100 -> 1.4552592 | BB13: =+Datos!AF13/Datos!AF$305*100 -> 1.3660896 | BC13: =+Datos!AG13/Datos!AG$305*100 -> 1.2210984 | ... BP13: =+Datos!AT13/Datos!AT$305*100 -> 1.0929653
A14: 11 | B14: 1050 | C14: 74287 | D14: 63000 | E14: 69220 | F14: 79501 | G14: 85218 | H14: 72751 | I14: 80174 | J14: 88632 | K14: 103074 | L14: 103088 | M14: 80311 | N14: 81750 | O14: 101703 | P14: 98790 | Q14: 99559 | R14: 101376 | S14: 104171 | T14: 97764 | U14: 111040 | V14: 120748 | W14: 120979 | Y14: =+Y13+100 -> 1050 | Z14: 77.889164 | AA14: 66.075753 | AB14: 72.591944 | AC14: 83.379428 | AD14: 89.400937 | AE14: 76.307256 | AF14: 84.105572 | AG14: 92.992939 | AH14: 108.14167 | AI14: 108.13832 | AJ14: 84.253436 | AK14: 85.746544 | AL14: 106.69322 | AM14: 103.64989 | AN14: 104.44711 | AO14: 106.35138 | AP14: 109.30118 | AQ14: 102.56533 | AR14: 116.5065 | AS14: 126.67789 | AT14: 126.90189 | AV14: =+Datos!Z14/Datos!Z$305*100 -> 1.6226953 | AW14: =+Datos!AA14/Datos!AA$305*100 -> 1.6524899 | AX14: =+Datos!AB14/Datos!AB$305*100 -> 1.6424951 | AY14: =+Datos!AC14/Datos!AC$305*100 -> 1.6735437 | AZ14: =+Datos!AD14/Datos!AD$305*100 -> 1.6745402 | BA14: =+Datos!AE14/Datos!AE$305*100 -> 1.4130879 | BB14: =+Datos!AF14/Datos!AF$305*100 -> 1.3097914 | BC14: =+Datos!AG14/Datos!AG$305*100 -> 1.1674126 | ... BP14: =+Datos!AT14/Datos!AT$305*100 -> 1.0646285
A15: 12 | B15: 1150 | C15: 64138 | D15: 55115 | E15: 61208 | F15: 69298 | G15: 74533 | H15: 64036 | I15: 71712 | J15: 79099 | K15: 90833 | L15: 90280 | M15: 71237 | N15: 72178 | O15: 91369 | P15: 88419 | Q15: 89128 | R15: 90856 | S15: 93430 | T15: 87265 | U15: 98802 | V15: 107605 | W15: 107222 | Y15: =+Y14+100 -> 1150 | Z15: 73.694509 | AA15: 63.315471 | AB15: 70.330641 | AC15: 79.638263 | AD15: 85.631603 | AE15: 73.583264 | AF15: 82.386785 | AG15: 90.882871 | AH15: 104.35702 | AI15: 103.72769 | AJ15: 81.869169 | AK15: 82.939258 | AL15: 105.0078 | AM15: 101.62005 | AN15: 102.44194 | AO15: 104.42136 | AP15: 107.37561 | AQ15: 100.2898 | AR15: 113.54098 | AS15: 123.6546 | AT15: 123.21644 | AV15: =+Datos!Z15/Datos!Z$305*100 -> 1.5353064 | AW15: =+Datos!AA15/Datos!AA$305*100 -> 1.5834579 | AX15: =+Datos!AB15/Datos!AB$305*100 -> 1.5913299 | AY15: =+Datos!AC15/Datos!AC$305*100 -> 1.5984532 | AZ15: =+Datos!AD15/Datos!AD$305*100 -> 1.603938 | BA15: =+Datos!AE15/Datos!AE$305*100 -> 1.362644 | BB15: =+Datos!AF15/Datos!AF$305*100 -> 1.2830244 | BC15: =+Datos!AG15/Datos!AG$305*100 -> 1.1409233 | ... BP15: =+Datos!AT15/Datos!AT$305*100 -> 1.0337099
A16: 13 | B16: 1250 | C16: 54605 | D16: 48126 | E16: 53224 | F16: 60434 | G16: 65530 | H16: 56562 | I16: 62951 | J16: 69626 | K16: 80385 | L16: 79942 | M16: 64017 | N16: 63888 | O16: 81855 | P16: 78823 | Q16: 80512 | R16: 81286 | S16: 84241 | T16: 78895 | U16: 87453 | V16: 95482 | W16: 96239 | Y16: =+Y15+100 -> 1250 | Z16: 68.192255 | AA16: 60.126122 | AB16: 66.471624 | AC16: 75.467446 | AD16: 81.851649 | AE16: 70.640779 | AF16: 78.638792 | AG16: 86.971368 | AH16: 100.40501 | AI16: 99.85615 | AJ16: 79.971732 | AK16: 79.81129 | AL16: 102.25294 | AM16: 98.464655 | AN16: 100.57884 | AO16: 101.53973 | AP16: 105.25296 | AQ16: 98.561658 | AR16: 109.24966 | AS16: 119.27288 | AT16: 120.23564 | AV16: =+Datos!Z16/Datos!Z$305*100 -> 1.4206758 | AW16: =+Datos!AA16/Datos!AA$305*100 -> 1.5036955 | AX16: =+Datos!AB16/Datos!AB$305*100 -> 1.5040142 | AY16: =+Datos!AC16/Datos!AC$305*100 -> 1.514739 | AZ16: =+Datos!AD16/Datos!AD$305*100 -> 1.5331369 | BA16: =+Datos!AE16/Datos!AE$305*100 -> 1.3081539 | BB16: =+Datos!AF16/Datos!AF$305*100 -> 1.2246563 | BC16: =+Datos!AG16/Datos!AG$305*100 -> 1.0918192 | ... BP16: =+Datos!AT16/Datos!AT$305*100 -> 1.0087028
... A303: 300 | B303: 29950 | C303: 62 | D303: 66 | E303: 63 | F303: 64 | G303: 64 | H303: 92 | I303: 104 | J303: 124 | K303: 184 | L303: 143 | M303: 98 | N303: 87 | O303: 84 | P303: 71 | Q303: 87 | R303: 93 | S303: 107 | T303: 109 | U303: 123 | V303: 181 | W303: 183 | Y303: =+Y302+100 -> 29950 | Z303: 1.8572546 | AA303: 1.9766427 | AB303: 1.8871536 | AC303: 1.9165045 | AD303: 1.9169773 | AE303: 2.7556987 | AF303: 3.1149202 | AG303: 3.7137318 | AH303: 5.5104891 | AI303: 4.2826922 | AJ303: 2.9347029 | AK303: 2.6057808 | AL303: 2.5160752 | AM303: 2.1267693 | AN303: 2.6055039 | AO303: 2.7856856 | AP303: 3.2044406 | AQ303: 3.2645886 | AR303: 3.6843912 | AS303: 5.421007 | AT303: 5.4808473 | AV303: =+Datos!Z303/Datos!Z$305*100 -> 0.038692908 | AW303: =+Datos!AA303/Datos!AA$305*100 -> 0.049433899 | AX303: =+Datos!AB303/Datos!AB$305*100 -> 0.042699509 | AY303: =+Datos!AC303/Datos!AC$305*100 -> 0.038466971 | AZ303: =+Datos!AD303/Datos!AD$305*100 -> 0.035906285 | BA303: =+Datos!AE303/Datos!AE$305*100 -> 0.051031116 | BB303: =+Datos!AF303/Datos!AF$305*100 -> 0.048509222 | BC303: =+Datos!AG303/Datos!AG$305*100 -> 0.046621362 | ... BP303: =+Datos!AT303/Datos!AT$305*100 -> 0.045980926
A304: 301 | B304: >29950 | C304: 14498 | D304: 11855 | E304: 13360 | F304: 14581 | G304: 15820 | H304: 17681 | I304: 22016 | J304: 28285 | K304: 43031 | L304: 32493 | M304: 21083 | N304: 16903 | O304: 15035 | P304: 15151 | Q304: 17642 | R304: 17064 | S304: 21385 | T304: 23953 | U304: 28715 | V304: 33653 | W304: 38456 | Y304: >29950 | Z304: 1194.0011 | AA304: 987.8843 | AB304: 1112.8984 | AC304: 1210.5973 | AD304: 1222.8071 | AE304: 1477.0539 | AF304: 1888.2645 | AG304: 2673.7718 | AH304: 4405.9581 | AI304: 3303.8385 | AJ304: 1960.0333 | AK304: 1456.8932 | AL304: 1269.8572 | AM304: 1453.2109 | AN304: 1603.6938 | AO304: 1664.8386 | AP304: 2118.9923 | AQ304: 2417.6277 | AR304: 2761.2612 | AS304: 3316.7201 | AT304: 4240.8879 | AV304: =+Datos!Z304/Datos!Z$305*100 -> 24.87509 | AW304: =+Datos!AA304/Datos!AA$305*100 -> 24.706019 | AX304: =+Datos!AB304/Datos!AB$305*100 -> 25.180895 | AY304: =+Datos!AC304/Datos!AC$305*100 -> 24.29841 | AZ304: =+Datos!AD304/Datos!AD$305*100 -> 22.904007 | BA304: =+Datos!AE304/Datos!AE$305*100 -> 27.352667 | BB304: =+Datos!AF304/Datos!AF$305*100 -> 29.406288 | BC304: =+Datos!AG304/Datos!AG$305*100 -> 33.565936 | ... BP304: =+Datos!AT304/Datos!AT$305*100 -> 35.578432
A305: Suma | B305: total | C305: =SUM(C4:C304) -> 4123399 | D305: =SUM(D4:D304) -> 2816864 | E305: =SUM(E4:E304) -> 3065075 | F305: =SUM(F4:F304) -> 3450942 | G305: =SUM(G4:G304) -> 3616682 | H305: =SUM(H4:H304) -> 3206964 | I305: =SUM(I4:I304) -> 3539879 | J305: =SUM(J4:J304) -> 3881786 | ... W305: =SUM(W4:W304) -> 5302178 | Y305: =+A305 -> Suma | Z305: =SUM(Z4:Z304) -> 4799.9871 | AA305: =SUM(AA4:AA304) -> 3998.5572 | AB305: =SUM(AB4:AB304) -> 4419.6142 | AC305: =SUM(AC4:AC304) -> 4982.208 | AD305: =SUM(AD4:AD304) -> 5338.835 | AE305: =SUM(AE4:AE304) -> 5400.036 | AF305: =SUM(AF4:AF304) -> 6421.295 | AG305: =SUM(AG4:AG304) -> 7965.73 | ... AT305: =SUM(AT4:AT304) -> 11919.828
