Workbook
Name Año: BdD!$D:$D
Name BdD: BdD!$A:$L
Name Categoria: BdD!$C:$C
Name CCAA: BdD!$H:$H
Name Concepto: BdD!$A:$A
Name Dato: BdD!$K:$K
Name Impuesto: BdD!$B:$B
Name Mes: BdD!$E:$E
Name Notas: BdD!#REF!
Name Pais: BdD!$G:$G
Name Producto: BdD!$I:$I
Name Regimen: BdD!$J:$J
Name Trimestre: BdD!$F:$F
Name Unidad: BdD!$L:$L

Sheet INSTRUCCIONES
A2: INSTRUCCIONES
A4: El presente archivo muestra en Tablas la parte de la BdD correspondiente el Impuesto Especial sobre la Electricidad.
A5: La BdD está actualizada en los datos nacionales a 2024 y en los de la UE al último disponible, en la mayoría de casos 2023.
A6: El orden de presentación es similar a todos los impuestos, primero para los datos de España y posteriormente para la UE:
B7: Recaudación
B8: Consumos
B9: Tipos
B10: Precios
A11: Cada tabla cuenta con un desplegable en las casillas azules oscuras con texto blanco que permite explorar distintas alternativas.

Sheet BdD
A1: Concepto | B1: Impuesto | C1: Categoria | D1: Año | E1: Mes | F1: Trimestre | G1: Pais | H1: CCAA | I1: Producto | J1: Regimen | K1: Dato | L1: Unidad
A2: TIPO | B2: IMPUESTO SOBRE LA ELECTRICIDAD | C2: TIPOS ESPAÑA | D2: 1998 | G2: ESPAÑA | I2: ELECTRICIDAD | K2: 5.1126963 | L2: %
A3: TIPO | B3: IMPUESTO SOBRE LA ELECTRICIDAD | C3: TIPOS ESPAÑA | D3: 1999 | G3: ESPAÑA | I3: ELECTRICIDAD | K3: 5.1126963 | L3: %
A4: TIPO | B4: IMPUESTO SOBRE LA ELECTRICIDAD | C4: TIPOS ESPAÑA | D4: 2000 | G4: ESPAÑA | I4: ELECTRICIDAD | K4: 5.1126963 | L4: %
A5: TIPO | B5: IMPUESTO SOBRE LA ELECTRICIDAD | C5: TIPOS ESPAÑA | D5: 2001 | G5: ESPAÑA | I5: ELECTRICIDAD | K5: 5.1126963 | L5: %
A6: TIPO | B6: IMPUESTO SOBRE LA ELECTRICIDAD | C6: TIPOS ESPAÑA | D6: 2002 | G6: ESPAÑA | I6: ELECTRICIDAD | K6: 5.1126963 | L6: %
A7: TIPO | B7: IMPUESTO SOBRE LA ELECTRICIDAD | C7: TIPOS ESPAÑA | D7: 2003 | G7: ESPAÑA | I7: ELECTRICIDAD | K7: 5.1126963 | L7: %
A8: TIPO | B8: IMPUESTO SOBRE LA ELECTRICIDAD | C8: TIPOS ESPAÑA | D8: 2004 | G8: ESPAÑA | I8: ELECTRICIDAD | K8: 5.1126963 | L8: %
A9: TIPO | B9: IMPUESTO SOBRE LA ELECTRICIDAD | C9: TIPOS ESPAÑA | D9: 2005 | G9: ESPAÑA | I9: ELECTRICIDAD | K9: 5.1126963 | L9: %
A10: TIPO | B10: IMPUESTO SOBRE LA ELECTRICIDAD | C10: TIPOS ESPAÑA | D10: 2006 | G10: ESPAÑA | I10: ELECTRICIDAD | K10: 5.1126963 | L10: %
A11: TIPO | B11: IMPUESTO SOBRE LA ELECTRICIDAD | C11: TIPOS ESPAÑA | D11: 2007 | G11: ESPAÑA | I11: ELECTRICIDAD | K11: 5.1126963 | L11: %
A12: TIPO | B12: IMPUESTO SOBRE LA ELECTRICIDAD | C12: TIPOS ESPAÑA | D12: 2008 | G12: ESPAÑA | I12: ELECTRICIDAD | K12: 5.1126963 | L12: %
A13: TIPO | B13: IMPUESTO SOBRE LA ELECTRICIDAD | C13: TIPOS ESPAÑA | D13: 2009 | G13: ESPAÑA | I13: ELECTRICIDAD | K13: 5.1126963 | L13: %
... A28: TIPO | B28: IMPUESTO SOBRE LA ELECTRICIDAD | C28: TIPOS ESPAÑA | D28: 2024 | G28: ESPAÑA | I28: ELECTRICIDAD | K28: 4.1367107 | L28: %
A29: TIPO | B29: IMPUESTO SOBRE LA ELECTRICIDAD | C29: TIPOS UE | D29: 2015 | G29: BÉLGICA | I29: ELECTRICIDAD | J29: IVA | K29: 21 | L29: %
A30: TIPO | B30: IMPUESTO SOBRE LA ELECTRICIDAD | C30: TIPOS UE | D30: 2015 | G30: BULGARIA | I30: ELECTRICIDAD | J30: IVA | K30: 20 | L30: %
A31: TIPO | B31: IMPUESTO SOBRE LA ELECTRICIDAD | C31: TIPOS UE | D31: 2015 | G31: CROACIA | I31: ELECTRICIDAD | J31: IVA | K31: 25 | L31: %
A32: TIPO | B32: IMPUESTO SOBRE LA ELECTRICIDAD | C32: TIPOS UE | D32: 2015 | G32: CHIPRE | I32: ELECTRICIDAD | J32: IVA | K32: 19 | L32: %
A33: TIPO | B33: IMPUESTO SOBRE LA ELECTRICIDAD | C33: TIPOS UE | D33: 2015 | G33: REPÚBLICA CHECA | I33: ELECTRICIDAD | J33: IVA | K33: 21 | L33: %
A34: TIPO | B34: IMPUESTO SOBRE LA ELECTRICIDAD | C34: TIPOS UE | D34: 2015 | G34: DINAMARCA | I34: ELECTRICIDAD | J34: IVA | K34: 25 | L34: %
A35: TIPO | B35: IMPUESTO SOBRE LA ELECTRICIDAD | C35: TIPOS UE | D35: 2015 | G35: ALEMANIA | I35: ELECTRICIDAD | J35: IVA | K35: 19 | L35: %
A36: TIPO | B36: IMPUESTO SOBRE LA ELECTRICIDAD | C36: TIPOS UE | D36: 2015 | G36: GRECIA | I36: ELECTRICIDAD | J36: IVA | K36: 13 | L36: %
A37: TIPO | B37: IMPUESTO SOBRE LA ELECTRICIDAD | C37: TIPOS UE | D37: 2015 | G37: ESPAÑA | I37: ELECTRICIDAD | J37: IVA | K37: 21 | L37: %
A38: TIPO | B38: IMPUESTO SOBRE LA ELECTRICIDAD | C38: TIPOS UE | D38: 2015 | G38: ESTONIA | I38: ELECTRICIDAD | J38: IVA | K38: 20 | L38: %
A39: TIPO | B39: IMPUESTO SOBRE LA ELECTRICIDAD | C39: TIPOS UE | D39: 2015 | G39: FRANCIA | I39: ELECTRICIDAD | J39: IVA | K39: 20 | L39: %
A40: TIPO | B40: IMPUESTO SOBRE LA ELECTRICIDAD | C40: TIPOS UE | D40: 2015 | G40: HUNGRÍA | I40: ELECTRICIDAD | J40: IVA | K40: 27 | L40: %
... A56: TIPO | B56: IMPUESTO SOBRE LA ELECTRICIDAD | C56: TIPOS UE | D56: 2015 | G56: REINO UNIDO | I56: ELECTRICIDAD | J56: IVA | K56: 20 | L56: %
A57: TIPO | B57: IMPUESTO SOBRE LA ELECTRICIDAD | C57: TIPOS UE | D57: 2015 | G57: MÍNIMO | I57: ELECTRICIDAD | J57: IVA | L57: %
A58: TIPO | B58: IMPUESTO SOBRE LA ELECTRICIDAD | C58: TIPOS UE | D58: 2014 | G58: BÉLGICA | I58: ELECTRICIDAD | J58: IVA | K58: 21 | L58: %
A59: TIPO | B59: IMPUESTO SOBRE LA ELECTRICIDAD | C59: TIPOS UE | D59: 2014 | G59: BULGARIA | I59: ELECTRICIDAD | J59: IVA | K59: 20 | L59: %
A60: TIPO | B60: IMPUESTO SOBRE LA ELECTRICIDAD | C60: TIPOS UE | D60: 2014 | G60: CROACIA | I60: ELECTRICIDAD | J60: IVA | K60: 25 | L60: %
A61: TIPO | B61: IMPUESTO SOBRE LA ELECTRICIDAD | C61: TIPOS UE | D61: 2014 | G61: CHIPRE | I61: ELECTRICIDAD | J61: IVA | K61: 19 | L61: %
A62: TIPO | B62: IMPUESTO SOBRE LA ELECTRICIDAD | C62: TIPOS UE | D62: 2014 | G62: REPÚBLICA CHECA | I62: ELECTRICIDAD | J62: IVA | K62: 21 | L62: %
A63: TIPO | B63: IMPUESTO SOBRE LA ELECTRICIDAD | C63: TIPOS UE | D63: 2014 | G63: DINAMARCA | I63: ELECTRICIDAD | J63: IVA | K63: 25 | L63: %
A64: TIPO | B64: IMPUESTO SOBRE LA ELECTRICIDAD | C64: TIPOS UE | D64: 2014 | G64: ALEMANIA | I64: ELECTRICIDAD | J64: IVA | K64: 19 | L64: %
A65: TIPO | B65: IMPUESTO SOBRE LA ELECTRICIDAD | C65: TIPOS UE | D65: 2014 | G65: GRECIA | I65: ELECTRICIDAD | J65: IVA | K65: 13 | L65: %
A66: TIPO | B66: IMPUESTO SOBRE LA ELECTRICIDAD | C66: TIPOS UE | D66: 2014 | G66: ESPAÑA | I66: ELECTRICIDAD | J66: IVA | K66: 21 | L66: %
A67: TIPO | B67: IMPUESTO SOBRE LA ELECTRICIDAD | C67: TIPOS UE | D67: 2014 | G67: ESTONIA | I67: ELECTRICIDAD | J67: IVA | K67: 20 | L67: %
A68: TIPO | B68: IMPUESTO SOBRE LA ELECTRICIDAD | C68: TIPOS UE | D68: 2014 | G68: FRANCIA | I68: ELECTRICIDAD | J68: IVA | K68: 19.6 | L68: %
A69: TIPO | B69: IMPUESTO SOBRE LA ELECTRICIDAD | C69: TIPOS UE | D69: 2014 | G69: HUNGRÍA | I69: ELECTRICIDAD | J69: IVA | K69: 27 | L69: %
...

Sheet 1
B2: TABLA 1
B3: EVOLUCIÓN DE LA RECAUDACIÓN Y DEL IMPUESTO DEVENGADO
B4: (En millones de euros)
B5: RECAUDACIÓN CAJA
B6: IMPUESTO SOBRE LA ELECTRICIDAD
B7: Recaudación bruta
B8: Periodo | C8: Dato del periodo | F8: Variación (%)
C9: =D9-1 -> 2022 | D9: =E9-1 -> 2023 | E9: 2024 | F9: =CONCATENATE(D9,"/",C9) -> 2023/2022 | G9: =CONCATENATE(E9,"/",D9) -> 2024/2023
B10: Total | C10: =SUM(C15:C26) -> 474.226 | D10: =SUM(D15:D26) -> 379.31 | E10: =SUM(E15:E26) -> 2228.808 | F10: =IFERROR((D10/C10-1)*100,"") -> -20.01493 | G10: =IFERROR((E10/D10-1)*100,"") -> 487.59537
B11: 1T | C11: =SUM(C15:C17) -> 110.9 | D11: =SUM(D15:D17) -> 100.83 | E11: =SUM(E15:E17) -> 305.45 | F11: =IFERROR((D11/C11-1)*100,"") -> -9.0802525 | G11: =IFERROR((E11/D11-1)*100,"") -> 202.93563
B12: 2T | C12: =SUM(C18:C20) -> 113.706 | D12: =SUM(D18:D20) -> 91.7 | E12: =SUM(E18:E20) -> 445.628 | F12: =IFERROR((D12/C12-1)*100,"") -> -19.35342 | G12: =IFERROR((E12/D12-1)*100,"") -> 385.96292
B13: 3T | C13: =SUM(C21:C23) -> 115.088 | D13: =SUM(D21:D23) -> 93.002 | E13: =SUM(E21:E23) -> 689.58 | F13: =IFERROR((D13/C13-1)*100,"") -> -19.190532 | G13: =IFERROR((E13/D13-1)*100,"") -> 641.46793
B14: 4T | C14: =SUM(C24:C26) -> 134.532 | D14: =SUM(D24:D26) -> 93.778 | E14: =SUM(E24:E26) -> 788.15 | F14: =IFERROR((D14/C14-1)*100,"") -> -30.293164 | G14: =IFERROR((E14/D14-1)*100,"") -> 740.44232
B15: Enero | C15: =SUMIFS(Dato,Año,C$9,Mes,aux!$B2,Categoria,$B$5,Impuesto,$B$6,Regimen,$B$7) -> 35.726 | D15: =SUMIFS(Dato,Año,D$9,Mes,aux!$B2,Categoria,$B$5,Impuesto,$B$6,Regimen,$B$7) -> 36.086 | E15: =SUMIFS(Dato,Año,E$9,Mes,aux!$B2,Categoria,$B$5,Impuesto,$B$6,Regimen,$B$7) -> 29.874 | F15: =IFERROR((D15/C15-1)*100,"") -> 1.0076695 | G15: =IFERROR((E15/D15-1)*100,"") -> -17.214432
B16: Febrero | C16: =SUMIFS(Dato,Año,C$9,Mes,aux!$B3,Categoria,$B$5,Impuesto,$B$6,Regimen,$B$7) -> 34.546 | D16: =SUMIFS(Dato,Año,D$9,Mes,aux!$B3,Categoria,$B$5,Impuesto,$B$6,Regimen,$B$7) -> 33.078 | E16: =SUMIFS(Dato,Año,E$9,Mes,aux!$B3,Categoria,$B$5,Impuesto,$B$6,Regimen,$B$7) -> 135.276 | F16: =IFERROR((D16/C16-1)*100,"") -> -4.2494066 | G16: =IFERROR((E16/D16-1)*100,"") -> 308.96064
B17: Marzo | C17: =SUMIFS(Dato,Año,C$9,Mes,aux!$B4,Categoria,$B$5,Impuesto,$B$6,Regimen,$B$7) -> 40.628 | D17: =SUMIFS(Dato,Año,D$9,Mes,aux!$B4,Categoria,$B$5,Impuesto,$B$6,Regimen,$B$7) -> 31.666 | E17: =SUMIFS(Dato,Año,E$9,Mes,aux!$B4,Categoria,$B$5,Impuesto,$B$6,Regimen,$B$7) -> 140.3 | F17: =IFERROR((D17/C17-1)*100,"") -> -22.058679 | G17: =IFERROR((E17/D17-1)*100,"") -> 343.06196
B18: Abril | C18: =SUMIFS(Dato,Año,C$9,Mes,aux!$B5,Categoria,$B$5,Impuesto,$B$6,Regimen,$B$7) -> 41.836 | D18: =SUMIFS(Dato,Año,D$9,Mes,aux!$B5,Categoria,$B$5,Impuesto,$B$6,Regimen,$B$7) -> 35.69 | E18: =SUMIFS(Dato,Año,E$9,Mes,aux!$B5,Categoria,$B$5,Impuesto,$B$6,Regimen,$B$7) -> 119.414 | F18: =IFERROR((D18/C18-1)*100,"") -> -14.690697 | G18: =IFERROR((E18/D18-1)*100,"") -> 234.58672
B19: Mayo | C19: =SUMIFS(Dato,Año,C$9,Mes,aux!$B6,Categoria,$B$5,Impuesto,$B$6,Regimen,$B$7) -> 39.098 | D19: =SUMIFS(Dato,Año,D$9,Mes,aux!$B6,Categoria,$B$5,Impuesto,$B$6,Regimen,$B$7) -> 27.966 | E19: =SUMIFS(Dato,Año,E$9,Mes,aux!$B6,Categoria,$B$5,Impuesto,$B$6,Regimen,$B$7) -> 162.286 | F19: =IFERROR((D19/C19-1)*100,"") -> -28.472045 | G19: =IFERROR((E19/D19-1)*100,"") -> 480.2975
B20: Junio | C20: =SUMIFS(Dato,Año,C$9,Mes,aux!$B7,Categoria,$B$5,Impuesto,$B$6,Regimen,$B$7) -> 32.772 | D20: =SUMIFS(Dato,Año,D$9,Mes,aux!$B7,Categoria,$B$5,Impuesto,$B$6,Regimen,$B$7) -> 28.044 | E20: =SUMIFS(Dato,Año,E$9,Mes,aux!$B7,Categoria,$B$5,Impuesto,$B$6,Regimen,$B$7) -> 163.928 | F20: =IFERROR((D20/C20-1)*100,"") -> -14.42695 | G20: =IFERROR((E20/D20-1)*100,"") -> 484.53858
B21: Julio | C21: =SUMIFS(Dato,Año,C$9,Mes,aux!$B8,Categoria,$B$5,Impuesto,$B$6,Regimen,$B$7) -> 33.81 | D21: =SUMIFS(Dato,Año,D$9,Mes,aux!$B8,Categoria,$B$5,Impuesto,$B$6,Regimen,$B$7) -> 28.266 | E21: =SUMIFS(Dato,Año,E$9,Mes,aux!$B8,Categoria,$B$5,Impuesto,$B$6,Regimen,$B$7) -> 162.338 | F21: =IFERROR((D21/C21-1)*100,"") -> -16.397516 | G21: =IFERROR((E21/D21-1)*100,"") -> 474.32251
B22: Agosto | C22: =SUMIFS(Dato,Año,C$9,Mes,aux!$B9,Categoria,$B$5,Impuesto,$B$6,Regimen,$B$7) -> 31.742 | D22: =SUMIFS(Dato,Año,D$9,Mes,aux!$B9,Categoria,$B$5,Impuesto,$B$6,Regimen,$B$7) -> 30.018 | E22: =SUMIFS(Dato,Año,E$9,Mes,aux!$B9,Categoria,$B$5,Impuesto,$B$6,Regimen,$B$7) -> 233.488 | F22: =IFERROR((D22/C22-1)*100,"") -> -5.4312898 | G22: =IFERROR((E22/D22-1)*100,"") -> 677.82664
B23: Septiembre | C23: =SUMIFS(Dato,Año,C$9,Mes,aux!$B10,Categoria,$B$5,Impuesto,$B$6,Regimen,$B$7) -> 49.536 | D23: =SUMIFS(Dato,Año,D$9,Mes,aux!$B10,Categoria,$B$5,Impuesto,$B$6,Regimen,$B$7) -> 34.718 | E23: =SUMIFS(Dato,Año,E$9,Mes,aux!$B10,Categoria,$B$5,Impuesto,$B$6,Regimen,$B$7) -> 293.754 | F23: =IFERROR((D23/C23-1)*100,"") -> -29.913598 | G23: =IFERROR((E23/D23-1)*100,"") -> 746.11441
B24: Octubre | C24: =SUMIFS(Dato,Año,C$9,Mes,aux!$B11,Categoria,$B$5,Impuesto,$B$6,Regimen,$B$7) -> 54.95 | D24: =SUMIFS(Dato,Año,D$9,Mes,aux!$B11,Categoria,$B$5,Impuesto,$B$6,Regimen,$B$7) -> 34.096 | E24: =SUMIFS(Dato,Año,E$9,Mes,aux!$B11,Categoria,$B$5,Impuesto,$B$6,Regimen,$B$7) -> 290.124 | F24: =IFERROR((D24/C24-1)*100,"") -> -37.950864 | G24: =IFERROR((E24/D24-1)*100,"") -> 750.90333
B25: Noviembre | C25: =SUMIFS(Dato,Año,C$9,Mes,aux!$B12,Categoria,$B$5,Impuesto,$B$6,Regimen,$B$7) -> 45.296 | D25: =SUMIFS(Dato,Año,D$9,Mes,aux!$B12,Categoria,$B$5,Impuesto,$B$6,Regimen,$B$7) -> 30.954 | E25: =SUMIFS(Dato,Año,E$9,Mes,aux!$B12,Categoria,$B$5,Impuesto,$B$6,Regimen,$B$7) -> 256.566 | F25: =IFERROR((D25/C25-1)*100,"") -> -31.66284 | G25: =IFERROR((E25/D25-1)*100,"") -> 728.86218
B26: Diciembre | C26: =SUMIFS(Dato,Año,C$9,Mes,aux!$B13,Categoria,$B$5,Impuesto,$B$6,Regimen,$B$7) -> 34.286 | D26: =SUMIFS(Dato,Año,D$9,Mes,aux!$B13,Categoria,$B$5,Impuesto,$B$6,Regimen,$B$7) -> 28.728 | E26: =SUMIFS(Dato,Año,E$9,Mes,aux!$B13,Categoria,$B$5,Impuesto,$B$6,Regimen,$B$7) -> 241.46 | F26: =IFERROR((D26/C26-1)*100,"") -> -16.210698 | G26: =IFERROR((E26/D26-1)*100,"") -> 740.50404

Sheet 2
B2: TABLA 2
B3: CONSUMOS SUJETOS A TRIBUTACIÓN
B4: Consumo de electricidad
B5: Periodo | C5: =IF($B$4=aux!$G$2,"millones kWh","millones de euros") -> millones kWh
C6: Dato del periodo | F6: Variación (%)
C7: =D7-1 -> 2022 | D7: =E7-1 -> 2023 | E7: 2024 | F7: =CONCATENATE(D7,"/",C7) -> 2023/2022 | G7: =CONCATENATE(E7,"/",D7) -> 2024/2023
B8: Total | C8: =SUM(C13:C24) -> 447317.56 | D8: =SUM(D13:D24) -> 432568.31 | E8: =SUM(E13:E24) -> 437486.56 | F8: =IFERROR((D8/C8-1)*100,"") -> -3.2972643 | G8: =IFERROR((E8/D8-1)*100,"") -> 1.136988
B9: 1T | C9: =SUM(C13:C15) -> 115321.03 | D9: =SUM(D13:D15) -> 110830.34 | E9: =SUM(E13:E15) -> 111969.52 | F9: =IFERROR((D9/C9-1)*100,"") -> -3.8940738 | G9: =IFERROR((E9/D9-1)*100,"") -> 1.0278575
B10: 2T | C10: =SUM(C16:C18) -> 108864.57 | D10: =SUM(D16:D18) -> 102401.92 | E10: =SUM(E16:E18) -> 104023.78 | F10: =IFERROR((D10/C10-1)*100,"") -> -5.9364073 | G10: =IFERROR((E10/D10-1)*100,"") -> 1.5838179
B11: 3T | C11: =SUM(C19:C21) -> 117692.78 | D11: =SUM(D19:D21) -> 112868.65 | E11: =SUM(E19:E21) -> 113971.9 | F11: =IFERROR((D11/C11-1)*100,"") -> -4.0989159 | G11: =IFERROR((E11/D11-1)*100,"") -> 0.9774654
B12: 4T | C12: =SUM(C22:C24) -> 105439.18 | D12: =SUM(D22:D24) -> 106467.4 | E12: =SUM(E22:E24) -> 107521.36 | F12: =IFERROR((D12/C12-1)*100,"") -> 0.97517448 | G12: =IFERROR((E12/D12-1)*100,"") -> 0.98993684
B13: Enero | C13: =SUMIFS(Dato,Año,C$7,Mes,aux!$B2,Categoria,aux!$C$2,Regimen,$B$4) -> 39313.942 | D13: =SUMIFS(Dato,Año,D$7,Mes,aux!$B2,Categoria,aux!$C$2,Regimen,$B$4) -> 36597.33 | E13: =SUMIFS(Dato,Año,E$7,Mes,aux!$B2,Categoria,aux!$C$2,Regimen,$B$4) -> 37709.648 | F13: =IFERROR((D13/C13-1)*100,"") -> -6.9100473 | G13: =IFERROR((E13/D13-1)*100,"") -> 3.0393419
B14: Febrero | C14: =SUMIFS(Dato,Año,C$7,Mes,aux!$B3,Categoria,aux!$C$2,Regimen,$B$4) -> 38889.09 | D14: =SUMIFS(Dato,Año,D$7,Mes,aux!$B3,Categoria,aux!$C$2,Regimen,$B$4) -> 37700.128 | E14: =SUMIFS(Dato,Año,E$7,Mes,aux!$B3,Categoria,aux!$C$2,Regimen,$B$4) -> 37975.812 | F14: =IFERROR((D14/C14-1)*100,"") -> -3.057315 | G14: =IFERROR((E14/D14-1)*100,"") -> 0.73125481
B15: Marzo | C15: =SUMIFS(Dato,Año,C$7,Mes,aux!$B4,Categoria,aux!$C$2,Regimen,$B$4) -> 37117.998 | D15: =SUMIFS(Dato,Año,D$7,Mes,aux!$B4,Categoria,aux!$C$2,Regimen,$B$4) -> 36532.886 | E15: =SUMIFS(Dato,Año,E$7,Mes,aux!$B4,Categoria,aux!$C$2,Regimen,$B$4) -> 36284.062 | F15: =IFERROR((D15/C15-1)*100,"") -> -1.5763566 | G15: =IFERROR((E15/D15-1)*100,"") -> -0.68109593
B16: Abril | C16: =SUMIFS(Dato,Año,C$7,Mes,aux!$B5,Categoria,aux!$C$2,Regimen,$B$4) -> 36809.504 | D16: =SUMIFS(Dato,Año,D$7,Mes,aux!$B5,Categoria,aux!$C$2,Regimen,$B$4) -> 35125.918 | E16: =SUMIFS(Dato,Año,E$7,Mes,aux!$B5,Categoria,aux!$C$2,Regimen,$B$4) -> 35456.898 | F16: =IFERROR((D16/C16-1)*100,"") -> -4.5737807 | G16: =IFERROR((E16/D16-1)*100,"") -> 0.94226719
B17: Mayo | C17: =SUMIFS(Dato,Año,C$7,Mes,aux!$B6,Categoria,aux!$C$2,Regimen,$B$4) -> 35652.38 | D17: =SUMIFS(Dato,Año,D$7,Mes,aux!$B6,Categoria,aux!$C$2,Regimen,$B$4) -> 33298.776 | E17: =SUMIFS(Dato,Año,E$7,Mes,aux!$B6,Categoria,aux!$C$2,Regimen,$B$4) -> 34263.212 | F17: =IFERROR((D17/C17-1)*100,"") -> -6.601534 | G17: =IFERROR((E17/D17-1)*100,"") -> 2.8963107
B18: Junio | C18: =SUMIFS(Dato,Año,C$7,Mes,aux!$B7,Categoria,aux!$C$2,Regimen,$B$4) -> 36402.682 | D18: =SUMIFS(Dato,Año,D$7,Mes,aux!$B7,Categoria,aux!$C$2,Regimen,$B$4) -> 33977.228 | E18: =SUMIFS(Dato,Año,E$7,Mes,aux!$B7,Categoria,aux!$C$2,Regimen,$B$4) -> 34303.672 | F18: =IFERROR((D18/C18-1)*100,"") -> -6.6628442 | G18: =IFERROR((E18/D18-1)*100,"") -> 0.9607729
B19: Julio | C19: =SUMIFS(Dato,Año,C$7,Mes,aux!$B8,Categoria,aux!$C$2,Regimen,$B$4) -> 38670.04 | D19: =SUMIFS(Dato,Año,D$7,Mes,aux!$B8,Categoria,aux!$C$2,Regimen,$B$4) -> 36339.534 | E19: =SUMIFS(Dato,Año,E$7,Mes,aux!$B8,Categoria,aux!$C$2,Regimen,$B$4) -> 36186.016 | F19: =IFERROR((D19/C19-1)*100,"") -> -6.0266449 | G19: =IFERROR((E19/D19-1)*100,"") -> -0.42245451
B20: Agosto | C20: =SUMIFS(Dato,Año,C$7,Mes,aux!$B9,Categoria,aux!$C$2,Regimen,$B$4) -> 40430.136 | D20: =SUMIFS(Dato,Año,D$7,Mes,aux!$B9,Categoria,aux!$C$2,Regimen,$B$4) -> 38904.384 | E20: =SUMIFS(Dato,Año,E$7,Mes,aux!$B9,Categoria,aux!$C$2,Regimen,$B$4) -> 39352.002 | F20: =IFERROR((D20/C20-1)*100,"") -> -3.7737988 | G20: =IFERROR((E20/D20-1)*100,"") -> 1.1505593
B21: Septiembre | C21: =SUMIFS(Dato,Año,C$7,Mes,aux!$B10,Categoria,aux!$C$2,Regimen,$B$4) -> 38592.602 | D21: =SUMIFS(Dato,Año,D$7,Mes,aux!$B10,Categoria,aux!$C$2,Regimen,$B$4) -> 37624.732 | E21: =SUMIFS(Dato,Año,E$7,Mes,aux!$B10,Categoria,aux!$C$2,Regimen,$B$4) -> 38433.884 | F21: =IFERROR((D21/C21-1)*100,"") -> -2.5079159 | G21: =IFERROR((E21/D21-1)*100,"") -> 2.1505854
B22: Octubre | C22: =SUMIFS(Dato,Año,C$7,Mes,aux!$B11,Categoria,aux!$C$2,Regimen,$B$4) -> 36011.378 | D22: =SUMIFS(Dato,Año,D$7,Mes,aux!$B11,Categoria,aux!$C$2,Regimen,$B$4) -> 35361.146 | E22: =SUMIFS(Dato,Año,E$7,Mes,aux!$B11,Categoria,aux!$C$2,Regimen,$B$4) -> 35966.998 | F22: =IFERROR((D22/C22-1)*100,"") -> -1.8056293 | G22: =IFERROR((E22/D22-1)*100,"") -> 1.7133268
B23: Noviembre | C23: =SUMIFS(Dato,Año,C$7,Mes,aux!$B12,Categoria,aux!$C$2,Regimen,$B$4) -> 34604.406 | D23: =SUMIFS(Dato,Año,D$7,Mes,aux!$B12,Categoria,aux!$C$2,Regimen,$B$4) -> 35144.88 | E23: =SUMIFS(Dato,Año,E$7,Mes,aux!$B12,Categoria,aux!$C$2,Regimen,$B$4) -> 35511.842 | F23: =IFERROR((D23/C23-1)*100,"") -> 1.5618647 | G23: =IFERROR((E23/D23-1)*100,"") -> 1.0441407
B24: Diciembre | C24: =SUMIFS(Dato,Año,C$7,Mes,aux!$B13,Categoria,aux!$C$2,Regimen,$B$4) -> 34823.398 | D24: =SUMIFS(Dato,Año,D$7,Mes,aux!$B13,Categoria,aux!$C$2,Regimen,$B$4) -> 35961.372 | E24: =SUMIFS(Dato,Año,E$7,Mes,aux!$B13,Categoria,aux!$C$2,Regimen,$B$4) -> 36042.518 | F24: =IFERROR((D24/C24-1)*100,"") -> 3.2678431 | G24: =IFERROR((E24/D24-1)*100,"") -> 0.22564768

Sheet 5
B2: TABLA 5
B3: PRECIO Y FISCALIDAD UNITARIA DE LA ELECTRICIDAD
B4: 2024
B5: Periodo | C5: Precio medio | D5: Precio medio antes de impuestos | E5: Impuesto especial por unidad de consumo | F5: IVA por unidad de consumo | G5: Carga Fiscal | H5: Presión Fiscal | I5: IE / PVP | J5: IVA / PVP
C6: céntimos de euro por kWh | H6: %
B7: Media | C7: =AVERAGE(C8:C19) -> 34.89719 | D7: =AVERAGE(D8:D19) -> 29.357797 | E7: =AVERAGE(E8:E19) -> 1.1281892 | F7: =AVERAGE(F8:F19) -> 4.411204 | G7: =E7+F7 -> 5.5393932 | H7: =(E7+F7)/D7*100 -> 18.868559 | I7: =E7/C7*100 -> 3.2328943 | J7: =F7/C7*100 -> 12.640571
B8: Enero | C8: =SUMIFS(Dato,Categoria,aux!$C$5,Año,$B$4,Mes,aux!$B2,Regimen,C$5) -> 35.646315 | D8: =SUMIFS(Dato,Categoria,aux!$C$5,Año,$B$4,Mes,aux!$B2,Regimen,D$5) -> 31.207589 | E8: =SUMIFS(Dato,Categoria,aux!$C$5,Año,$B$4,Mes,aux!$B2,Regimen,E$5) -> 0.7192536 | F8: =SUMIFS(Dato,Categoria,aux!$C$5,Año,$B$4,Mes,aux!$B2,Regimen,F$5) -> 3.7194725 | G8: =E8+F8 -> 4.4387261 | H8: =(E8+F8)/D8*100 -> 14.223227 | I8: =E8/C8*100 -> 2.0177502 | J8: =F8/C8*100 -> 10.434382
B9: Febrero | C9: =SUMIFS(Dato,Categoria,aux!$C$5,Año,$B$4,Mes,aux!$B3,Regimen,C$5) -> 35.266764 | D9: =SUMIFS(Dato,Categoria,aux!$C$5,Año,$B$4,Mes,aux!$B3,Regimen,D$5) -> 30.856683 | E9: =SUMIFS(Dato,Categoria,aux!$C$5,Año,$B$4,Mes,aux!$B3,Regimen,E$5) -> 0.73021217 | F9: =SUMIFS(Dato,Categoria,aux!$C$5,Año,$B$4,Mes,aux!$B3,Regimen,F$5) -> 3.6798686 | G9: =E9+F9 -> 4.4100808 | H9: =(E9+F9)/D9*100 -> 14.292141 | I9: =E9/C9*100 -> 2.0705392 | J9: =F9/C9*100 -> 10.434381
B10: Marzo | C10: =SUMIFS(Dato,Categoria,aux!$C$5,Año,$B$4,Mes,aux!$B4,Regimen,C$5) -> 35.299267 | D10: =SUMIFS(Dato,Categoria,aux!$C$5,Año,$B$4,Mes,aux!$B4,Regimen,D$5) -> 28.498055 | E10: =SUMIFS(Dato,Categoria,aux!$C$5,Año,$B$4,Mes,aux!$B4,Regimen,E$5) -> 0.67489687 | F10: =SUMIFS(Dato,Categoria,aux!$C$5,Año,$B$4,Mes,aux!$B4,Regimen,F$5) -> 6.1263152 | G10: =E10+F10 -> 6.8012121 | H10: =(E10+F10)/D10*100 -> 23.865531 | I10: =E10/C10*100 -> 1.9119288 | J10: =F10/C10*100 -> 17.355361
B11: Abril | C11: =SUMIFS(Dato,Categoria,aux!$C$5,Año,$B$4,Mes,aux!$B5,Regimen,C$5) -> 32.771812 | D11: =SUMIFS(Dato,Categoria,aux!$C$5,Año,$B$4,Mes,aux!$B5,Regimen,D$5) -> 26.14971 | E11: =SUMIFS(Dato,Categoria,aux!$C$5,Año,$B$4,Mes,aux!$B5,Regimen,E$5) -> 0.9344303 | F11: =SUMIFS(Dato,Categoria,aux!$C$5,Año,$B$4,Mes,aux!$B5,Regimen,F$5) -> 5.6876718 | G11: =E11+F11 -> 6.6221021 | H11: =(E11+F11)/D11*100 -> 25.323807 | I11: =E11/C11*100 -> 2.8513233 | J11: =F11/C11*100 -> 17.355378
B12: Mayo | C12: =SUMIFS(Dato,Categoria,aux!$C$5,Año,$B$4,Mes,aux!$B6,Regimen,C$5) -> 32.089344 | D12: =SUMIFS(Dato,Categoria,aux!$C$5,Año,$B$4,Mes,aux!$B6,Regimen,D$5) -> 25.602713 | E12: =SUMIFS(Dato,Categoria,aux!$C$5,Año,$B$4,Mes,aux!$B6,Regimen,E$5) -> 0.91740377 | F12: =SUMIFS(Dato,Categoria,aux!$C$5,Año,$B$4,Mes,aux!$B6,Regimen,F$5) -> 5.5692268 | G12: =E12+F12 -> 6.4866306 | H12: =(E12+F12)/D12*100 -> 25.335715 | I12: =E12/C12*100 -> 2.8589047 | J12: =F12/C12*100 -> 17.355378
B13: Junio | C13: =SUMIFS(Dato,Categoria,aux!$C$5,Año,$B$4,Mes,aux!$B7,Regimen,C$5) -> 33.328525 | D13: =SUMIFS(Dato,Categoria,aux!$C$5,Año,$B$4,Mes,aux!$B7,Regimen,D$5) -> 26.595042 | E13: =SUMIFS(Dato,Categoria,aux!$C$5,Año,$B$4,Mes,aux!$B7,Regimen,E$5) -> 0.94919284 | F13: =SUMIFS(Dato,Categoria,aux!$C$5,Año,$B$4,Mes,aux!$B7,Regimen,F$5) -> 5.7842904 | G13: =E13+F13 -> 6.7334832 | H13: =(E13+F13)/D13*100 -> 25.318566 | I13: =E13/C13*100 -> 2.8479893 | J13: =F13/C13*100 -> 17.355375
B14: Julio | C14: =SUMIFS(Dato,Categoria,aux!$C$5,Año,$B$4,Mes,aux!$B8,Regimen,C$5) -> 32.432031 | D14: =SUMIFS(Dato,Categoria,aux!$C$5,Año,$B$4,Mes,aux!$B8,Regimen,D$5) -> 27.756877 | E14: =SUMIFS(Dato,Categoria,aux!$C$5,Año,$B$4,Mes,aux!$B8,Regimen,E$5) -> 1.2910733 | F14: =SUMIFS(Dato,Categoria,aux!$C$5,Año,$B$4,Mes,aux!$B8,Regimen,F$5) -> 3.3840807 | G14: =E14+F14 -> 4.6751541 | H14: =(E14+F14)/D14*100 -> 16.843228 | I14: =E14/C14*100 -> 3.9808587 | J14: =F14/C14*100 -> 10.434378
B15: Agosto | C15: =SUMIFS(Dato,Categoria,aux!$C$5,Año,$B$4,Mes,aux!$B9,Regimen,C$5) -> 37.122442 | D15: =SUMIFS(Dato,Categoria,aux!$C$5,Año,$B$4,Mes,aux!$B9,Regimen,D$5) -> 31.755609 | E15: =SUMIFS(Dato,Categoria,aux!$C$5,Año,$B$4,Mes,aux!$B9,Regimen,E$5) -> 1.4933319 | F15: =SUMIFS(Dato,Categoria,aux!$C$5,Año,$B$4,Mes,aux!$B9,Regimen,F$5) -> 3.8735005 | G15: =E15+F15 -> 5.3668324 | H15: =(E15+F15)/D15*100 -> 16.900423 | I15: =E15/C15*100 -> 4.02272 | J15: =F15/C15*100 -> 10.43439
B16: Septiembre | C16: =SUMIFS(Dato,Categoria,aux!$C$5,Año,$B$4,Mes,aux!$B10,Regimen,C$5) -> 36.935492 | D16: =SUMIFS(Dato,Categoria,aux!$C$5,Año,$B$4,Mes,aux!$B10,Regimen,D$5) -> 31.585743 | E16: =SUMIFS(Dato,Categoria,aux!$C$5,Año,$B$4,Mes,aux!$B10,Regimen,E$5) -> 1.4957531 | F16: =SUMIFS(Dato,Categoria,aux!$C$5,Año,$B$4,Mes,aux!$B10,Regimen,F$5) -> 3.8539951 | G16: =E16+F16 -> 5.3497482 | H16: =(E16+F16)/D16*100 -> 16.937224 | I16: =E16/C16*100 -> 4.0496363 | J16: =F16/C16*100 -> 10.434395
B17: Octubre | C17: =SUMIFS(Dato,Categoria,aux!$C$5,Año,$B$4,Mes,aux!$B11,Regimen,C$5) -> 35.151413 | D17: =SUMIFS(Dato,Categoria,aux!$C$5,Año,$B$4,Mes,aux!$B11,Regimen,D$5) -> 30.053718 | E17: =SUMIFS(Dato,Categoria,aux!$C$5,Año,$B$4,Mes,aux!$B11,Regimen,E$5) -> 1.4298552 | F17: =SUMIFS(Dato,Categoria,aux!$C$5,Año,$B$4,Mes,aux!$B11,Regimen,F$5) -> 3.6678402 | G17: =E17+F17 -> 5.0976954 | H17: =(E17+F17)/D17*100 -> 16.961946 | I17: =E17/C17*100 -> 4.0677034 | J17: =F17/C17*100 -> 10.434403
B18: Noviembre | C18: =SUMIFS(Dato,Categoria,aux!$C$5,Año,$B$4,Mes,aux!$B12,Regimen,C$5) -> 33.982681 | D18: =SUMIFS(Dato,Categoria,aux!$C$5,Año,$B$4,Mes,aux!$B12,Regimen,D$5) -> 29.084811 | E18: =SUMIFS(Dato,Categoria,aux!$C$5,Año,$B$4,Mes,aux!$B12,Regimen,E$5) -> 1.3519884 | F18: =SUMIFS(Dato,Categoria,aux!$C$5,Año,$B$4,Mes,aux!$B12,Regimen,F$5) -> 3.545882 | G18: =E18+F18 -> 4.8978704 | H18: =(E18+F18)/D18*100 -> 16.83996 | I18: =E18/C18*100 -> 3.9784632 | J18: =F18/C18*100 -> 10.43438
B19: Diciembre | C19: =SUMIFS(Dato,Categoria,aux!$C$5,Año,$B$4,Mes,aux!$B13,Regimen,C$5) -> 38.74019 | D19: =SUMIFS(Dato,Categoria,aux!$C$5,Año,$B$4,Mes,aux!$B13,Regimen,D$5) -> 33.147007 | E19: =SUMIFS(Dato,Categoria,aux!$C$5,Año,$B$4,Mes,aux!$B13,Regimen,E$5) -> 1.5508794 | F19: =SUMIFS(Dato,Categoria,aux!$C$5,Año,$B$4,Mes,aux!$B13,Regimen,F$5) -> 4.0423036 | G19: =E19+F19 -> 5.593183 | H19: =(E19+F19)/D19*100 -> 16.87387 | I19: =E19/C19*100 -> 4.003283 | J19: =F19/C19*100 -> 10.434393

Sheet 7
B2: TABLA 7
B3: RECAUDACIÓN DE LOS PAÍSES DE LA UNIÓN EUROPEA
B4: (En millones de euros)
B5: País | C5: =D5-1 -> 2021 | D5: =E5-1 -> 2022 | E5: 2023 | F5: =CONCATENATE("% s/Total "&E5) -> % s/Total 2023
B6: Total | C6: =IF(C$5<2020,SUM(C7:C34),SUM(C7:C33)) -> 46340.7 | D6: =IF(D$5<2020,SUM(D7:D34),SUM(D7:D33)) -> 35891.962 | E6: =IF(E$5<2020,SUM(E7:E34),SUM(E7:E33)) -> 49794338 | F6: =IFERROR(E6/$E$6*100,"") -> 100
B7: Alemania | C7: =IF(SUMIFS(Dato,Categoria,aux!$C$9,Año,C$5,Pais,aux!$I2)=0,"",SUMIFS(Dato,Categoria,aux!$C$9,Año,C$5,Pais,aux!$I2)) -> 13382.62 | D7: =IF(SUMIFS(Dato,Categoria,aux!$C$9,Año,D$5,Pais,aux!$I2)=0,"",SUMIFS(Dato,Categoria,aux!$C$9,Año,D$5,Pais,aux!$I2)) -> 13660.64 | E7: =IF(SUMIFS(Dato,Categoria,aux!$C$9,Año,E$5,Pais,aux!$I2)=0,"",SUMIFS(Dato,Categoria,aux!$C$9,Año,E$5,Pais,aux!$I2)) -> 13663.82 | F7: =IFERROR(E7/$E$6*100,"") -> 0.02744051
B8: Austria* | C8: =IF(SUMIFS(Dato,Categoria,aux!$C$9,Año,C$5,Pais,aux!$I3)=0,"",SUMIFS(Dato,Categoria,aux!$C$9,Año,C$5,Pais,aux!$I3)) | D8: =IF(SUMIFS(Dato,Categoria,aux!$C$9,Año,D$5,Pais,aux!$I3)=0,"",SUMIFS(Dato,Categoria,aux!$C$9,Año,D$5,Pais,aux!$I3)) | E8: =IF(SUMIFS(Dato,Categoria,aux!$C$9,Año,E$5,Pais,aux!$I3)=0,"",SUMIFS(Dato,Categoria,aux!$C$9,Año,E$5,Pais,aux!$I3)) | F8: =IFERROR(E8/$E$6*100,"")
B9: Bélgica | C9: =IF(SUMIFS(Dato,Categoria,aux!$C$9,Año,C$5,Pais,aux!$I4)=0,"",SUMIFS(Dato,Categoria,aux!$C$9,Año,C$5,Pais,aux!$I4)) -> 90.86 | D9: =IF(SUMIFS(Dato,Categoria,aux!$C$9,Año,D$5,Pais,aux!$I4)=0,"",SUMIFS(Dato,Categoria,aux!$C$9,Año,D$5,Pais,aux!$I4)) -> 720.46 | E9: =IF(SUMIFS(Dato,Categoria,aux!$C$9,Año,E$5,Pais,aux!$I4)=0,"",SUMIFS(Dato,Categoria,aux!$C$9,Año,E$5,Pais,aux!$I4)) -> 1054.08 | F9: =IFERROR(E9/$E$6*100,"") -> 0.0021168672
B10: Bulgaria | C10: =IF(SUMIFS(Dato,Categoria,aux!$C$9,Año,C$5,Pais,aux!$I5)=0,"",SUMIFS(Dato,Categoria,aux!$C$9,Año,C$5,Pais,aux!$I5)) -> 35.82 | D10: =IF(SUMIFS(Dato,Categoria,aux!$C$9,Año,D$5,Pais,aux!$I5)=0,"",SUMIFS(Dato,Categoria,aux!$C$9,Año,D$5,Pais,aux!$I5)) -> 35.8 | E10: =IF(SUMIFS(Dato,Categoria,aux!$C$9,Año,E$5,Pais,aux!$I5)=0,"",SUMIFS(Dato,Categoria,aux!$C$9,Año,E$5,Pais,aux!$I5)) -> 33.7048 | F10: =IFERROR(E10/$E$6*100,"") -> 6.7688018e-05
B11: Chipre | C11: =IF(SUMIFS(Dato,Categoria,aux!$C$9,Año,C$5,Pais,aux!$I6)=0,"",SUMIFS(Dato,Categoria,aux!$C$9,Año,C$5,Pais,aux!$I6)) | D11: =IF(SUMIFS(Dato,Categoria,aux!$C$9,Año,D$5,Pais,aux!$I6)=0,"",SUMIFS(Dato,Categoria,aux!$C$9,Año,D$5,Pais,aux!$I6)) | E11: =IF(SUMIFS(Dato,Categoria,aux!$C$9,Año,E$5,Pais,aux!$I6)=0,"",SUMIFS(Dato,Categoria,aux!$C$9,Año,E$5,Pais,aux!$I6)) | F11: =IFERROR(E11/$E$6*100,"")
B12: Croacia | C12: =IF(SUMIFS(Dato,Categoria,aux!$C$9,Año,C$5,Pais,aux!$I7)=0,"",SUMIFS(Dato,Categoria,aux!$C$9,Año,C$5,Pais,aux!$I7)) -> 9.7 | D12: =IF(SUMIFS(Dato,Categoria,aux!$C$9,Año,D$5,Pais,aux!$I7)=0,"",SUMIFS(Dato,Categoria,aux!$C$9,Año,D$5,Pais,aux!$I7)) -> 9.7 | E12: =IF(SUMIFS(Dato,Categoria,aux!$C$9,Año,E$5,Pais,aux!$I7)=0,"",SUMIFS(Dato,Categoria,aux!$C$9,Año,E$5,Pais,aux!$I7)) -> 9.54 | F12: =IFERROR(E12/$E$6*100,"") -> 1.9158805e-05
B13: Dinamarca | C13: =IF(SUMIFS(Dato,Categoria,aux!$C$9,Año,C$5,Pais,aux!$I8)=0,"",SUMIFS(Dato,Categoria,aux!$C$9,Año,C$5,Pais,aux!$I8)) -> 3057.6 | D13: =IF(SUMIFS(Dato,Categoria,aux!$C$9,Año,D$5,Pais,aux!$I8)=0,"",SUMIFS(Dato,Categoria,aux!$C$9,Año,D$5,Pais,aux!$I8)) -> 2576.76 | E13: =IF(SUMIFS(Dato,Categoria,aux!$C$9,Año,E$5,Pais,aux!$I8)=0,"",SUMIFS(Dato,Categoria,aux!$C$9,Año,E$5,Pais,aux!$I8)) -> 988.8532 | F13: =IFERROR(E13/$E$6*100,"") -> 0.0019858748
B14: Eslovaquia | C14: =IF(SUMIFS(Dato,Categoria,aux!$C$9,Año,C$5,Pais,aux!$I9)=0,"",SUMIFS(Dato,Categoria,aux!$C$9,Año,C$5,Pais,aux!$I9)) -> 20.03 | D14: =IF(SUMIFS(Dato,Categoria,aux!$C$9,Año,D$5,Pais,aux!$I9)=0,"",SUMIFS(Dato,Categoria,aux!$C$9,Año,D$5,Pais,aux!$I9)) -> 23.194 | E14: =IF(SUMIFS(Dato,Categoria,aux!$C$9,Año,E$5,Pais,aux!$I9)=0,"",SUMIFS(Dato,Categoria,aux!$C$9,Año,E$5,Pais,aux!$I9)) -> 26.276 | F14: =IFERROR(E14/$E$6*100,"") -> 5.2769052e-05
B15: Eslovenia | C15: =IF(SUMIFS(Dato,Categoria,aux!$C$9,Año,C$5,Pais,aux!$I10)=0,"",SUMIFS(Dato,Categoria,aux!$C$9,Año,C$5,Pais,aux!$I10)) -> 64.64 | D15: =IF(SUMIFS(Dato,Categoria,aux!$C$9,Año,D$5,Pais,aux!$I10)=0,"",SUMIFS(Dato,Categoria,aux!$C$9,Año,D$5,Pais,aux!$I10)) -> 34.64 | E15: =IF(SUMIFS(Dato,Categoria,aux!$C$9,Año,E$5,Pais,aux!$I10)=0,"",SUMIFS(Dato,Categoria,aux!$C$9,Año,E$5,Pais,aux!$I10)) -> 30.92 | F15: =IFERROR(E15/$E$6*100,"") -> 6.2095414e-05
B16: España | C16: =IF(SUMIFS(Dato,Categoria,aux!$C$9,Año,C$5,Pais,aux!$I11)=0,"",SUMIFS(Dato,Categoria,aux!$C$9,Año,C$5,Pais,aux!$I11)) -> 1966.6 | D16: =IF(SUMIFS(Dato,Categoria,aux!$C$9,Año,D$5,Pais,aux!$I11)=0,"",SUMIFS(Dato,Categoria,aux!$C$9,Año,D$5,Pais,aux!$I11)) -> 369.02 | E16: =IF(SUMIFS(Dato,Categoria,aux!$C$9,Año,E$5,Pais,aux!$I11)=0,"",SUMIFS(Dato,Categoria,aux!$C$9,Año,E$5,Pais,aux!$I11)) -> 370.98 | F16: =IFERROR(E16/$E$6*100,"") -> 0.00074502447
B17: Estonia | C17: =IF(SUMIFS(Dato,Categoria,aux!$C$9,Año,C$5,Pais,aux!$I12)=0,"",SUMIFS(Dato,Categoria,aux!$C$9,Año,C$5,Pais,aux!$I12)) -> 16.92 | D17: =IF(SUMIFS(Dato,Categoria,aux!$C$9,Año,D$5,Pais,aux!$I12)=0,"",SUMIFS(Dato,Categoria,aux!$C$9,Año,D$5,Pais,aux!$I12)) -> 15.86 | E17: =IF(SUMIFS(Dato,Categoria,aux!$C$9,Año,E$5,Pais,aux!$I12)=0,"",SUMIFS(Dato,Categoria,aux!$C$9,Año,E$5,Pais,aux!$I12)) -> 15.38 | F17: =IFERROR(E17/$E$6*100,"") -> 3.0887046e-05
B18: Finlandia | C18: =IF(SUMIFS(Dato,Categoria,aux!$C$9,Año,C$5,Pais,aux!$I13)=0,"",SUMIFS(Dato,Categoria,aux!$C$9,Año,C$5,Pais,aux!$I13)) -> 1772.72 | D18: =IF(SUMIFS(Dato,Categoria,aux!$C$9,Año,D$5,Pais,aux!$I13)=0,"",SUMIFS(Dato,Categoria,aux!$C$9,Año,D$5,Pais,aux!$I13)) -> 1914.12 | E18: =IF(SUMIFS(Dato,Categoria,aux!$C$9,Año,E$5,Pais,aux!$I13)=0,"",SUMIFS(Dato,Categoria,aux!$C$9,Año,E$5,Pais,aux!$I13)) -> 1720 | F18: =IFERROR(E18/$E$6*100,"") -> 0.003454208
... B34: Reino Unido | C34: =IF(SUMIFS(Dato,Categoria,aux!$C$9,Año,C$5,Pais,aux!$I29)=0,"",SUMIFS(Dato,Categoria,aux!$C$9,Año,C$5,Pais,aux!$I29)) | D34: =IF(SUMIFS(Dato,Categoria,aux!$C$9,Año,D$5,Pais,aux!$I29)=0,"",SUMIFS(Dato,Categoria,aux!$C$9,Año,D$5,Pais,aux!$I29)) | E34: =IF(SUMIFS(Dato,Categoria,aux!$C$9,Año,E$5,Pais,aux!$I29)=0,"",SUMIFS(Dato,Categoria,aux!$C$9,Año,E$5,Pais,aux!$I29)) | F34: =IFERROR(E34/$E$6*100,"")
B35: Austria: No se dispone de la recaudación ya que el dato se proporciona de manera agregada con la recaudación de los impuestos sobre el gas natural y el carbón.
B36: Francia: La recaudación correspondiente al ejercicio 2023 todavía no se ha publicado en la fuente de datos original.

Sheet 9
B2: TABLA 9
B3: TIPOS IMPOSITIVOS APLICABLES EN EL IMPUESTO SOBRE LA ELECTRICIDAD EN LA UNIÓN EUROPEA
B4: 2023
B5: País | C5: Consumo Industrial | D5: Consumo Doméstico | E5: IVA
C6: euros/MWh | D6: euros/MWh | E6: %
B7: Mínimo UE | C7: =IF(SUMIFS(Dato,Año,$B$4,Categoria,aux!$C$11,Pais,aux!$I$30,Regimen,C$5)=0,"",SUMIFS(Dato,Año,$B$4,Categoria,aux!$C$11,Pais,aux!$I$30,Regimen,C$5)) -> 1 | D7: =IF(SUMIFS(Dato,Año,$B$4,Categoria,aux!$C$11,Pais,aux!$I$30,Regimen,D$5)=0,"",SUMIFS(Dato,Año,$B$4,Categoria,aux!$C$11,Pais,aux!$I$30,Regimen,D$5)) -> 2 | E7: =IF(SUMIFS(Dato,Año,$B$4,Categoria,aux!$C$11,Pais,aux!$I$30,Regimen,E$5)=0,"",SUMIFS(Dato,Año,$B$4,Categoria,aux!$C$11,Pais,aux!$I$30,Regimen,E$5))
B8: Alemania | C8: =IF(SUMIFS(Dato,Año,$B$4,Categoria,aux!$C$11,Pais,aux!$I2,Regimen,C$5)=0,"",SUMIFS(Dato,Año,$B$4,Categoria,aux!$C$11,Pais,aux!$I2,Regimen,C$5)) -> 30.74 | D8: =IF(SUMIFS(Dato,Año,$B$4,Categoria,aux!$C$11,Pais,aux!$I2,Regimen,D$5)=0,"",SUMIFS(Dato,Año,$B$4,Categoria,aux!$C$11,Pais,aux!$I2,Regimen,D$5)) -> 41 | E8: =IF(SUMIFS(Dato,Año,$B$4,Categoria,aux!$C$11,Pais,aux!$I2,Regimen,E$5)=0,"",SUMIFS(Dato,Año,$B$4,Categoria,aux!$C$11,Pais,aux!$I2,Regimen,E$5)) -> 38
B9: Austria | C9: =IF(SUMIFS(Dato,Año,$B$4,Categoria,aux!$C$11,Pais,aux!$I3,Regimen,C$5)=0,"",SUMIFS(Dato,Año,$B$4,Categoria,aux!$C$11,Pais,aux!$I3,Regimen,C$5)) -> 2 | D9: =IF(SUMIFS(Dato,Año,$B$4,Categoria,aux!$C$11,Pais,aux!$I3,Regimen,D$5)=0,"",SUMIFS(Dato,Año,$B$4,Categoria,aux!$C$11,Pais,aux!$I3,Regimen,D$5)) -> 2 | E9: =IF(SUMIFS(Dato,Año,$B$4,Categoria,aux!$C$11,Pais,aux!$I3,Regimen,E$5)=0,"",SUMIFS(Dato,Año,$B$4,Categoria,aux!$C$11,Pais,aux!$I3,Regimen,E$5)) -> 40
B10: Bélgica | C10: =IF(SUMIFS(Dato,Año,$B$4,Categoria,aux!$C$11,Pais,aux!$I4,Regimen,C$5)=0,"",SUMIFS(Dato,Año,$B$4,Categoria,aux!$C$11,Pais,aux!$I4,Regimen,C$5)) -> 1 | D10: =IF(SUMIFS(Dato,Año,$B$4,Categoria,aux!$C$11,Pais,aux!$I4,Regimen,D$5)=0,"",SUMIFS(Dato,Año,$B$4,Categoria,aux!$C$11,Pais,aux!$I4,Regimen,D$5)) -> 5.8522 | E10: =IF(SUMIFS(Dato,Año,$B$4,Categoria,aux!$C$11,Pais,aux!$I4,Regimen,E$5)=0,"",SUMIFS(Dato,Año,$B$4,Categoria,aux!$C$11,Pais,aux!$I4,Regimen,E$5)) -> 42
B11: Bulgaria | C11: =IF(SUMIFS(Dato,Año,$B$4,Categoria,aux!$C$11,Pais,aux!$I5,Regimen,C$5)=0,"",SUMIFS(Dato,Año,$B$4,Categoria,aux!$C$11,Pais,aux!$I5,Regimen,C$5)) -> 2.0452 | D11: =IF(SUMIFS(Dato,Año,$B$4,Categoria,aux!$C$11,Pais,aux!$I5,Regimen,D$5)=0,"",SUMIFS(Dato,Año,$B$4,Categoria,aux!$C$11,Pais,aux!$I5,Regimen,D$5)) | E11: =IF(SUMIFS(Dato,Año,$B$4,Categoria,aux!$C$11,Pais,aux!$I5,Regimen,E$5)=0,"",SUMIFS(Dato,Año,$B$4,Categoria,aux!$C$11,Pais,aux!$I5,Regimen,E$5)) -> 40
B12: Chipre | C12: =IF(SUMIFS(Dato,Año,$B$4,Categoria,aux!$C$11,Pais,aux!$I6,Regimen,C$5)=0,"",SUMIFS(Dato,Año,$B$4,Categoria,aux!$C$11,Pais,aux!$I6,Regimen,C$5)) -> 10 | D12: =IF(SUMIFS(Dato,Año,$B$4,Categoria,aux!$C$11,Pais,aux!$I6,Regimen,D$5)=0,"",SUMIFS(Dato,Año,$B$4,Categoria,aux!$C$11,Pais,aux!$I6,Regimen,D$5)) -> 10 | E12: =IF(SUMIFS(Dato,Año,$B$4,Categoria,aux!$C$11,Pais,aux!$I6,Regimen,E$5)=0,"",SUMIFS(Dato,Año,$B$4,Categoria,aux!$C$11,Pais,aux!$I6,Regimen,E$5)) -> 38
B13: Croacia | C13: =IF(SUMIFS(Dato,Año,$B$4,Categoria,aux!$C$11,Pais,aux!$I7,Regimen,C$5)=0,"",SUMIFS(Dato,Año,$B$4,Categoria,aux!$C$11,Pais,aux!$I7,Regimen,C$5)) -> 1 | D13: =IF(SUMIFS(Dato,Año,$B$4,Categoria,aux!$C$11,Pais,aux!$I7,Regimen,D$5)=0,"",SUMIFS(Dato,Año,$B$4,Categoria,aux!$C$11,Pais,aux!$I7,Regimen,D$5)) -> 2 | E13: =IF(SUMIFS(Dato,Año,$B$4,Categoria,aux!$C$11,Pais,aux!$I7,Regimen,E$5)=0,"",SUMIFS(Dato,Año,$B$4,Categoria,aux!$C$11,Pais,aux!$I7,Regimen,E$5)) -> 50
B14: Dinamarca | C14: =IF(SUMIFS(Dato,Año,$B$4,Categoria,aux!$C$11,Pais,aux!$I8,Regimen,C$5)=0,"",SUMIFS(Dato,Año,$B$4,Categoria,aux!$C$11,Pais,aux!$I8,Regimen,C$5)) -> 1.0758 | D14: =IF(SUMIFS(Dato,Año,$B$4,Categoria,aux!$C$11,Pais,aux!$I8,Regimen,D$5)=0,"",SUMIFS(Dato,Año,$B$4,Categoria,aux!$C$11,Pais,aux!$I8,Regimen,D$5)) -> 2.1516 | E14: =IF(SUMIFS(Dato,Año,$B$4,Categoria,aux!$C$11,Pais,aux!$I8,Regimen,E$5)=0,"",SUMIFS(Dato,Año,$B$4,Categoria,aux!$C$11,Pais,aux!$I8,Regimen,E$5)) -> 50
B15: Eslovaquia | C15: =IF(SUMIFS(Dato,Año,$B$4,Categoria,aux!$C$11,Pais,aux!$I9,Regimen,C$5)=0,"",SUMIFS(Dato,Año,$B$4,Categoria,aux!$C$11,Pais,aux!$I9,Regimen,C$5)) -> 2.64 | D15: =IF(SUMIFS(Dato,Año,$B$4,Categoria,aux!$C$11,Pais,aux!$I9,Regimen,D$5)=0,"",SUMIFS(Dato,Año,$B$4,Categoria,aux!$C$11,Pais,aux!$I9,Regimen,D$5)) -> 2.64 | E15: =IF(SUMIFS(Dato,Año,$B$4,Categoria,aux!$C$11,Pais,aux!$I9,Regimen,E$5)=0,"",SUMIFS(Dato,Año,$B$4,Categoria,aux!$C$11,Pais,aux!$I9,Regimen,E$5)) -> 40
B16: Eslovenia | C16: =IF(SUMIFS(Dato,Año,$B$4,Categoria,aux!$C$11,Pais,aux!$I10,Regimen,C$5)=0,"",SUMIFS(Dato,Año,$B$4,Categoria,aux!$C$11,Pais,aux!$I10,Regimen,C$5)) -> 4.65 | D16: =IF(SUMIFS(Dato,Año,$B$4,Categoria,aux!$C$11,Pais,aux!$I10,Regimen,D$5)=0,"",SUMIFS(Dato,Año,$B$4,Categoria,aux!$C$11,Pais,aux!$I10,Regimen,D$5)) -> 4.65 | E16: =IF(SUMIFS(Dato,Año,$B$4,Categoria,aux!$C$11,Pais,aux!$I10,Regimen,E$5)=0,"",SUMIFS(Dato,Año,$B$4,Categoria,aux!$C$11,Pais,aux!$I10,Regimen,E$5)) -> 44
B17: España | C17: =IF(SUMIFS(Dato,Año,$B$4,Categoria,aux!$C$11,Pais,aux!$I11,Regimen,C$5)=0,"",SUMIFS(Dato,Año,$B$4,Categoria,aux!$C$11,Pais,aux!$I11,Regimen,C$5)) -> 1.76 | D17: =IF(SUMIFS(Dato,Año,$B$4,Categoria,aux!$C$11,Pais,aux!$I11,Regimen,D$5)=0,"",SUMIFS(Dato,Año,$B$4,Categoria,aux!$C$11,Pais,aux!$I11,Regimen,D$5)) -> 2.58 | E17: =IF(SUMIFS(Dato,Año,$B$4,Categoria,aux!$C$11,Pais,aux!$I11,Regimen,E$5)=0,"",SUMIFS(Dato,Año,$B$4,Categoria,aux!$C$11,Pais,aux!$I11,Regimen,E$5)) -> 42
B18: Estonia | C18: =IF(SUMIFS(Dato,Año,$B$4,Categoria,aux!$C$11,Pais,aux!$I12,Regimen,C$5)=0,"",SUMIFS(Dato,Año,$B$4,Categoria,aux!$C$11,Pais,aux!$I12,Regimen,C$5)) -> 2 | D18: =IF(SUMIFS(Dato,Año,$B$4,Categoria,aux!$C$11,Pais,aux!$I12,Regimen,D$5)=0,"",SUMIFS(Dato,Año,$B$4,Categoria,aux!$C$11,Pais,aux!$I12,Regimen,D$5)) -> 2 | E18: =IF(SUMIFS(Dato,Año,$B$4,Categoria,aux!$C$11,Pais,aux!$I12,Regimen,E$5)=0,"",SUMIFS(Dato,Año,$B$4,Categoria,aux!$C$11,Pais,aux!$I12,Regimen,E$5)) -> 40
B19: Finlandia | C19: =IF(SUMIFS(Dato,Año,$B$4,Categoria,aux!$C$11,Pais,aux!$I13,Regimen,C$5)=0,"",SUMIFS(Dato,Año,$B$4,Categoria,aux!$C$11,Pais,aux!$I13,Regimen,C$5)) -> 1.26 | D19: =IF(SUMIFS(Dato,Año,$B$4,Categoria,aux!$C$11,Pais,aux!$I13,Regimen,D$5)=0,"",SUMIFS(Dato,Año,$B$4,Categoria,aux!$C$11,Pais,aux!$I13,Regimen,D$5)) -> 45.06 | E19: =IF(SUMIFS(Dato,Año,$B$4,Categoria,aux!$C$11,Pais,aux!$I13,Regimen,E$5)=0,"",SUMIFS(Dato,Año,$B$4,Categoria,aux!$C$11,Pais,aux!$I13,Regimen,E$5)) -> 48
... B35: Reino Unido | C35: =IF(SUMIFS(Dato,Año,$B$4,Categoria,aux!$C$11,Pais,aux!$I29,Regimen,C$5)=0,"",SUMIFS(Dato,Año,$B$4,Categoria,aux!$C$11,Pais,aux!$I29,Regimen,C$5)) | D35: =IF(SUMIFS(Dato,Año,$B$4,Categoria,aux!$C$11,Pais,aux!$I29,Regimen,D$5)=0,"",SUMIFS(Dato,Año,$B$4,Categoria,aux!$C$11,Pais,aux!$I29,Regimen,D$5)) | E35: =IF(SUMIFS(Dato,Año,$B$4,Categoria,aux!$C$11,Pais,aux!$I29,Regimen,E$5)=0,"",SUMIFS(Dato,Año,$B$4,Categoria,aux!$C$11,Pais,aux!$I29,Regimen,E$5))
B36: Nota: Una casilla vacía indica que el dato no está disponible

Sheet 10
B2: TABLA 10
B3: PRECIO Y FISCALIDAD UNITARIA DE LA UNIÓN EUROPEA
B4: (En céntimos de euro por kWh, salvo indicación)
B5: 2023
B6: TARIFA DOMÉSTICA
B7: País | C7: P.V.P. | D7: Precio antes de Impuestos | E7: IVA | F7: IE | G7: Carga Fiscal | H7: Presión Fiscal (%)
B8: Media UE | C8: =IF($B$5<2020,AVERAGE(C9:C36),AVERAGE(C9:C35)) -> 49.667407 | D8: =IF($B$5<2020,AVERAGE(D9:D36),AVERAGE(D9:D35)) -> 40.811111 | E8: =IF($B$5<2020,AVERAGE(E9:E36),AVERAGE(E9:E35)) -> 7.0496296 | F8: =IF($B$5<2020,AVERAGE(F9:F36),AVERAGE(F9:F35)) -> 1.8066667 | G8: =E8+F8 -> 8.8562963 | H8: =IFERROR((E8+F8)/C8,"") -> 0.17831203
B9: Alemania | C9: =SUMIFS(Dato,Categoria,aux!$C$6,Pais,aux!$I2,Año,$B$5,Regimen,C$7,Producto,$B$6) -> 80.4 | D9: =SUMIFS(Dato,Categoria,aux!$C$6,Pais,aux!$I2,Año,$B$5,Regimen,D$7,Producto,$B$6) -> 57.64 | E9: =SUMIFS(Dato,Categoria,aux!$C$6,Pais,aux!$I2,Año,$B$5,Regimen,E$7,Producto,$B$6) -> 12.82 | F9: =SUMIFS(Dato,Categoria,aux!$C$6,Pais,aux!$I2,Año,$B$5,Regimen,F$7,Producto,$B$6) -> 9.94 | G9: =E9+F9 -> 22.76 | H9: =IFERROR((E9+F9)/C9,"") -> 0.28308458
B10: Austria | C10: =SUMIFS(Dato,Categoria,aux!$C$6,Pais,aux!$I3,Año,$B$5,Regimen,C$7,Producto,$B$6) -> 54.96 | D10: =SUMIFS(Dato,Categoria,aux!$C$6,Pais,aux!$I3,Año,$B$5,Regimen,D$7,Producto,$B$6) -> 59.8 | E10: =SUMIFS(Dato,Categoria,aux!$C$6,Pais,aux!$I3,Año,$B$5,Regimen,E$7,Producto,$B$6) -> 9.16 | F10: =SUMIFS(Dato,Categoria,aux!$C$6,Pais,aux!$I3,Año,$B$5,Regimen,F$7,Producto,$B$6) -> -14 | G10: =E10+F10 -> -4.84 | H10: =IFERROR((E10+F10)/C10,"") -> -0.088064047
B11: Bélgica | C11: =SUMIFS(Dato,Categoria,aux!$C$6,Pais,aux!$I4,Año,$B$5,Regimen,C$7,Producto,$B$6) -> 75.56 | D11: =SUMIFS(Dato,Categoria,aux!$C$6,Pais,aux!$I4,Año,$B$5,Regimen,D$7,Producto,$B$6) -> 55.86 | E11: =SUMIFS(Dato,Categoria,aux!$C$6,Pais,aux!$I4,Año,$B$5,Regimen,E$7,Producto,$B$6) -> 4.22 | F11: =SUMIFS(Dato,Categoria,aux!$C$6,Pais,aux!$I4,Año,$B$5,Regimen,F$7,Producto,$B$6) -> 15.48 | G11: =E11+F11 -> 19.7 | H11: =IFERROR((E11+F11)/C11,"") -> 0.26071996
B12: Bulgaria | C12: =SUMIFS(Dato,Categoria,aux!$C$6,Pais,aux!$I5,Año,$B$5,Regimen,C$7,Producto,$B$6) -> 23.84 | D12: =SUMIFS(Dato,Categoria,aux!$C$6,Pais,aux!$I5,Año,$B$5,Regimen,D$7,Producto,$B$6) -> 19.86 | E12: =SUMIFS(Dato,Categoria,aux!$C$6,Pais,aux!$I5,Año,$B$5,Regimen,E$7,Producto,$B$6) -> 3.98 | F12: =SUMIFS(Dato,Categoria,aux!$C$6,Pais,aux!$I5,Año,$B$5,Regimen,F$7,Producto,$B$6) -> 0 | G12: =E12+F12 -> 3.98 | H12: =IFERROR((E12+F12)/C12,"") -> 0.16694631
B13: Chipre | C13: =SUMIFS(Dato,Categoria,aux!$C$6,Pais,aux!$I6,Año,$B$5,Regimen,C$7,Producto,$B$6) -> 69.04 | D13: =SUMIFS(Dato,Categoria,aux!$C$6,Pais,aux!$I6,Año,$B$5,Regimen,D$7,Producto,$B$6) -> 41.98 | E13: =SUMIFS(Dato,Categoria,aux!$C$6,Pais,aux!$I6,Año,$B$5,Regimen,E$7,Producto,$B$6) -> 10.86 | F13: =SUMIFS(Dato,Categoria,aux!$C$6,Pais,aux!$I6,Año,$B$5,Regimen,F$7,Producto,$B$6) -> 16.2 | G13: =E13+F13 -> 27.06 | H13: =IFERROR((E13+F13)/C13,"") -> 0.3919467
B14: Croacia | C14: =SUMIFS(Dato,Categoria,aux!$C$6,Pais,aux!$I7,Año,$B$5,Regimen,C$7,Producto,$B$6) -> 29.6 | D14: =SUMIFS(Dato,Categoria,aux!$C$6,Pais,aux!$I7,Año,$B$5,Regimen,D$7,Producto,$B$6) -> 23.42 | E14: =SUMIFS(Dato,Categoria,aux!$C$6,Pais,aux!$I7,Año,$B$5,Regimen,E$7,Producto,$B$6) -> 3.4 | F14: =SUMIFS(Dato,Categoria,aux!$C$6,Pais,aux!$I7,Año,$B$5,Regimen,F$7,Producto,$B$6) -> 2.78 | G14: =E14+F14 -> 6.18 | H14: =IFERROR((E14+F14)/C14,"") -> 0.20878378
B15: Dinamarca | C15: =SUMIFS(Dato,Categoria,aux!$C$6,Pais,aux!$I8,Año,$B$5,Regimen,C$7,Producto,$B$6) -> 71.08 | D15: =SUMIFS(Dato,Categoria,aux!$C$6,Pais,aux!$I8,Año,$B$5,Regimen,D$7,Producto,$B$6) -> 36.92 | E15: =SUMIFS(Dato,Categoria,aux!$C$6,Pais,aux!$I8,Año,$B$5,Regimen,E$7,Producto,$B$6) -> 14.22 | F15: =SUMIFS(Dato,Categoria,aux!$C$6,Pais,aux!$I8,Año,$B$5,Regimen,F$7,Producto,$B$6) -> 19.94 | G15: =E15+F15 -> 34.16 | H15: =IFERROR((E15+F15)/C15,"") -> 0.48058526
B16: Eslovaquia | C16: =SUMIFS(Dato,Categoria,aux!$C$6,Pais,aux!$I9,Año,$B$5,Regimen,C$7,Producto,$B$6) -> 38.86 | D16: =SUMIFS(Dato,Categoria,aux!$C$6,Pais,aux!$I9,Año,$B$5,Regimen,D$7,Producto,$B$6) -> 24.6 | E16: =SUMIFS(Dato,Categoria,aux!$C$6,Pais,aux!$I9,Año,$B$5,Regimen,E$7,Producto,$B$6) -> 6.48 | F16: =SUMIFS(Dato,Categoria,aux!$C$6,Pais,aux!$I9,Año,$B$5,Regimen,F$7,Producto,$B$6) -> 7.78 | G16: =E16+F16 -> 14.26 | H16: =IFERROR((E16+F16)/C16,"") -> 0.36695831
B17: Eslovenia | C17: =SUMIFS(Dato,Categoria,aux!$C$6,Pais,aux!$I10,Año,$B$5,Regimen,C$7,Producto,$B$6) -> 42.26 | D17: =SUMIFS(Dato,Categoria,aux!$C$6,Pais,aux!$I10,Año,$B$5,Regimen,D$7,Producto,$B$6) -> 32.28 | E17: =SUMIFS(Dato,Categoria,aux!$C$6,Pais,aux!$I10,Año,$B$5,Regimen,E$7,Producto,$B$6) -> 7.62 | F17: =SUMIFS(Dato,Categoria,aux!$C$6,Pais,aux!$I10,Año,$B$5,Regimen,F$7,Producto,$B$6) -> 2.36 | G17: =E17+F17 -> 9.98 | H17: =IFERROR((E17+F17)/C17,"") -> 0.23615712
B18: España | C18: =SUMIFS(Dato,Categoria,aux!$C$6,Pais,aux!$I11,Año,$B$5,Regimen,C$7,Producto,$B$6) -> 46.94 | D18: =SUMIFS(Dato,Categoria,aux!$C$6,Pais,aux!$I11,Año,$B$5,Regimen,D$7,Producto,$B$6) -> 41.36 | E18: =SUMIFS(Dato,Categoria,aux!$C$6,Pais,aux!$I11,Año,$B$5,Regimen,E$7,Producto,$B$6) -> 2.38 | F18: =SUMIFS(Dato,Categoria,aux!$C$6,Pais,aux!$I11,Año,$B$5,Regimen,F$7,Producto,$B$6) -> 3.2 | G18: =E18+F18 -> 5.58 | H18: =IFERROR((E18+F18)/C18,"") -> 0.11887516
B19: Estonia | C19: =SUMIFS(Dato,Categoria,aux!$C$6,Pais,aux!$I12,Año,$B$5,Regimen,C$7,Producto,$B$6) -> 46.78 | D19: =SUMIFS(Dato,Categoria,aux!$C$6,Pais,aux!$I12,Año,$B$5,Regimen,D$7,Producto,$B$6) -> 36.52 | E19: =SUMIFS(Dato,Categoria,aux!$C$6,Pais,aux!$I12,Año,$B$5,Regimen,E$7,Producto,$B$6) -> 7.8 | F19: =SUMIFS(Dato,Categoria,aux!$C$6,Pais,aux!$I12,Año,$B$5,Regimen,F$7,Producto,$B$6) -> 2.46 | G19: =E19+F19 -> 10.26 | H19: =IFERROR((E19+F19)/C19,"") -> 0.2193245
B20: Finlandia | C20: =SUMIFS(Dato,Categoria,aux!$C$6,Pais,aux!$I13,Año,$B$5,Regimen,C$7,Producto,$B$6) -> 48.06 | D20: =SUMIFS(Dato,Categoria,aux!$C$6,Pais,aux!$I13,Año,$B$5,Regimen,D$7,Producto,$B$6) -> 34.24 | E20: =SUMIFS(Dato,Categoria,aux!$C$6,Pais,aux!$I13,Año,$B$5,Regimen,E$7,Producto,$B$6) -> 9.3 | F20: =SUMIFS(Dato,Categoria,aux!$C$6,Pais,aux!$I13,Año,$B$5,Regimen,F$7,Producto,$B$6) -> 4.52 | G20: =E20+F20 -> 13.82 | H20: =IFERROR((E20+F20)/C20,"") -> 0.28755722
... B35: Suecia | C35: =SUMIFS(Dato,Categoria,aux!$C$6,Pais,aux!$I28,Año,$B$5,Regimen,C$7,Producto,$B$6) -> 43.62 | D35: =SUMIFS(Dato,Categoria,aux!$C$6,Pais,aux!$I28,Año,$B$5,Regimen,D$7,Producto,$B$6) -> 28.14 | E35: =SUMIFS(Dato,Categoria,aux!$C$6,Pais,aux!$I28,Año,$B$5,Regimen,E$7,Producto,$B$6) -> 8.74 | F35: =SUMIFS(Dato,Categoria,aux!$C$6,Pais,aux!$I28,Año,$B$5,Regimen,F$7,Producto,$B$6) -> 6.74 | G35: =E35+F35 -> 15.48 | H35: =IFERROR((E35+F35)/C35,"") -> 0.35488308
B36: Reino Unido | C36: =IF(SUMIFS(Dato,Categoria,aux!$C$6,Pais,aux!$I29,Año,$B$5,Regimen,C$7,Producto,$B$6)=0,"",SUMIFS(Dato,Categoria,aux!$C$6,Pais,aux!$I29,Año,$B$5,Regimen,C$7,Producto,$B$6)) | D36: =IF(SUMIFS(Dato,Categoria,aux!$C$6,Pais,aux!$I29,Año,$B$5,Regimen,D$7,Producto,$B$6)=0,"",SUMIFS(Dato,Categoria,aux!$C$6,Pais,aux!$I29,Año,$B$5,Regimen,D$7,Producto,$B$6)) | E36: =IF(SUMIFS(Dato,Categoria,aux!$C$6,Pais,aux!$I29,Año,$B$5,Regimen,E$7,Producto,$B$6)=0,"",SUMIFS(Dato,Categoria,aux!$C$6,Pais,aux!$I29,Año,$B$5,Regimen,E$7,Producto,$B$6)) | F36: =IF(SUMIFS(Dato,Categoria,aux!$C$6,Pais,aux!$I29,Año,$B$5,Regimen,F$7,Producto,$B$6)=0,"",SUMIFS(Dato,Categoria,aux!$C$6,Pais,aux!$I29,Año,$B$5,Regimen,F$7,Producto,$B$6)) | G36: =IFERROR((E36+F36),"") | H36: =IFERROR((E36+F36)/C36,"")
B37: Nota: En el caso de la Tarifa Industrial se trata de IVA repercutido

Sheet aux
A1: Año | B1: Mes | C1: Categoría | D1: Impuesto - Tabla 1 | E1: Categoría - Tabla 1 | F1: Régimen - Tabla 1 | G1: Régimen - Tabla 2 | H1: Producto - Tabla 10 | I1: País
A2: 2024 | B2: ENE | C2: CONSUMO ESPAÑA | D2: IMPUESTO SOBRE LA ELECTRICIDAD | E2: RECAUDACIÓN CAJA | F2: Recaudación bruta | G2: Consumo de electricidad | H2: TARIFA DOMÉSTICA | I2: ALEMANIA
A3: 2023 | B3: FEB | C3: DEVOLUCIONES | D3: IVA REPERCUTIDO | E3: IMPUESTO DEVENGADO | F3: Recaudación neta | G3: Valor de los consumos de electricidad sin IVA | H3: TARIFA INDUSTRIAL | I3: AUSTRIA
A4: 2022 | B4: MAR | C4: IMPUESTO DEVENGADO | F4: Impuesto devengado | G4: Base Imponible | I4: BÉLGICA
A5: 2021 | B5: ABR | C5: PRECIO Y FISCALIDAD UNITARIA | G5: Base Liquidable | I5: BULGARIA
A6: 2020 | B6: MAY | C6: PRECIO Y FISCALIDAD UNITARIA UE | I6: CHIPRE
A7: 2019 | B7: JUN | C7: PRECIOS UE | I7: CROACIA
A8: 2018 | B8: JUL | C8: RECAUDACIÓN CAJA | I8: DINAMARCA
A9: 2017 | B9: AGO | C9: RECAUDACIÓN UE | I9: ESLOVAQUIA
A10: 2016 | B10: SEP | C10: TIPOS ESPAÑA | I10: ESLOVENIA
A11: 2015 | B11: OCT | C11: TIPOS UE | I11: ESPAÑA
A12: 2014 | B12: NOV | I12: ESTONIA
A13: 2013 | B13: DIC | I13: FINLANDIA
A14: 2012 | I14: FRANCIA
A15: 2011 | I15: GRECIA
A16: 2010 | I16: HUNGRÍA
A17: 2009 | I17: IRLANDA
A18: 2008 | I18: ITALIA
A19: 2007 | I19: LETONIA
A20: 2006 | I20: LITUANIA
A21: 2005 | I21: LUXEMBURGO
A22: 2004 | I22: MALTA
A23: 2003 | I23: PAÍSES BAJOS
A24: 2002 | I24: POLONIA
A25: 2001 | I25: PORTUGAL
... A31: 1995 | I31: TOTAL UE
A32: 1994
A33: 1993
A34: 1992
A35: 1991
A36: 1990
A37: 1989
A38: 1988
A39: 1987
A40: 1986
A41: 1985
A42: 1984
A43: 1983
... A46: 1980
