Workbook
Name Print_Area: 'Aliment - 10'!$V$4:$AM$66
Name Print_Area: 'CM combust - 4671'!$V$4:$AM$66
Name Print_Area: 'Comercio mayorista - (467-4671)'!$V$4:$AM$65
Name Print_Area: 'Comercio minorista e.n.e - 471'!$V$4:$AM$66
Name Print_Area: 'Construcción - 41+42+43'!$V$4:$AM$66
Name Print_Area: 'Elec+gas - 35'!$V$4:$AM$66
Name Print_Area: 'Fab vehículos motor - 29'!$V$4:$AM$66
Name Print_Area: 'Ind química - 20'!$V$4:$AM$66
Name Print_Area: 'Refino - 19'!$V$4:$AM$66
Name Print_Area: Total!$V$4:$AM$66
Name Print_Area: 'Total(sin 19, 35, 4671)'!$V$4:$AM$66

Sheet Total
C2: TOTAL
C3: D. Número de empresas | D3: A. Ventas totales | E3: S.1. Ventas - compras | F3: S.2. Indicador de resultado bruto de explotación | G3: A. Ventas y otros ingresos (IS) | H3: S.1. Ventas - compras (IS) | I3: S.2. Resultado bruto de explotación (IS) | L3: Margen Ventas unitario sobre ventas-compras(IVARET) | M3: Margen Ventas unitario (IVARET) | N3: Margen Ventas unitario sobre ventas-compras(IS) | O3: Margen Ventas unitario (IS) | S3: S.2. Indicador RBE (tasa var) | T3: S.2. RBE (tasa var)
B4: 2009 | C4: 898172 | D4: 1473906.6 | E4: 326022.25 | F4: 147220.46 | G4: 1547165 | H4: 369924.06 | I4: 126474.49 | L4: =F4/E4*100 -> 45.156568 | M4: =F4/D4*100 -> 9.9884523 | N4: =I4/H4*100 -> 34.189313 | O4: =I4/G4*100 -> 8.1745965 | R4: 2009
B5: 2010 | C5: 868537 | D5: 1490999.7 | E5: 319861.33 | F5: 150473.09 | G5: 1568789.5 | H5: 362433.93 | I5: 127048.93 | L5: =F5/E5*100 -> 47.043227 | M5: =F5/D5*100 -> 10.092094 | N5: =I5/H5*100 -> 35.054368 | O5: =I5/G5*100 -> 8.0985326 | R5: 2010 | S5: =F5/F4-1 -> 0.022093593 | T5: =I5/I4-1 -> 0.0045418811
B6: 2011 | C6: 891824 | D6: 1494067.8 | E6: 309552 | F6: 134682.12 | G6: 1572753.8 | H6: 336211.84 | I6: 100774.79 | L6: =F6/E6*100 -> 43.508723 | M6: =F6/D6*100 -> 9.0144583 | N6: =I6/H6*100 -> 29.9736 | O6: =I6/G6*100 -> 6.4075376 | R6: 2011 | S6: =F6/F5-1 -> -0.10494213 | T6: =I6/I5-1 -> -0.20680328
B7: 2012 | C7: 870333 | D7: 1426245.4 | E7: 318968.82 | F7: 154509.32 | G7: 1535925.3 | H7: 327962.87 | I7: 106553.1 | L7: =F7/E7*100 -> 48.440258 | M7: =F7/D7*100 -> 10.833292 | N7: =I7/H7*100 -> 32.48938 | O7: =I7/G7*100 -> 6.9373882 | R7: 2012 | S7: =F7/F6-1 -> 0.14721477 | T7: =I7/I6-1 -> 0.057338853
B8: 2013 | C8: 856191 | D8: 1386321.3 | E8: 311194.44 | F8: 153373.93 | G8: 1485036.1 | H8: 308182.57 | I8: 94805.306 | L8: =F8/E8*100 -> 49.285561 | M8: =F8/D8*100 -> 11.063376 | N8: =I8/H8*100 -> 30.762708 | O8: =I8/G8*100 -> 6.3840403 | R8: 2013 | S8: =F8/F7-1 -> -0.0073483755 | T8: =I8/I7-1 -> -0.11025298
B9: 2014 | C9: 855436 | D9: 1437169.2 | E9: 314535.31 | F9: 153422.12 | G9: 1549515.7 | H9: 325034.14 | I9: 106800.43 | L9: =F9/E9*100 -> 48.77739 | M9: =F9/D9*100 -> 10.6753 | N9: =I9/H9*100 -> 32.858217 | O9: =I9/G9*100 -> 6.8925036 | R9: 2014 | S9: =F9/F8-1 -> 0.0003142026 | T9: =I9/I8-1 -> 0.12652371
B10: 2015 | C10: 864577 | D10: 1523349.5 | E10: 326278.63 | F10: 158138.95 | G10: 1606980.2 | H10: 353992.61 | I10: 124301.47 | L10: =F10/E10*100 -> 48.467456 | M10: =F10/D10*100 -> 10.381003 | N10: =I10/H10*100 -> 35.114143 | O10: =I10/G10*100 -> 7.7350964 | R10: 2015 | S10: =F10/F9-1 -> 0.030744144 | T10: =I10/I9-1 -> 0.16386681
B11: 2016 | C11: 906696 | D11: 1571681.3 | E11: 344812.59 | F11: 165943.45 | G11: 1639193.1 | H11: 363882.52 | I11: 122497.92 | L11: =F11/E11*100 -> 48.125693 | M11: =F11/D11*100 -> 10.55834 | N11: =I11/H11*100 -> 33.664139 | O11: =I11/G11*100 -> 7.4730621 | R11: 2016 | S11: =F11/F10-1 -> 0.049352163 | T11: =I11/I10-1 -> -0.014509494
B12: 2017 | C12: 928643 | D12: 1708181.5 | E12: 371129.21 | F12: 179709.93 | G12: 1784785.8 | H12: 392023.61 | I12: 134028.43 | L12: =F12/E12*100 -> 48.42247 | M12: =F12/D12*100 -> 10.52054 | N12: =I12/H12*100 -> 34.188867 | O12: =I12/G12*100 -> 7.5094965 | R12: 2017 | S12: =F12/F11-1 -> 0.082958867 | T12: =I12/I11-1 -> 0.094128207
B13: 2018 | C13: 939009 | D13: 1812741 | E13: 392502.94 | F13: 189480.19 | G13: 1891329.3 | H13: 413432.92 | I13: 139522.95 | L13: =F13/E13*100 -> 48.274845 | M13: =F13/D13*100 -> 10.45269 | N13: =I13/H13*100 -> 33.74742 | O13: =I13/G13*100 -> 7.3769781 | R13: 2018 | S13: =F13/F12-1 -> 0.054366817 | T13: =I13/I12-1 -> 0.040995156
B14: 2019 | C14: 952381 | D14: 1880795.3 | E14: 422366.89 | F14: 206796.4 | G14: 1941569.9 | H14: 438423.15 | I14: 146834.64 | L14: =F14/E14*100 -> 48.961318 | M14: =F14/D14*100 -> 10.995157 | N14: =I14/H14*100 -> 33.491534 | O14: =I14/G14*100 -> 7.5626758 | R14: 2019 | S14: =F14/F13-1 -> 0.091387968 | T14: =I14/I13-1 -> 0.052404948
B15: 2020 | C15: 946401 | D15: 1668858.7 | E15: 368761.98 | F15: 167287.01 | G15: 1732066.3 | H15: 388724.41 | I15: 115779.95 | L15: =F15/E15*100 -> 45.364495 | M15: =F15/D15*100 -> 10.024037 | N15: =I15/H15*100 -> 29.784585 | O15: =I15/G15*100 -> 6.6844989 | R15: 2020 | S15: =F15/F14-1 -> -0.19105451 | T15: =I15/I14-1 -> -0.21149428
B16: 2021 | C16: 969498 | D16: 2004142.9 | E16: 446366.08 | F16: 228581.39 | G16: 2079127.7 | H16: 456124.62 | I16: 155765.51 | L16: =F16/E16*100 -> 51.209399 | M16: =F16/D16*100 -> 11.405444 | N16: =I16/H16*100 -> 34.14977 | O16: =I16/G16*100 -> 7.4918683 | R16: 2021 | S16: =F16/F15-1 -> 0.36640247 | T16: =I16/I15-1 -> 0.34535822
B17: 2022 | C17: 988205 | D17: 2470331.4 | E17: 551905.26 | F17: 306384.7 | G17: 2496607.1 | H17: 514125.74 | I17: 183628.72 | L17: =F17/E17*100 -> 55.514003 | M17: =F17/D17*100 -> 12.402575 | N17: =I17/H17*100 -> 35.716695 | O17: =I17/G17*100 -> 7.3551312 | R17: 2022 | S17: =F17/F16-1 -> 0.34037468 | T17: =I17/I16-1 -> 0.17887923
B18: 2023 | C18: 1004985 | D18: 2423317.9 | E18: 578019.22 | F18: 311127.34 | G18: 2494559.6 | H18: 559296.12 | I18: 196855.12 | L18: =F18/E18*100 -> 53.826469 | M18: =F18/D18*100 -> 12.838899 | N18: =I18/H18*100 -> 35.196941 | O18: =I18/G18*100 -> 7.8913779 | R18: 2023 | S18: =F18/F17-1 -> 0.01547935 | T18: =I18/I17-1 -> 0.072027946
B19: 2024 | C19: 1030913 | D19: 2485592.3 | E19: 605490.48 | F19: 321389.08 | G19: =G18*(1+G22) -> 2559798.2 | H19: =H18*(1+H22) -> 603691.47 | I19: =I18*(1+I22) -> 215906.57 | L19: =F19/E19*100 -> 53.079131 | M19: =F19/D19*100 -> 12.93008 | N19: =I19/H19*100 -> 35.764391 | O19: =I19/G19*100 -> 8.4345156 | R19: 2024 | S19: =F19/F18-1 -> 0.032982466 | T19: =I19/I18-1 -> 0.096779047
B20: 2025 | D20: =D19*(SUM(D88:D90)/SUM(D84:D86)) -> 2600608.9 | E20: =E19*(SUM(E88:E90)/SUM(E84:E86)) -> 630442.22 | F20: =F19*(SUM(F88:F90)/SUM(F84:F86)) -> 328474.82 | I20: =I19*(1+T20) -> 220666.72 | L20: =F20/E20*100 -> 52.102288 | M20: =F20/D20*100 -> 12.630689 | N20: =N19*(L20/L19) -> 35.1062 | O20: =O19*(M20/M19) -> 8.2392173 | R20: 2025 | S20: =F20/F19-1 -> 0.022047225 | T20: =+S20 -> 0.022047225
B22: Tasas IS pob. Cte-> | G22: 0.026152344 | H22: 0.079377179 | I22: 0.096779047
J23: mm4 MU sobre ventas compras | K23: mm4 MU s/ ventas | N23: Base 2016=100 | O23: Base 2016=100
B24: 20091T | C24: 866857 | D24: 342468.95 | E24: 71079.088 | F24: 28284.108 | L24: =F24/E24*100 -> 39.792446 | M24: =F24/D24*100 -> 8.2588824 | P24: =L24/$J$53*100 -> 82.970781 | Q24: =M24/$K$53*100 -> 78.323517 | R24: 20091T
B25: 20092T | C25: 874979 | D25: 364392.44 | E25: 79499.579 | F25: 34633.888 | J25: =AVERAGE(L24:L27) -> 44.834518 | K25: =AVERAGE(M24:M27) -> 9.9261768 | L25: =F25/E25*100 -> 43.564869 | M25: =F25/D25*100 -> 9.5045572 | N25: =J25/$J$53*100 -> 93.48395 | O25: =K25/$K$53*100 -> 94.135385 | P25: =L25/$J$53*100 -> 90.836619 | Q25: =M25/$K$53*100 -> 90.136936 | R25: 20092T
B26: 20093T | C26: 878488 | D26: 357434.42 | E26: 80829.857 | F26: 38166.474 | J26: =AVERAGE(L25:L28) -> 46.352793 | K26: =AVERAGE(M25:M28) -> 10.354384 | L26: =F26/E26*100 -> 47.218287 | M26: =F26/D26*100 -> 10.677895 | N26: =J26/$J$53*100 -> 96.649687 | O26: =K26/$K$53*100 -> 98.196314 | P26: =L26/$J$53*100 -> 98.45432 | Q26: =M26/$K$53*100 -> 101.26435 | R26: 20093T
B27: 20094T | C27: 887189 | D27: 409610.82 | E27: 94613.725 | F27: 46135.991 | J27: =AVERAGE(L26:L29) -> 48.601248 | K27: =AVERAGE(M26:M29) -> 11.007914 | L27: =F27/E27*100 -> 48.762472 | M27: =F27/D27*100 -> 11.263372 | N27: =J27/$J$53*100 -> 101.33792 | O27: =K27/$K$53*100 -> 104.3941 | P27: =L27/$J$53*100 -> 101.67408 | Q27: =M27/$K$53*100 -> 106.81674 | R27: 20094T
B28: 20101T | C28: 844743 | D28: 344136.98 | E28: 74819.458 | F28: 34316.351 | J28: =AVERAGE(L27:L30) -> 47.562902 | K28: =AVERAGE(M27:M30) -> 10.542285 | L28: =F28/E28*100 -> 45.865544 | M28: =F28/D28*100 -> 9.971713 | N28: =J28/$J$53*100 -> 99.172873 | O28: =K28/$K$53*100 -> 99.978276 | P28: =L28/$J$53*100 -> 95.63373 | Q28: =M28/$K$53*100 -> 94.56723 | R28: 20101T | S28: =F28/F24-1 -> 0.21327325 | T28: =AVERAGE(S28:S29) -> 0.29014916
B29: 20102T | C29: 854063 | D29: 390681.19 | E29: 90080.999 | F29: 47345.392 | J29: =AVERAGE(L28:L31) -> 46.761121 | K29: =AVERAGE(M28:M31) -> 10.062513 | L29: =F29/E29*100 -> 52.55869 | M29: =F29/D29*100 -> 12.118677 | N29: =J29/$J$53*100 -> 97.501087 | O29: =K29/$K$53*100 -> 95.42834 | P29: =L29/$J$53*100 -> 109.58953 | Q29: =M29/$K$53*100 -> 114.92807 | R29: 20102T | S29: =F29/F25-1 -> 0.36702507 | T29: =+T28 -> 0.29014916
B30: 20103T | C30: 857022 | D30: 349478.1 | E30: 71538.095 | F30: 30807.812 | J30: =AVERAGE(L29:L32) -> 45.995589 | K30: =AVERAGE(M29:M32) -> 9.7578813 | L30: =F30/E30*100 -> 43.064904 | M30: =F30/D30*100 -> 8.815377 | N30: =J30/$J$53*100 -> 95.904886 | O30: =K30/$K$53*100 -> 92.539347 | P30: =L30/$J$53*100 -> 89.794147 | Q30: =M30/$K$53*100 -> 83.601061 | R30: 20103T | S30: =F30/F26-1 -> -0.19280435 | T30: =0.078396*S33+1.56291*T29-0.641306*T28 -> 0.24311897
B31: 20104T | C31: 857854 | D31: 406703.44 | E31: 83422.775 | F31: 38003.534 | J31: =AVERAGE(L30:L33) -> 43.493943 | K31: =AVERAGE(M30:M33) -> 8.9122217 | L31: =F31/E31*100 -> 45.555345 | M31: =F31/D31*100 -> 9.3442863 | N31: =J31/$J$53*100 -> 90.688732 | O31: =K31/$K$53*100 -> 84.519493 | P31: =L31/$J$53*100 -> 94.986938 | Q31: =M31/$K$53*100 -> 88.616999 | R31: 20104T | S31: =F31/F27-1 -> -0.17627144 | T31: =0.078396*S34+1.56291*T30-0.641306*T29 -> 0.20401962
B32: 20111T | C32: 853088 | D32: 359163.54 | E32: 73447.985 | F32: 31438.248 | J32: =AVERAGE(L31:L34) -> 44.028225 | K32: =AVERAGE(M31:M34) -> 9.0954937 | L32: =F32/E32*100 -> 42.803418 | M32: =F32/D32*100 -> 8.7531848 | N32: =J32/$J$53*100 -> 91.802757 | O32: =K32/$K$53*100 -> 86.257562 | P32: =L32/$J$53*100 -> 89.248926 | Q32: =M32/$K$53*100 -> 83.011258 | R32: 20111T | S32: =F32/F28-1 -> -0.083869737 | T32: =0.078396*S35+1.56291*T31-0.641306*T30 -> 0.15836156
B33: 20112T | C33: 862810 | D33: 374080.94 | E33: 76799.62 | F33: 32679.856 | J33: =AVERAGE(L32:L35) -> 43.501278 | K33: =AVERAGE(M32:M35) -> 9.0152134 | L33: =F33/E33*100 -> 42.552107 | M33: =F33/D33*100 -> 8.7360388 | N33: =J33/$J$53*100 -> 90.704025 | O33: =K33/$K$53*100 -> 85.496219 | P33: =L33/$J$53*100 -> 88.724919 | Q33: =M33/$K$53*100 -> 82.848653 | R33: 20112T | S33: =F33/F29-1 -> -0.30975636 | T33: =0.078396*S36+1.56291*T32-0.641306*T31 -> 0.12740008
B34: 20113T | C34: 868086 | D34: 364300.55 | E34: 76954.754 | F34: 34785.111 | J34: =AVERAGE(L33:L36) -> 44.583068 | K34: =AVERAGE(M33:M36) -> 9.385479 | L34: =F34/E34*100 -> 45.20203 | M34: =F34/D34*100 -> 9.5484651 | N34: =J34/$J$53*100 -> 92.959653 | O34: =K34/$K$53*100 -> 89.007651 | P34: =L34/$J$53*100 -> 94.250245 | Q34: =M34/$K$53*100 -> 90.553338 | R34: 20113T | S34: =F34/F30-1 -> 0.12910035 | T34: =0.078396*S37+1.56291*T33-0.641306*T32 -> 0.11265774
B35: 20114T | C35: 880672 | D35: 396522.81 | E35: 82349.642 | F35: 35778.907 | J35: =AVERAGE(L34:L37) -> 46.02941 | K35: =AVERAGE(M34:M37) -> 9.9287506 | L35: =F35/E35*100 -> 43.447557 | M35: =F35/D35*100 -> 9.0231649 | N35: =J35/$J$53*100 -> 95.975406 | O35: =K35/$K$53*100 -> 94.159794 | P35: =L35/$J$53*100 -> 90.592012 | Q35: =M35/$K$53*100 -> 85.571628 | R35: 20114T | S35: =F35/F31-1 -> -0.058537353 | T35: =0.078396*S38+1.56291*T34-0.641306*T33 -> 0.11299319
B36: 20121T | C36: 829439 | D36: 349247.69 | E36: 75837.968 | F36: 35742.872 | J36: =AVERAGE(L35:L38) -> 47.77788 | K36: =AVERAGE(M35:M38) -> 10.619243 | L36: =F36/E36*100 -> 47.130578 | M36: =F36/D36*100 -> 10.234247 | N36: =J36/$J$53*100 -> 99.621119 | O36: =K36/$K$53*100 -> 100.70811 | P36: =L36/$J$53*100 -> 98.271437 | Q36: =M36/$K$53*100 -> 97.056987 | R36: 20121T | S36: =F36/F32-1 -> 0.13692316 | T36: =0.078396*S39+1.56291*T35-0.641306*T34 -> 0.10646441
B37: 20122T | C37: 838464 | D37: 357268.25 | E37: 80630.689 | F37: 38974.84 | J37: =AVERAGE(L36:L39) -> 48.394608 | K37: =AVERAGE(M36:M39) -> 10.845847 | L37: =F37/E37*100 -> 48.337477 | M37: =F37/D37*100 -> 10.909125 | N37: =J37/$J$53*100 -> 100.90705 | O37: =K37/$K$53*100 -> 102.85712 | P37: =L37/$J$53*100 -> 100.78793 | Q37: =M37/$K$53*100 -> 103.45722 | R37: 20122T | S37: =F37/F33-1 -> 0.19262583 | T37: =0.078396*S40+1.56291*T36-0.641306*T35 -> 0.083063971
B38: 20123T | C38: 844086 | D38: 349685.13 | E38: 82473.441 | F38: 43047.761 | J38: =AVERAGE(L37:L40) -> 47.847052 | K38: =AVERAGE(M37:M40) -> 10.679064 | L38: =F38/E38*100 -> 52.195907 | M38: =F38/D38*100 -> 12.310435 | N38: =J38/$J$53*100 -> 99.76535 | O38: =K38/$K$53*100 -> 101.27543 | P38: =L38/$J$53*100 -> 108.8331 | Q38: =M38/$K$53*100 -> 116.74662 | R38: 20123T | S38: =F38/F34-1 -> 0.23753408 | T38: =0.078396*S41+1.56291*T37-0.641306*T36 -> 0.059953903
B39: 20124T | C39: 857284 | D39: 370044.28 | E39: 80026.723 | F39: 36743.847 | J39: =AVERAGE(L38:L41) -> 48.037098 | K39: =AVERAGE(M38:M41) -> 10.697623 | L39: =F39/E39*100 -> 45.914471 | M39: =F39/D39*100 -> 9.929581 | N39: =J39/$J$53*100 -> 100.16161 | O39: =K39/$K$53*100 -> 101.45143 | P39: =L39/$J$53*100 -> 95.735747 | Q39: =M39/$K$53*100 -> 94.167669 | R39: 20124T | S39: =F39/F35-1 -> 0.026969503 | T39: =0.078396*S42+1.56291*T38-0.641306*T37 -> 0.043719049
B40: 20131T | C40: 810941 | D40: 321813.44 | E40: 68509.172 | F40: 30788.263 | J40: =AVERAGE(L39:L42) -> 48.492731 | K40: =AVERAGE(M39:M42) -> 10.885201 | L40: =F40/E40*100 -> 44.940353 | M40: =F40/D40*100 -> 9.5671155 | N40: =J40/$J$53*100 -> 101.11165 | O40: =K40/$K$53*100 -> 103.23034 | P40: =L40/$J$53*100 -> 93.704624 | Q40: =M40/$K$53*100 -> 90.73021 | R40: 20131T | S40: =F40/F36-1 -> -0.13861809 | T40: =0.078396*S43+1.56291*T39-0.641306*T38 -> 0.035867056
B41: 20132T | C41: 822466 | D41: 347650.45 | E41: 77770.911 | F41: 38183.698 | J41: =AVERAGE(L40:L43) -> 49.089189 | K41: =AVERAGE(M40:M43) -> 11.050436 | L41: =F41/E41*100 -> 49.097661 | M41: =F41/D41*100 -> 10.983359 | N41: =J41/$J$53*100 -> 102.35532 | O41: =K41/$K$53*100 -> 104.79735 | P41: =L41/$J$53*100 -> 102.37298 | Q41: =M41/$K$53*100 -> 104.16123 | R41: 20132T | S41: =F41/F37-1 -> -0.020298793 | T41: =0.078396*S44+1.56291*T40-0.641306*T39 -> 0.029544157
... B87: 20244T | C87: 1008397 | D87: 668659.43 | E87: 156636.61 | F87: 80789.263 | J87: =AVERAGE(L86:L89) -> 52.219511 | K87: =AVERAGE(M86:M89) -> 12.638598 | L87: =F87/E87*100 -> 51.57751 | M87: =F87/D87*100 -> 12.082274 | N87: =J87/$J$53*100 -> 108.88232 | O87: =K87/$K$53*100 -> 119.85877 | P87: =L87/$J$53*100 -> 107.54369 | Q87: =M87/$K$53*100 -> 114.58284 | R87: 20244T | S87: =F87/F83-1 -> 0.012912977 | T87: =0.078396*S90+1.56291*T86-0.641306*T85 -> 0.017078873
...

Sheet Refino - 19
C2: REFINO - 19
C3: D. Número de empresas | D3: A. Ventas totales | E3: S.1. Ventas - compras | F3: S.2. Indicador de resultado bruto de explotación | G3: A. Ventas y otros ingresos (IS) | H3: S.1. Ventas - compras (IS) | I3: S.2. Resultado bruto de explotación (IS) | K3: % total | L3: Margen Ventas unitario sobre ventas-compras(IVARET) | M3: Margen Ventas unitario (IVARET) | N3: Margen Ventas unitario sobre ventas-compras(IS) | O3: Margen Ventas unitario (IS) | S3: S.2. Indicador RBE (tasa var) | T3: S.2. RBE (tasa var)
B4: 2009 | C4: 32 | D4: 30381.923 | E4: 4677.0654 | F4: 4232.7908 | G4: 33909.933 | H4: 1411.9726 | I4: 816.26944 | K4: =I4/Total!I4 -> 0.0064540241 | L4: =F4/E4*100 -> 90.500997 | M4: =F4/D4*100 -> 13.931939 | N4: =I4/H4*100 -> 57.810571 | O4: =I4/G4*100 -> 2.4071692 | R4: 2009
B5: 2010 | C5: 27 | D5: 36028.838 | E5: 6754.3121 | F5: 6321.2732 | G5: 40204.303 | H5: 2093.0895 | I5: 1487.6127 | K5: =I5/Total!I5 -> 0.011708975 | L5: =F5/E5*100 -> 93.588705 | M5: =F5/D5*100 -> 17.545038 | N5: =I5/H5*100 -> 71.072577 | O5: =I5/G5*100 -> 3.700133 | R5: 2010 | S5: =F5/F4-1 -> 0.49340552 | T5: =I5/I4-1 -> 0.82245298
B6: 2011 | C6: 29 | D6: 42510.671 | E6: 6554.833 | F6: 6089.5288 | G6: 49299.086 | H6: 1994.0071 | I6: 1381.1275 | K6: =I6/Total!I6 -> 0.013705089 | L6: =F6/E6*100 -> 92.901357 | M6: =F6/D6*100 -> 14.324706 | N6: =I6/H6*100 -> 69.26392 | O6: =I6/G6*100 -> 2.8015275 | R6: 2011 | S6: =F6/F5-1 -> -0.036661039 | T6: =I6/I5-1 -> -0.071581273
B7: 2012 | C7: 27 | D7: 48825.493 | E7: 10778.543 | F7: 10309.995 | G7: 58619.709 | H7: 2881.0556 | I7: 2274.1115 | K7: =I7/Total!I7 -> 0.021342518 | L7: =F7/E7*100 -> 95.652965 | M7: =F7/D7*100 -> 21.116009 | N7: =I7/H7*100 -> 78.933274 | O7: =I7/G7*100 -> 3.8794316 | R7: 2012 | S7: =F7/F6-1 -> 0.6930695 | T7: =I7/I6-1 -> 0.64656167
B8: 2013 | C8: 24 | D8: 44186.297 | E8: 6469.68 | F8: 5993.4032 | G8: 54437.149 | H8: 1790.8207 | I8: 1158.1618 | K8: =I8/Total!I8 -> 0.012216212 | L8: =F8/E8*100 -> 92.638325 | M8: =F8/D8*100 -> 13.563941 | N8: =I8/H8*100 -> 64.672121 | O8: =I8/G8*100 -> 2.127521 | R8: 2013 | S8: =F8/F7-1 -> -0.41868033 | T8: =I8/I7-1 -> -0.49071902
B9: 2014 | C9: 18 | D9: 41848.549 | E9: 5900.8452 | F9: 5367.6569 | G9: 50757.693 | H9: 1477.8706 | I9: 748.555 | K9: =I9/Total!I9 -> 0.007008914 | L9: =F9/E9*100 -> 90.964204 | M9: =F9/D9*100 -> 12.826387 | N9: =I9/H9*100 -> 50.650915 | O9: =I9/G9*100 -> 1.4747617 | R9: 2014 | S9: =F9/F8-1 -> -0.10440585 | T9: =I9/I8-1 -> -0.35366973
B10: 2015 | C10: 15 | D10: 34613.406 | E10: 3884.2823 | F10: 3402.7651 | G10: 39281.386 | H10: 3304.453 | I10: 2665.2204 | K10: =I10/Total!I10 -> 0.021441583 | L10: =F10/E10*100 -> 87.603445 | M10: =F10/D10*100 -> 9.8307721 | N10: =I10/H10*100 -> 80.655417 | O10: =I10/G10*100 -> 6.7849447 | R10: 2015 | S10: =F10/F9-1 -> -0.36606136 | T10: =I10/I9-1 -> 2.560487
B11: 2016 | C11: 16 | D11: 30523.575 | E11: 4648.6305 | F11: 4161.9551 | G11: 34141.731 | H11: 2906.6837 | I11: 2213.6381 | K11: =I11/Total!I11 -> 0.018070822 | L11: =F11/E11*100 -> 89.530781 | M11: =F11/D11*100 -> 13.635215 | N11: =I11/H11*100 -> 76.156828 | O11: =I11/G11*100 -> 6.4836726 | R11: 2016 | S11: =F11/F10-1 -> 0.22310974 | T11: =I11/I10-1 -> -0.16943525
B12: 2017 | C12: 17 | D12: 37922.49 | E12: 6489.086 | F12: 5998.1173 | G12: 40761.378 | H12: 2953.564 | I12: 2309.1607 | K12: =I12/Total!I12 -> 0.017228887 | L12: =F12/E12*100 -> 92.433931 | M12: =F12/D12*100 -> 15.816781 | N12: =I12/H12*100 -> 78.182177 | O12: =I12/G12*100 -> 5.6650701 | R12: 2017 | S12: =F12/F11-1 -> 0.44117778 | T12: =I12/I11-1 -> 0.043151847
B13: 2018 | C13: 15 | D13: 46194.949 | E13: 10847.205 | F13: 10314.376 | G13: 48548.038 | H13: 2718.1798 | I13: 2067.454 | K13: =I13/Total!I13 -> 0.014818021 | L13: =F13/E13*100 -> 95.08786 | M13: =F13/D13*100 -> 22.327929 | N13: =I13/H13*100 -> 76.060235 | O13: =I13/G13*100 -> 4.2585737 | R13: 2018 | S13: =F13/F12-1 -> 0.71960219 | T13: =I13/I12-1 -> -0.10467296
B14: 2019 | C14: 13 | D14: 45694.104 | E14: 11548.6 | F14: 11037.264 | G14: 46831.756 | H14: 1991.267 | I14: 1323.2293 | K14: =I14/Total!I14 -> 0.0090116974 | L14: =F14/E14*100 -> 95.572311 | M14: =F14/D14*100 -> 24.154679 | N14: =I14/H14*100 -> 66.451629 | O14: =I14/G14*100 -> 2.8254958 | R14: 2019 | S14: =F14/F13-1 -> 0.070085546 | T14: =I14/I13-1 -> -0.35997157
B15: 2020 | C15: 13 | D15: 28818.407 | E15: 5638.2641 | F15: 5103.1773 | G15: 29870.82 | H15: 800.74599 | I15: 109.07276 | K15: =I15/Total!I15 -> 0.00094206948 | L15: =F15/E15*100 -> 90.509725 | M15: =F15/D15*100 -> 17.708048 | N15: =I15/H15*100 -> 13.621393 | O15: =I15/G15*100 -> 0.36514819 | R15: 2020 | S15: =F15/F14-1 -> -0.5376411 | T15: =I15/I14-1 -> -0.91757078
B16: 2021 | C16: 13 | D16: 43870.97 | E16: 11840.134 | F16: 11321.889 | G16: 45455.597 | H16: 1568.5404 | I16: 854.45152 | K16: =I16/Total!I16 -> 0.0054854988 | L16: =F16/E16*100 -> 95.622979 | M16: =F16/D16*100 -> 25.807246 | N16: =I16/H16*100 -> 54.474308 | O16: =I16/G16*100 -> 1.8797498 | R16: 2021 | S16: =F16/F15-1 -> 1.218596 | T16: =I16/I15-1 -> 6.8337757
B17: 2022 | C17: 13 | D17: 72790.494 | E17: 4150.7629 | F17: 3592.1052 | G17: 73484.168 | H17: 4593.913 | I17: 3799.6961 | K17: =I17/Total!I17 -> 0.020692275 | L17: =F17/E17*100 -> 86.540844 | M17: =F17/D17*100 -> 4.9348549 | N17: =I17/H17*100 -> 82.71154 | O17: =I17/G17*100 -> 5.1707684 | R17: 2022 | S17: =F17/F16-1 -> -0.68272916 | T17: =I17/I16-1 -> 3.4469417
B18: 2023 | C18: 13 | D18: 56990.519 | E18: 10454.513 | F18: 9865.6212 | G18: 58452.083 | H18: 1587.177 | I18: 791.81689 | K18: =I18/Total!I18 -> 0.0040223332 | L18: =F18/E18*100 -> 94.367109 | M18: =F18/D18*100 -> 17.310987 | N18: =I18/H18*100 -> 49.888379 | O18: =I18/G18*100 -> 1.3546427 | R18: 2023 | S18: =F18/F17-1 -> 1.7464733 | T18: =I18/I17-1 -> -0.79161047
B19: 2024 | C19: 13 | D19: 54788.991 | E19: 8964.9526 | F19: 8343.5336 | G19: =G18*(1+G22) -> 56675.722 | H19: =H18*(1+H22) -> 1358.9496 | I19: =I18*(1+I22) -> 505.65251 | K19: =I19/Total!I19 -> 0.0023419968 | L19: =F19/E19*100 -> 93.068352 | M19: =F19/D19*100 -> 15.228486 | N19: =I19/H19*100 -> 37.209071 | O19: =I19/G19*100 -> 0.89218539 | R19: 2024 | S19: =F19/F18-1 -> -0.15428199 | T19: =I19/I18-1 -> -0.36140221
B20: 2025 | D20: =D19*(SUM(D88:D90)/SUM(D84:D86)) -> 55132.439 | E20: =E19*(SUM(E88:E90)/SUM(E84:E86)) -> 11849.525 | F20: =F19*(SUM(F88:F90)/SUM(F84:F86)) -> 11250.93 | I20: =I19*(1+T20) -> 681.85273 | L20: =F20/E20*100 -> 94.948364 | M20: =F20/D20*100 -> 20.407097 | N20: =N19*(L20/L19) -> 37.960707 | O20: =O19*(M20/M19) -> 1.1955827 | R20: 2025 | S20: =F20/F19-1 -> 0.34846108 | T20: =+S20 -> 0.34846108
B22: Tasas IS pob. Cte-> | G22: -0.030390033 | H22: -0.14379459 | I22: -0.36140221
J23: mm4 MU sobre ventas compras | K23: mm4 MU s/ ventas | N23: Base 2016=100 | O23: Base 2016=100
B24: 20091T | C24: 31 | D24: 6723.7394 | E24: 832.81916 | F24: 719.95046 | L24: =F24/E24*100 -> 86.447394 | M24: =F24/D24*100 -> 10.70759 | P24: =L24/$J$53*100 -> 98.36823 | Q24: =M24/$K$53*100 -> 80.856632 | R24: 20091T
B25: 20092T | C25: 30 | D25: 7652.8932 | E25: 1650.9524 | F25: 1534.1312 | J25: =AVERAGE(L24:L27) -> 89.913325 | K25: =AVERAGE(M24:M27) -> 13.874947 | L25: =F25/E25*100 -> 92.924014 | M25: =F25/D25*100 -> 20.046421 | N25: =J25/$J$53*100 -> 102.3121 | O25: =K25/$K$53*100 -> 104.77441 | P25: =L25/$J$53*100 -> 105.73796 | Q25: =M25/$K$53*100 -> 151.3773 | R25: 20092T
B26: 20093T | C26: 29 | D26: 7912.2148 | E26: 1139.8741 | F26: 1049.2911 | J26: =AVERAGE(L25:L28) -> 91.729248 | K26: =AVERAGE(M25:M28) -> 16.13896 | L26: =F26/E26*100 -> 92.053248 | M26: =F26/D26*100 -> 13.261662 | N26: =J26/$J$53*100 -> 104.37844 | O26: =K26/$K$53*100 -> 121.87074 | P26: =L26/$J$53*100 -> 104.74711 | Q26: =M26/$K$53*100 -> 100.14329 | R26: 20093T
B27: 20094T | C27: 30 | D27: 8093.0754 | E27: 1053.4198 | F27: 929.41803 | J27: =AVERAGE(L26:L29) -> 91.975451 | K27: =AVERAGE(M26:M29) -> 16.023599 | L27: =F27/E27*100 -> 88.228645 | M27: =F27/D27*100 -> 11.484114 | N27: =J27/$J$53*100 -> 104.65859 | O27: =K27/$K$53*100 -> 120.99961 | P27: =L27/$J$53*100 -> 100.39511 | Q27: =M27/$K$53*100 -> 86.720428 | R27: 20094T
B28: 20101T | C28: 26 | D28: 8212.5709 | E28: 1732.0289 | F28: 1623.1031 | J28: =AVERAGE(L27:L30) -> 92.615539 | K28: =AVERAGE(M27:M30) -> 17.236398 | L28: =F28/E28*100 -> 93.711086 | M28: =F28/D28*100 -> 19.763641 | N28: =J28/$J$53*100 -> 105.38694 | O28: =K28/$K$53*100 -> 130.15786 | P28: =L28/$J$53*100 -> 106.63356 | Q28: =M28/$K$53*100 -> 149.24193 | R28: 20101T | S28: =F28/F24-1 -> 1.2544649 | T28: =AVERAGE(S28:S29) -> 0.71514455
B29: 20102T | C29: 27 | D29: 9210.47 | E29: 1920.8722 | F29: 1803.8686 | J29: =AVERAGE(L28:L31) -> 93.4676 | K29: =AVERAGE(M28:M31) -> 17.632915 | L29: =F29/E29*100 -> 93.908827 | M29: =F29/D29*100 -> 19.584979 | N29: =J29/$J$53*100 -> 106.3565 | O29: =K29/$K$53*100 -> 133.1521 | P29: =L29/$J$53*100 -> 106.85857 | Q29: =M29/$K$53*100 -> 147.89279 | R29: 20102T | S29: =F29/F25-1 -> 0.17582419 | T29: =+T28 -> 0.71514455
B30: 20103T | C30: 26 | D30: 9171.5218 | E30: 1755.7989 | F30: 1661.2245 | J30: =AVERAGE(L29:L32) -> 93.581893 | K30: =AVERAGE(M29:M32) -> 17.405154 | L30: =F30/E30*100 -> 94.613598 | M30: =F30/D30*100 -> 18.112856 | N30: =J30/$J$53*100 -> 106.48655 | O30: =K30/$K$53*100 -> 131.4322 | P30: =L30/$J$53*100 -> 107.66053 | Q30: =M30/$K$53*100 -> 136.77629 | R30: 20103T | S30: =F30/F26-1 -> 0.58318739 | T30: =0.078396*S33+1.56291*T29-0.641306*T28 -> 0.63699752
B31: 20104T | C31: 27 | D31: 9434.2752 | E31: 1345.6121 | F31: 1233.0771 | J31: =AVERAGE(L30:L33) -> 92.906931 | K31: =AVERAGE(M30:M33) -> 15.518798 | L31: =F31/E31*100 -> 91.636892 | M31: =F31/D31*100 -> 13.070184 | N31: =J31/$J$53*100 -> 105.71852 | O31: =K31/$K$53*100 -> 117.18768 | P31: =L31/$J$53*100 -> 104.27334 | Q31: =M31/$K$53*100 -> 98.697373 | R31: 20104T | S31: =F31/F27-1 -> 0.32671957 | T31: =0.078396*S34+1.56291*T30-0.641306*T29 -> 0.55358788
B32: 20111T | C32: 25 | D32: 10096.568 | E32: 2021.3449 | F32: 1903.4653 | J32: =AVERAGE(L31:L34) -> 93.016737 | K32: =AVERAGE(M31:M34) -> 15.619395 | L32: =F32/E32*100 -> 94.168256 | M32: =F32/D32*100 -> 18.852597 | N32: =J32/$J$53*100 -> 105.84347 | O32: =K32/$K$53*100 -> 117.94733 | P32: =L32/$J$53*100 -> 107.15378 | Q32: =M32/$K$53*100 -> 142.36233 | R32: 20111T | S32: =F32/F28-1 -> 0.17273222 | T32: =0.078396*S35+1.56291*T31-0.641306*T30 -> 0.43401992
B33: 20112T | C33: 27 | D33: 10762.488 | E33: 1420.6448 | F33: 1295.7556 | J33: =AVERAGE(L32:L35) -> 92.147113 | K33: =AVERAGE(M32:M35) -> 14.385314 | L33: =F33/E33*100 -> 91.208978 | M33: =F33/D33*100 -> 12.039553 | N33: =J33/$J$53*100 -> 104.85392 | O33: =K33/$K$53*100 -> 108.62837 | P33: =L33/$J$53*100 -> 103.78642 | Q33: =M33/$K$53*100 -> 90.914736 | R33: 20112T | S33: =F33/F29-1 -> -0.28167962 | T33: =0.078396*S36+1.56291*T32-0.641306*T31 -> 0.36215241
B34: 20113T | C34: 29 | D34: 10877.123 | E34: 2118.7439 | F34: 2013.9259 | J34: =AVERAGE(L33:L36) -> 92.571968 | K34: =AVERAGE(M33:M36) -> 15.557894 | L34: =F34/E34*100 -> 95.052823 | M34: =F34/D34*100 -> 18.515245 | N34: =J34/$J$53*100 -> 105.33736 | O34: =K34/$K$53*100 -> 117.48291 | P34: =L34/$J$53*100 -> 108.16032 | Q34: =M34/$K$53*100 -> 139.81487 | R34: 20113T | S34: =F34/F30-1 -> 0.21231412 | T34: =0.078396*S37+1.56291*T33-0.641306*T32 -> 0.3744753
B35: 20114T | C35: 27 | D35: 10774.492 | E35: 994.09938 | F35: 876.38205 | J35: =AVERAGE(L34:L37) -> 93.6319 | K35: =AVERAGE(M34:M37) -> 18.440279 | L35: =F35/E35*100 -> 88.158394 | M35: =F35/D35*100 -> 8.1338595 | N35: =J35/$J$53*100 -> 106.54346 | O35: =K35/$K$53*100 -> 139.24878 | P35: =L35/$J$53*100 -> 100.31517 | Q35: =M35/$K$53*100 -> 61.421521 | R35: 20114T | S35: =F35/F31-1 -> -0.2892723 | T35: =0.078396*S38+1.56291*T34-0.641306*T33 -> 0.3757233
B36: 20121T | C36: 24 | D36: 12090.459 | E36: 2969.1412 | F36: 2846.4467 | J36: =AVERAGE(L35:L38) -> 93.946343 | K36: =AVERAGE(M35:M38) -> 18.919953 | L36: =F36/E36*100 -> 95.867677 | M36: =F36/D36*100 -> 23.542917 | N36: =J36/$J$53*100 -> 106.90126 | O36: =K36/$K$53*100 -> 142.87095 | P36: =L36/$J$53*100 -> 109.08754 | Q36: =M36/$K$53*100 -> 177.78052 | R36: 20121T | S36: =F36/F32-1 -> 0.49540248 | T36: =0.078396*S39+1.56291*T35-0.641306*T34 -> 0.45974138
B37: 20122T | C37: 25 | D37: 11584.954 | E37: 2860.6663 | F37: 2730.469 | J37: =AVERAGE(L36:L39) -> 95.617222 | K37: =AVERAGE(M36:M39) -> 21.178922 | L37: =F37/E37*100 -> 95.448707 | M37: =F37/D37*100 -> 23.569096 | N37: =J37/$J$53*100 -> 108.80255 | O37: =K37/$K$53*100 -> 159.9292 | P37: =L37/$J$53*100 -> 108.6108 | Q37: =M37/$K$53*100 -> 177.97821 | R37: 20122T | S37: =F37/F33-1 -> 1.1072408 | T37: =0.078396*S40+1.56291*T36-0.641306*T35 -> 0.41789054
B38: 20123T | C38: 26 | D38: 12709.919 | E38: 2696.6263 | F38: 2597.1368 | J38: =AVERAGE(L37:L40) -> 92.85774 | K38: =AVERAGE(M37:M40) -> 16.857903 | L38: =F38/E38*100 -> 96.310592 | M38: =F38/D38*100 -> 20.433937 | N38: =J38/$J$53*100 -> 105.66254 | O38: =K38/$K$53*100 -> 127.29972 | P38: =L38/$J$53*100 -> 109.59153 | Q38: =M38/$K$53*100 -> 154.30356 | R38: 20123T | S38: =F38/F34-1 -> 0.28958903 | T38: =0.078396*S41+1.56291*T37-0.641306*T36 -> 0.3304335
B39: 20124T | C39: 24 | D39: 12440.161 | E39: 2252.1087 | F39: 2135.943 | J39: =AVERAGE(L38:L41) -> 92.182496 | K39: =AVERAGE(M38:M41) -> 14.969357 | L39: =F39/E39*100 -> 94.841914 | M39: =F39/D39*100 -> 17.169737 | N39: =J39/$J$53*100 -> 104.89418 | O39: =K39/$K$53*100 -> 113.03868 | P39: =L39/$J$53*100 -> 107.92033 | Q39: =M39/$K$53*100 -> 129.65449 | R39: 20124T | S39: =F39/F35-1 -> 1.4372281 | T39: =0.078396*S42+1.56291*T38-0.641306*T37 -> 0.22898804
B40: 20131T | C40: 21 | D40: 10851.514 | E40: 800.63776 | F40: 679.179 | J40: =AVERAGE(L39:L42) -> 91.903883 | K40: =AVERAGE(M39:M42) -> 14.148731 | L40: =F40/E40*100 -> 84.829748 | M40: =F40/D40*100 -> 6.2588407 | N40: =J40/$J$53*100 -> 104.57715 | O40: =K40/$K$53*100 -> 106.84185 | P40: =L40/$J$53*100 -> 96.527515 | Q40: =M40/$K$53*100 -> 47.262621 | R40: 20131T | S40: =F40/F36-1 -> -0.76139409 | T40: =0.078396*S43+1.56291*T39-0.641306*T38 -> 0.12635686
B41: 20132T | C41: 21 | D41: 10991.226 | E41: 1897.8745 | F41: 1760.2355 | J41: =AVERAGE(L40:L43) -> 91.468923 | K41: =AVERAGE(M40:M43) -> 13.509387 | L41: =F41/E41*100 -> 92.747728 | M41: =F41/D41*100 -> 16.014915 | N41: =J41/$J$53*100 -> 104.08221 | O41: =K41/$K$53*100 -> 102.01394 | P41: =L41/$J$53*100 -> 105.53736 | Q41: =M41/$K$53*100 -> 120.93403 | R41: 20132T | S41: =F41/F37-1 -> -0.35533585 | T41: =0.078396*S44+1.56291*T40-0.641306*T39 -> 0.061591226
... B87: 20244T | C87: 12 | D87: 14225.889 | E87: 3167.5612 | F87: 3026.4406 | J87: =AVERAGE(L86:L89) -> 85.206609 | K87: =AVERAGE(M86:M89) -> 10.834839 | L87: =F87/E87*100 -> 95.544816 | M87: =F87/D87*100 -> 21.274175 | N87: =J87/$J$53*100 -> 96.956344 | O87: =K87/$K$53*100 -> 81.817527 | P87: =L87/$J$53*100 -> 108.72016 | Q87: =M87/$K$53*100 -> 160.64849 | R87: 20244T | S87: =F87/F83-1 -> 0.19370551 | T87: =0.078396*S90+1.56291*T86-0.641306*T85 -> 1.0488236
...

Sheet CM combust - 4671
C2: COMERCIO AL POR MAYOR COMBUSTIBLES - 4671
C3: D. Número de empresas | D3: A. Ventas totales | E3: S.1. Ventas - compras | F3: S.2. Indicador de resultado bruto de explotación | G3: A. Ventas y otros ingresos (IS) | H3: S.1. Ventas - compras (IS) | I3: S.2. Resultado bruto de explotación (IS) | K3: % total | L3: Margen Ventas unitario sobre ventas-compras(IVARET) | M3: Margen Ventas unitario (IVARET) | N3: Margen Ventas unitario sobre ventas-compras(IS) | O3: Margen Ventas unitario (IS) | S3: S.2. Indicador RBE (tasa var) | T3: S.2. RBE (tasa var)
B4: 2009 | C4: 811 | D4: 35851.359 | E4: 4672.0371 | F4: 4344.924 | G4: 43136.009 | H4: 1925.5982 | I4: 1483.1421 | K4: =I4/Total!I4 -> 0.011726808 | L4: =F4/E4*100 -> 92.99849 | M4: =F4/D4*100 -> 12.119273 | N4: =I4/H4*100 -> 77.02241 | O4: =I4/G4*100 -> 3.4382924 | R4: 2009
B5: 2010 | C5: 814 | D5: 40338.387 | E5: 1198.9782 | F5: 878.2798 | G5: 52388.027 | H5: 1784.1969 | I5: 1343.2564 | K5: =I5/Total!I5 -> 0.010572749 | L5: =F5/E5*100 -> 73.25236 | M5: =F5/D5*100 -> 2.1772804 | N5: =I5/H5*100 -> 75.286331 | O5: =I5/G5*100 -> 2.5640523 | R5: 2010 | S5: =F5/F4-1 -> -0.79786072 | T5: =I5/I4-1 -> -0.094317156
B6: 2011 | C6: 828 | D6: 45266.408 | E6: -1080.8794 | F6: -1409.6258 | G6: 61842.026 | H6: 1949.4051 | I6: 1495.5774 | K6: =I6/Total!I6 -> 0.014840788 | L6: =F6/E6*100 -> 130.41472 | M6: =F6/D6*100 -> -3.114066 | N6: =I6/H6*100 -> 76.719681 | O6: =I6/G6*100 -> 2.4183835 | R6: 2011 | S6: =F6/F5-1 -> -2.6049849 | T6: =I6/I5-1 -> 0.11339679
B7: 2012 | C7: 819 | D7: 47977.759 | E7: 3577.0756 | F7: 3256.057 | G7: 62431.262 | H7: 2339.5577 | I7: 1902.7837 | K7: =I7/Total!I7 -> 0.017857609 | L7: =F7/E7*100 -> 91.02567 | M7: =F7/D7*100 -> 6.7865967 | N7: =I7/H7*100 -> 81.330916 | O7: =I7/G7*100 -> 3.0478059 | R7: 2012 | S7: =F7/F6-1 -> -3.3098733 | T7: =I7/I6-1 -> 0.27227367
B8: 2013 | C8: 807 | D8: 48316.877 | E8: -310.24815 | F8: -619.72182 | G8: 73636.594 | H8: 2169.9244 | I8: 1725.1043 | K8: =I8/Total!I8 -> 0.018196285 | L8: =F8/E8*100 -> 199.75037 | M8: =F8/D8*100 -> -1.2826198 | N8: =I8/H8*100 -> 79.500667 | O8: =I8/G8*100 -> 2.342727 | R8: 2013 | S8: =F8/F7-1 -> -1.1903289 | T8: =I8/I7-1 -> -0.093378636
B9: 2014 | C9: 814 | D9: 50109.665 | E9: -1094.1424 | F9: -1414.898 | G9: 89533.34 | H9: 1742.0345 | I9: 1292.9486 | K9: =I9/Total!I9 -> 0.012106212 | L9: =F9/E9*100 -> 129.31571 | M9: =F9/D9*100 -> -2.823603 | N9: =I9/H9*100 -> 74.220608 | O9: =I9/G9*100 -> 1.4440974 | R9: 2014 | S9: =F9/F8-1 -> 1.2831179 | T9: =I9/I8-1 -> -0.25050992
B10: 2015 | C10: 841 | D10: 42517.499 | E10: -9548.9056 | F10: -9879.3931 | G10: 66880.686 | H10: 1691.0921 | I10: 1242.2436 | K10: =I10/Total!I10 -> 0.0099937966 | L10: =F10/E10*100 -> 103.461 | M10: =F10/D10*100 -> -23.236063 | N10: =I10/H10*100 -> 73.458068 | O10: =I10/G10*100 -> 1.8574026 | R10: 2015 | S10: =F10/F9-1 -> 5.9824066 | T10: =I10/I9-1 -> -0.03921654
B11: 2016 | C11: 858 | D11: 40765.841 | E11: -9895.5976 | F11: -10240.102 | G11: 58883.766 | H11: 1772.921 | I11: 1211.9772 | K11: =I11/Total!I11 -> 0.0098938596 | L11: =F11/E11*100 -> 103.48139 | M11: =F11/D11*100 -> -25.119319 | N11: =I11/H11*100 -> 68.360475 | O11: =I11/G11*100 -> 2.0582536 | R11: 2016 | S11: =F11/F10-1 -> 0.036511227 | T11: =I11/I10-1 -> -0.024364303
B12: 2017 | C12: 886 | D12: 47911.759 | E12: -8278.1191 | F12: -8617.3924 | G12: 71530.79 | H12: 2217.0519 | I12: 1743.3828 | K12: =I12/Total!I12 -> 0.013007559 | L12: =F12/E12*100 -> 104.09843 | M12: =F12/D12*100 -> -17.985965 | N12: =I12/H12*100 -> 78.635181 | O12: =I12/G12*100 -> 2.437248 | R12: 2017 | S12: =F12/F11-1 -> -0.15846614 | T12: =I12/I11-1 -> 0.43846166
B13: 2018 | C13: 898 | D13: 58112.168 | E13: -5325.9888 | F13: -5692.8044 | G13: 87722.609 | H13: 2057.6103 | I13: 1572.9549 | K13: =I13/Total!I13 -> 0.011273808 | L13: =F13/E13*100 -> 106.88728 | M13: =F13/D13*100 -> -9.7962348 | N13: =I13/H13*100 -> 76.445714 | O13: =I13/G13*100 -> 1.7931009 | R13: 2018 | S13: =F13/F12-1 -> -0.33938202 | T13: =I13/I12-1 -> -0.097757018
B14: 2019 | C14: 915 | D14: 62542.213 | E14: -1953.3477 | F14: -2345.7932 | G14: 85794.767 | H14: 2516.219 | I14: 1984.6061 | K14: =I14/Total!I14 -> 0.013515926 | L14: =F14/E14*100 -> 120.09092 | M14: =F14/D14*100 -> -3.7507359 | N14: =I14/H14*100 -> 78.872551 | O14: =I14/G14*100 -> 2.3132018 | R14: 2019 | S14: =F14/F13-1 -> -0.58793714 | T14: =I14/I13-1 -> 0.2617057
B15: 2020 | C15: 948 | D15: 52824.846 | E15: -159.9931 | F15: -570.05389 | G15: 58839.793 | H15: 2042.1845 | I15: 1462.8379 | K15: =I15/Total!I15 -> 0.012634639 | L15: =F15/E15*100 -> 356.29904 | M15: =F15/D15*100 -> -1.0791397 | N15: =I15/H15*100 -> 71.631037 | O15: =I15/G15*100 -> 2.4861371 | R15: 2020 | S15: =F15/F14-1 -> -0.75698886 | T15: =I15/I14-1 -> -0.26290768
B16: 2021 | C16: 977 | D16: 83639.825 | E16: 14094.683 | F16: 13677.398 | G16: 95538.858 | H16: 2455.5376 | I16: 1857.7654 | K16: =I16/Total!I16 -> 0.01192668 | L16: =F16/E16*100 -> 97.039414 | M16: =F16/D16*100 -> 16.352734 | N16: =I16/H16*100 -> 75.656158 | O16: =I16/G16*100 -> 1.9445129 | R16: 2021 | S16: =F16/F15-1 -> -24.993167 | T16: =I16/I15-1 -> 0.26997349
... B18: 2023 | C18: 1078 | D18: 106326.09 | E18: 30138.27 | F18: 29613.911 | G18: 104658.01 | H18: 3025.4998 | I18: 2311.8301 | K18: =I18/Total!I18 -> 0.011743815 | L18: =F18/E18*100 -> 98.260155 | M18: =F18/D18*100 -> 27.85197 | N18: =I18/H18*100 -> 76.411511 | O18: =I18/G18*100 -> 2.2089376 | R18: 2023 | S18: =F18/F17-1 -> -0.36367608 | T18: =I18/I17-1 -> -0.27139931
B19: 2024 | C19: 1153 | D19: 92900.695 | E19: 30167.735 | F19: 29582.439 | G19: =G18*(1+G22) -> 87489.579 | H19: =H18*(1+H22) -> 2323.508 | I19: =I18*(1+I22) -> 1569.0882 | K19: =I19/Total!I19 -> 0.0072674407 | L19: =F19/E19*100 -> 98.059861 | M19: =F19/D19*100 -> 31.843076 | N19: =I19/H19*100 -> 67.531003 | O19: =I19/G19*100 -> 1.7934573 | R19: 2024 | S19: =F19/F18-1 -> -0.0010627368 | T19: =I19/I18-1 -> -0.32127875
B20: 2025 | D20: =D19*(SUM(D88:D90)/SUM(D84:D86)) -> 80838.835 | E20: =E19*(SUM(E88:E90)/SUM(E84:E86)) -> 24977.185 | F20: =F19*(SUM(F88:F90)/SUM(F84:F86)) -> 24419.418 | I20: =I19*(1+T20) -> 1295.2353 | L20: =F20/E20*100 -> 97.766894 | M20: =F20/D20*100 -> 30.207533 | N20: =N19*(L20/L19) -> 67.329245 | O20: =O19*(M20/M19) -> 1.7013406 | R20: 2025 | S20: =F20/F19-1 -> -0.17452995 | T20: =+S20 -> -0.17452995
B22: Tasas IS pob. Cte-> | G22: -0.16404314 | H22: -0.23202508 | I22: -0.32127875
C23: D. Número de empresas | D23: A. Ventas totales | E23: S.1. Ventas - compras | F23: S.2. Indicador de resultado bruto de explotación | J23: mm4 MU sobre ventas compras | K23: mm4 MU s/ ventas | N23: Base 2016=100 | O23: Base 2016=100
B24: 20091T | C24: 802 | D24: 8370.2688 | E24: 1225.847 | F24: 1134.4451 | L24: =F24/E24*100 -> 92.543772 | M24: =F24/D24*100 -> 13.553269 | P24: =L24/$J$53*100 -> 89.4135 | Q24: =M24/$K$53*100 -> -52.472471 | R24: 20091T
B25: 20092T | C25: 803 | D25: 8595.3131 | E25: 1127.9621 | F25: 1046.785 | J25: =AVERAGE(L24:L27) -> 92.967707 | K25: =AVERAGE(M24:M27) -> 12.174465 | L25: =F25/E25*100 -> 92.803208 | M25: =F25/D25*100 -> 12.178555 | N25: =J25/$J$53*100 -> 89.823095 | O25: =K25/$K$53*100 -> -47.134329 | P25: =L25/$J$53*100 -> 89.66416 | Q25: =M25/$K$53*100 -> -47.150166 | R25: 20092T
B26: 20093T | C26: 807 | D26: 9250.2881 | E26: 1255.039 | F26: 1181.3972 | J26: =AVERAGE(L25:L28) -> 92.498312 | K26: =AVERAGE(M25:M28) -> 11.049449 | L26: =F26/E26*100 -> 94.132312 | M26: =F26/D26*100 -> 12.771464 | N26: =J26/$J$53*100 -> 89.369578 | O26: =K26/$K$53*100 -> -42.77875 | P26: =L26/$J$53*100 -> 90.948307 | Q26: =M26/$K$53*100 -> -49.445655 | R26: 20093T
B27: 20094T | C27: 809 | D27: 9635.4889 | E27: 1063.189 | F27: 982.29668 | J27: =AVERAGE(L26:L29) -> 92.517895 | K27: =AVERAGE(M26:M29) -> 10.517066 | L27: =F27/E27*100 -> 92.391537 | M27: =F27/D27*100 -> 10.19457 | N27: =J27/$J$53*100 -> 89.388498 | O27: =K27/$K$53*100 -> -40.717587 | P27: =L27/$J$53*100 -> 89.266414 | Q27: =M27/$K$53*100 -> -39.469023 | R27: 20094T
B28: 20101T | C28: 800 | D28: 9489.251 | E28: 947.52145 | F28: 859.08162 | J28: =AVERAGE(L27:L30) -> 97.290499 | K28: =AVERAGE(M27:M30) -> 5.765243 | L28: =F28/E28*100 -> 90.666193 | M28: =F28/D28*100 -> 9.053208 | N28: =J28/$J$53*100 -> 93.999669 | O28: =K28/$K$53*100 -> -22.320559 | P28: =L28/$J$53*100 -> 87.599429 | Q28: =M28/$K$53*100 -> -35.050155 | R28: 20101T | S28: =F28/F24-1 -> -0.24272964 | T28: =AVERAGE(S28:S29) -> -0.13443624
B29: 20102T | C29: 804 | D29: 10144.462 | E29: 1097.5475 | F29: 1019.419 | J29: =AVERAGE(L28:L31) -> 106.071 | K29: =AVERAGE(M28:M31) -> 2.3366002 | L29: =F29/E29*100 -> 92.88154 | M29: =F29/D29*100 -> 10.04902 | N29: =J29/$J$53*100 -> 102.48317 | O29: =K29/$K$53*100 -> -9.0463181 | P29: =L29/$J$53*100 -> 89.739843 | Q29: =M29/$K$53*100 -> -38.905515 | R29: 20102T | S29: =F29/F25-1 -> -0.026142833 | T29: =+T28 -> -0.13443624
B30: 20103T | C30: 807 | D30: 9993.8728 | E30: -550.42002 | F30: -623.20055 | J30: =AVERAGE(L29:L32) -> 100.21559 | K30: =AVERAGE(M29:M32) -> 0.49115984 | L30: =F30/E30*100 -> 113.22273 | M30: =F30/D30*100 -> -6.2358263 | N30: =J30/$J$53*100 -> 96.82582 | O30: =K30/$K$53*100 -> -1.9015612 | P30: =L30/$J$53*100 -> 109.39299 | Q30: =M30/$K$53*100 -> 24.142457 | R30: 20103T | S30: =F30/F26-1 -> -1.5275114 | T30: =0.078396*S33+1.56291*T29-0.641306*T28 -> -0.17410393
B31: 20104T | C31: 807 | D31: 10710.801 | E31: -295.6708 | F31: -377.02033 | J31: =AVERAGE(L30:L33) -> 97.524954 | K31: =AVERAGE(M30:M33) -> -1.2044574 | L31: =F31/E31*100 -> 127.51355 | M31: =F31/D31*100 -> -3.5200011 | N31: =J31/$J$53*100 -> 94.226194 | O31: =K31/$K$53*100 -> 4.6631445 | P31: =L31/$J$53*100 -> 123.20043 | Q31: =M31/$K$53*100 -> 13.627941 | R31: 20104T | S31: =F31/F27-1 -> -1.3838151 | T31: =0.078396*S34+1.56291*T30-0.641306*T29 -> -0.12884158
B32: 20111T | C32: 810 | D32: 11150.855 | E32: 277.16832 | F32: 186.38058 | J32: =AVERAGE(L31:L34) -> 96.114213 | K32: =AVERAGE(M31:M34) -> -2.0007989 | L32: =F32/E32*100 -> 67.244545 | M32: =F32/D32*100 -> 1.6714466 | N32: =J32/$J$53*100 -> 92.863172 | O32: =K32/$K$53*100 -> 7.746239 | P32: =L32/$J$53*100 -> 64.970014 | Q32: =M32/$K$53*100 -> -6.4711274 | R32: 20111T | S32: =F32/F28-1 -> -0.78304672 | T32: =0.078396*S35+1.56291*T31-0.641306*T30 -> 0.01608555
B33: 20112T | C33: 811 | D33: 11221.468 | E33: 446.37056 | F33: 366.55501 | J33: =AVERAGE(L32:L35) -> 91.795707 | K33: =AVERAGE(M32:M35) -> -3.0523501 | L33: =F33/E33*100 -> 82.118993 | M33: =F33/D33*100 -> 3.2665514 | N33: =J33/$J$53*100 -> 88.690738 | O33: =K33/$K$53*100 -> 11.817396 | P33: =L33/$J$53*100 -> 79.341337 | Q33: =M33/$K$53*100 -> -12.646692 | R33: 20112T | S33: =F33/F29-1 -> -0.64042755 | T33: =0.078396*S36+1.56291*T32-0.641306*T31 -> 0.43244626
B34: 20113T | C34: 814 | D34: 11428.837 | E34: -1000.8692 | F34: -1076.7327 | J34: =AVERAGE(L33:L36) -> 97.890552 | K34: =AVERAGE(M33:M36) -> -1.5510852 | L34: =F34/E34*100 -> 107.57976 | M34: =F34/D34*100 -> -9.4211925 | N34: =J34/$J$53*100 -> 94.579426 | O34: =K34/$K$53*100 -> 6.0051394 | P34: =L34/$J$53*100 -> 103.9409 | Q34: =M34/$K$53*100 -> 36.474834 | R34: 20113T | S34: =F34/F30-1 -> 0.72774675 | T34: =0.078396*S37+1.56291*T33-0.641306*T32 -> 0.80545216
B35: 20114T | C35: 821 | D35: 11465.249 | E35: -803.54908 | F35: -885.82869 | J35: =AVERAGE(L34:L37) -> 100.57247 | K35: =AVERAGE(M34:M37) -> -0.13769036 | L35: =F35/E35*100 -> 110.23952 | M35: =F35/D35*100 -> -7.7262057 | N35: =J35/$J$53*100 -> 97.170632 | O35: =K35/$K$53*100 -> 0.53307828 | P35: =L35/$J$53*100 -> 106.5107 | Q35: =M35/$K$53*100 -> 29.912569 | R35: 20114T | S35: =F35/F31-1 -> 1.3495515 | T35: =0.078396*S38+1.56291*T34-0.641306*T33 -> 0.83579197
B36: 20121T | C36: 799 | D36: 12483.292 | E36: 1045.8848 | F36: 958.2807 | J36: =AVERAGE(L35:L38) -> 96.846626 | K36: =AVERAGE(M35:M38) -> 4.1660989 | L36: =F36/E36*100 -> 91.623927 | M36: =F36/D36*100 -> 7.6765062 | N36: =J36/$J$53*100 -> 93.570811 | O36: =K36/$K$53*100 -> -16.129356 | P36: =L36/$J$53*100 -> 88.524769 | Q36: =M36/$K$53*100 -> -29.720154 | R36: 20121T | S36: =F36/F32-1 -> 4.1415265 | T36: =0.078396*S39+1.56291*T35-0.641306*T34 -> 0.68014591
B37: 20122T | C37: 805 | D37: 11442.122 | E37: 1099.2878 | F37: 1020.6522 | J37: =AVERAGE(L36:L39) -> 89.581182 | K37: =AVERAGE(M36:M39) -> 6.8204642 | L37: =F37/E37*100 -> 92.846679 | M37: =F37/D37*100 -> 8.9201306 | N37: =J37/$J$53*100 -> 86.551119 | O37: =K37/$K$53*100 -> -26.405925 | P37: =L37/$J$53*100 -> 89.706161 | Q37: =M37/$K$53*100 -> -34.534937 | R37: 20122T | S37: =F37/F33-1 -> 1.7844449 | T37: =0.078396*S40+1.56291*T36-0.641306*T35 -> 0.39189689
B38: 20123T | C38: 806 | D38: 11865.06 | E38: 997.83633 | F38: 924.75853 | J38: =AVERAGE(L37:L40) -> 95.071745 | K38: =AVERAGE(M37:M40) -> 3.4141932 | L38: =F38/E38*100 -> 92.676374 | M38: =F38/D38*100 -> 7.7939645 | N38: =J38/$J$53*100 -> 91.855965 | O38: =K38/$K$53*100 -> -13.218298 | P38: =L38/$J$53*100 -> 89.541617 | Q38: =M38/$K$53*100 -> -30.174902 | R38: 20123T | S38: =F38/F34-1 -> -1.8588562 | T38: =0.078396*S41+1.56291*T37-0.641306*T36 -> 0.089302604
B39: 20124T | C39: 815 | D39: 12187.285 | E39: 434.0667 | F39: 352.36557 | J39: =AVERAGE(L38:L41) -> 155.11805 | K39: =AVERAGE(M38:M41) -> 0.94652475 | L39: =F39/E39*100 -> 81.177748 | M39: =F39/D39*100 -> 2.8912557 | N39: =J39/$J$53*100 -> 149.87121 | O39: =K39/$K$53*100 -> -3.6645396 | P39: =L39/$J$53*100 -> 78.431929 | Q39: =M39/$K$53*100 -> -11.193707 | R39: 20124T | S39: =F39/F35-1 -> -1.3977807 | T39: =0.078396*S42+1.56291*T38-0.641306*T37 -> -0.15941459
B40: 20131T | C40: 780 | D40: 11654.343 | E40: -610.34512 | F40: -693.2677 | J40: =AVERAGE(L39:L42) -> 152.9998 | K40: =AVERAGE(M39:M42) -> -0.27239135 | L40: =F40/E40*100 -> 113.58618 | M40: =F40/D40*100 -> -5.9485781 | N40: =J40/$J$53*100 -> 147.82462 | O40: =K40/$K$53*100 -> 1.054583 | P40: =L40/$J$53*100 -> 109.74415 | Q40: =M40/$K$53*100 -> 23.030354 | R40: 20131T | S40: =F40/F36-1 -> -1.7234495 | T40: =0.078396*S43+1.56291*T39-0.641306*T38 -> -0.42415029
B41: 20132T | C41: 785 | D41: 11805.508 | E41: -33.695405 | F41: -112.21645 | J41: =AVERAGE(L40:L43) -> 178.37544 | K41: =AVERAGE(M40:M43) -> -1.3506762 | L41: =F41/E41*100 -> 333.03189 | M41: =F41/D41*100 -> -0.95054313 | N41: =J41/$J$53*100 -> 172.34193 | O41: =K41/$K$53*100 -> 5.2292414 | P41: =L41/$J$53*100 -> 321.76716 | Q41: =M41/$K$53*100 -> 3.6800971 | R41: 20132T | S41: =F41/F37-1 -> -1.1099458 | T41: =0.078396*S44+1.56291*T40-0.641306*T39 -> -0.60873432
... B44: 20141T | C44: 783 | D44: 12282.168 | E44: -182.93349 | F44: -268.27351 | J44: =AVERAGE(L43:L46) -> 151.85683 | K44: =AVERAGE(M43:M46) -> -0.80993528 | L44: =F44/E44*100 -> 146.65085 | M44: =F44/D44*100 -> -2.184252 | N44: =J44/$J$53*100 -> 146.72031 | O44: =K44/$K$53*100 -> 3.1357235 | P44: =L44/$J$53*100 -> 141.69041 | Q44: =M44/$K$53*100 -> 8.4564911 | R44: 20141T | S44: =F44/F40-1 -> -0.61303042 | T44: =0.078396*S47+1.56291*T43-0.641306*T42 -> -0.52409499
B45: 20142T | C45: 796 | D45: 12575.051 | E45: 151.68626 | F45: 70.132943 | J45: =AVERAGE(L44:L47) -> 133.02827 | K45: =AVERAGE(M44:M47) -> -2.9016117 | L45: =AVERAGE(L43:L44,L47) -> 145.56573 | M45: =F45/D45*100 -> 0.55771496 | N45: =J45/$J$53*100 -> 128.52862 | O45: =K45/$K$53*100 -> 11.233801 | P45: =L45/$J$53*100 -> 140.642 | Q45: =M45/$K$53*100 -> -2.1592342 | R45: 20142T | S45: =F45/F41-1 -> -1.6249792 | T45: =0.078396*S48+1.56291*T44-0.641306*T43 -> 0.25913253
...

Sheet Elec+gas - 35
C2: ELEC+GAS - 35
C3: D. Número de empresas | D3: A. Ventas totales | E3: S.1. Ventas - compras | F3: S.2. Indicador de resultado bruto de explotación | G3: A. Ventas y otros ingresos (IS) | H3: S.1. Ventas - compras (IS) | I3: S.2. Resultado bruto de explotación (IS) | K3: % total | L3: Margen Ventas unitario sobre ventas-compras(IVARET) | M3: Margen Ventas unitario (IVARET) | N3: Margen Ventas unitario sobre ventas-compras(IS) | O3: Margen Ventas unitario (IS) | S3: S.2. Indicador RBE (tasa var) | T3: S.2. RBE (tasa var)
B4: 2009 | C4: 16542 | D4: 67079.073 | E4: 4903.706 | F4: 2682.2262 | G4: 55289.197 | H4: 15090.604 | I4: 12334.813 | K4: =I4/Total!I4 -> 0.097528065 | L4: =F4/E4*100 -> 54.697941 | M4: =F4/D4*100 -> 3.9986036 | N4: =I4/H4*100 -> 81.738365 | O4: =I4/G4*100 -> 22.309625 | R4: 2009
B5: 2010 | C5: 16638 | D5: 77730.167 | E5: 2099.9861 | F5: -122.40958 | G5: 72713.931 | H5: 16701.962 | I5: 13964.303 | K5: =I5/Total!I5 -> 0.10991279 | L5: =F5/E5*100 -> -5.8290664 | M5: =F5/D5*100 -> -0.15748015 | N5: =I5/H5*100 -> 83.608756 | O5: =I5/G5*100 -> 19.204439 | R5: 2010 | S5: =F5/F4-1 -> -1.0456373 | T5: =I5/I4-1 -> 0.13210495
B6: 2011 | C6: 18070 | D6: 85108.463 | E6: 4810.4787 | F6: 2533.4327 | G6: 78694.706 | H6: 17250.517 | I6: 14668.539 | K6: =I6/Total!I6 -> 0.14555762 | L6: =F6/E6*100 -> 52.664877 | M6: =F6/D6*100 -> 2.9767107 | N6: =I6/H6*100 -> 85.032456 | O6: =I6/G6*100 -> 18.639803 | R6: 2011 | S6: =F6/F5-1 -> -21.696359 | T6: =I6/I5-1 -> 0.050431162
B7: 2012 | C7: 16013 | D7: 86809.91 | E7: 9638.0219 | F7: 7556.9122 | G7: 84919.572 | H7: 16779.899 | I7: 14350.669 | K7: =I7/Total!I7 -> 0.13468092 | L7: =F7/E7*100 -> 78.407295 | M7: =F7/D7*100 -> 8.7051262 | N7: =I7/H7*100 -> 85.522977 | O7: =I7/G7*100 -> 16.899131 | R7: 2012 | S7: =F7/F6-1 -> 1.9828747 | T7: =I7/I6-1 -> -0.021670126
B8: 2013 | C8: 14454 | D8: 87474.4 | E8: 15686.151 | F8: 13571.555 | G8: 87198.529 | H8: 15767.033 | I8: 13440.654 | K8: =I8/Total!I8 -> 0.14177111 | L8: =F8/E8*100 -> 86.519346 | M8: =F8/D8*100 -> 15.514888 | N8: =I8/H8*100 -> 85.245296 | O8: =I8/G8*100 -> 15.413854 | R8: 2013 | S8: =F8/F7-1 -> 0.7959128 | T8: =I8/I7-1 -> -0.063412772
B9: 2014 | C9: 14225 | D9: 93105.039 | E9: 19532.477 | F9: 17226.149 | G9: 90685.239 | H9: 17673.509 | I9: 14793.39 | K9: =I9/Total!I9 -> 0.13851434 | L9: =F9/E9*100 -> 88.192343 | M9: =F9/D9*100 -> 18.501844 | N9: =I9/H9*100 -> 83.703749 | O9: =I9/G9*100 -> 16.312897 | R9: 2014 | S9: =F9/F8-1 -> 0.26928336 | T9: =I9/I8-1 -> 0.10064513
B10: 2015 | C10: 14705 | D10: 99995.97 | E10: 20142.403 | F10: 17789.979 | G10: 90941.936 | H10: 18320.63 | I10: 15328.581 | K10: =I10/Total!I10 -> 0.12331777 | L10: =F10/E10*100 -> 88.321037 | M10: =F10/D10*100 -> 17.790696 | N10: =I10/H10*100 -> 83.668416 | O10: =I10/G10*100 -> 16.855349 | R10: 2015 | S10: =F10/F9-1 -> 0.032731034 | T10: =I10/I9-1 -> 0.036177689
B11: 2016 | C11: 13974 | D11: 89370.986 | E11: 18246.733 | F11: 15955.53 | G11: 82350.373 | H11: 18298.673 | I11: 15550.813 | K11: =I11/Total!I11 -> 0.12694756 | L11: =F11/E11*100 -> 87.443212 | M11: =F11/D11*100 -> 17.853143 | N11: =I11/H11*100 -> 84.983278 | O11: =I11/G11*100 -> 18.883718 | R11: 2016 | S11: =F11/F10-1 -> -0.10311702 | T11: =I11/I10-1 -> 0.014497872
B12: 2017 | C12: 14678 | D12: 95320.22 | E12: 16815.498 | F12: 14571.64 | G12: 87828.566 | H12: 17178.915 | I12: 14319.356 | K12: =I12/Total!I12 -> 0.1068382 | L12: =F12/E12*100 -> 86.656013 | M12: =F12/D12*100 -> 15.28704 | N12: =I12/H12*100 -> 83.354254 | O12: =I12/G12*100 -> 16.303757 | R12: 2017 | S12: =F12/F11-1 -> -0.086734165 | T12: =I12/I11-1 -> -0.079189182
B13: 2018 | C13: 15321 | D13: 100746.23 | E13: 18154.495 | F13: 15853.089 | G13: 89870.056 | H13: 18297.797 | I13: 15433.947 | K13: =I13/Total!I13 -> 0.11061942 | L13: =F13/E13*100 -> 87.323217 | M13: =F13/D13*100 -> 15.735665 | N13: =I13/H13*100 -> 84.34866 | O13: =I13/G13*100 -> 17.173626 | R13: 2018 | S13: =F13/F12-1 -> 0.087941326 | T13: =I13/I12-1 -> 0.077838032
B14: 2019 | C14: 15675 | D14: 100778.46 | E14: 20528.915 | F14: 18224.915 | G14: 91810.355 | H14: 19274.426 | I14: 16287 | K14: =I14/Total!I14 -> 0.1109207 | L14: =F14/E14*100 -> 88.776806 | M14: =F14/D14*100 -> 18.084137 | N14: =I14/H14*100 -> 84.500573 | O14: =I14/G14*100 -> 17.739829 | R14: 2019 | S14: =F14/F13-1 -> 0.14961283 | T14: =I14/I13-1 -> 0.055271232
B15: 2020 | C15: 15863 | D15: 86280.037 | E15: 17421.968 | F15: 15078.235 | G15: 79456.272 | H15: 17818.184 | I15: 14858.591 | K15: =I15/Total!I15 -> 0.12833475 | L15: =F15/E15*100 -> 86.547257 | M15: =F15/D15*100 -> 17.475926 | N15: =I15/H15*100 -> 83.390044 | O15: =I15/G15*100 -> 18.700338 | R15: 2020 | S15: =F15/F14-1 -> -0.17265811 | T15: =I15/I14-1 -> -0.087702388
B16: 2021 | C16: 16393 | D16: 138722.78 | E16: 21554.34 | F16: 19222.021 | G16: 123442.9 | H16: 21107.843 | I16: 18023.619 | K16: =I16/Total!I16 -> 0.11570995 | L16: =F16/E16*100 -> 89.179357 | M16: =F16/D16*100 -> 13.856427 | N16: =I16/H16*100 -> 85.388255 | O16: =I16/G16*100 -> 14.600774 | R16: 2021 | S16: =F16/F15-1 -> 0.27481903 | T16: =I16/I15-1 -> 0.2130099
... B18: 2023 | C18: 17682 | D18: 149807.6 | E18: 38519.39 | F18: 36001.794 | G18: 136151.94 | H18: 26518.422 | I18: 23228.427 | K18: =I18/Total!I18 -> 0.11799757 | L18: =F18/E18*100 -> 93.464081 | M18: =F18/D18*100 -> 24.032021 | N18: =I18/H18*100 -> 87.59355 | O18: =I18/G18*100 -> 17.060665 | R18: 2023 | S18: =F18/F17-1 -> -0.39042243 | T18: =I18/I17-1 -> -0.17106209
B19: 2024 | C19: 17413 | D19: 125994.39 | E19: 30201.899 | F19: 27769.753 | G19: =G18*(1+G22) -> 116664.4 | H19: =H18*(1+H22) -> 25655.253 | I19: =I18*(1+I22) -> 22297.844 | K19: =I19/Total!I19 -> 0.10327543 | L19: =F19/E19*100 -> 91.947042 | M19: =F19/D19*100 -> 22.040468 | N19: =I19/H19*100 -> 86.913369 | O19: =I19/G19*100 -> 19.112809 | R19: 2024 | S19: =F19/F18-1 -> -0.22865641 | T19: =I19/I18-1 -> -0.040062223
B20: 2025 | D20: =D19*(SUM(D88:D90)/SUM(D84:D86)) -> 145043.35 | E20: =E19*(SUM(E88:E90)/SUM(E84:E86)) -> 34118.487 | F20: =F19*(SUM(F88:F90)/SUM(F84:F86)) -> 31617.708 | I20: =I19*(1+T20) -> 25387.576 | L20: =F20/E20*100 -> 92.670309 | M20: =F20/D20*100 -> 21.798798 | N20: =N19*(L20/L19) -> 87.59704 | O20: =O19*(M20/M19) -> 18.903241 | R20: 2025 | S20: =F20/F19-1 -> 0.1385664 | T20: =+S20 -> 0.1385664
B22: Tasas IS pob. Cte-> | G22: -0.14313086 | H22: -0.032549786 | I22: -0.040062223
C23: D. Número de empresas | D23: A. Ventas totales | E23: S.1. Ventas - compras | F23: S.2. Indicador de resultado bruto de explotación | J23: mm4 MU sobre ventas compras | K23: mm4 MU s/ ventas | N23: Base 2016=100 | O23: Base 2016=100
B24: 20091T | C24: 15943 | D24: 17476.182 | E24: 2783.9889 | F24: 2226.4894 | L24: =F24/E24*100 -> 79.974793 | M24: =F24/D24*100 -> 12.740136 | P24: =L24/$J$53*100 -> 91.534771 | Q24: =M24/$K$53*100 -> 70.582652 | R24: 20091T
B25: 20092T | C25: 16122 | D25: 17390.695 | E25: 1461.0765 | F25: 890.73644 | J25: =AVERAGE(L24:L27) -> 66.958687 | K25: =AVERAGE(M24:M27) -> 7.3559446 | L25: =F25/E25*100 -> 60.964395 | M25: =F25/D25*100 -> 5.121914 | N25: =J25/$J$53*100 -> 76.637249 | O25: =K25/$K$53*100 -> 40.75326 | P25: =L25/$J$53*100 -> 69.77651 | Q25: =M25/$K$53*100 -> 28.376328 | R25: 20092T
B26: 20093T | C26: 16165 | D26: 14949.88 | E26: 1184.6133 | F26: 704.11882 | J26: =AVERAGE(L25:L28) -> 65.833739 | K26: =AVERAGE(M25:M28) -> 6.4193779 | L26: =F26/E26*100 -> 59.438706 | M26: =F26/D26*100 -> 4.7098626 | N26: =J26/$J$53*100 -> 75.349695 | O26: =K26/$K$53*100 -> 35.564512 | P26: =L26/$J$53*100 -> 68.03029 | Q26: =M26/$K$53*100 -> 26.093489 | R26: 20093T
B27: 20094T | C27: 16409 | D27: 17262.316 | E27: -525.97267 | F27: -1139.1184 | J27: =AVERAGE(L26:L29) -> 66.038484 | K27: =AVERAGE(M26:M29) -> 6.5433254 | L27: =AVERAGE(L26,L28) -> 67.456854 | M27: =AVERAGE(M26,M28) -> 6.8518658 | N27: =J27/$J$53*100 -> 75.584034 | O27: =K27/$K$53*100 -> 36.251203 | P27: =L27/$J$53*100 -> 77.207423 | Q27: =M27/$K$53*100 -> 37.960573 | R27: 20094T
B28: 20101T | C28: 16277 | D28: 19171.078 | E28: 2284.4936 | F28: 1724.2216 | J28: =AVERAGE(L27:L30) -> 63.201744 | K28: =AVERAGE(M27:M30) -> 5.9262445 | L28: =F28/E28*100 -> 75.475002 | M28: =F28/D28*100 -> 8.9938691 | N28: =J28/$J$53*100 -> 72.337257 | O28: =K28/$K$53*100 -> 32.832464 | P28: =L28/$J$53*100 -> 86.384557 | Q28: =M28/$K$53*100 -> 49.827657 | R28: 20101T | S28: =F28/F24-1 -> -0.22558732 | T28: =AVERAGE(S28:S29) -> -0.65130741
B29: 20102T | C29: 16432 | D29: 18202.862 | E29: 557.95039 | F29: -68.611208 | J29: =AVERAGE(L28:L31) -> 61.351392 | K29: =AVERAGE(M28:M31) -> 5.394965 | L29: =AVERAGE(L28,L30) -> 61.783373 | M29: =AVERAGE(M28,M30) -> 5.6177041 | N29: =J29/$J$53*100 -> 70.219445 | O29: =K29/$K$53*100 -> 29.889079 | P29: =L29/$J$53*100 -> 70.713868 | Q29: =M29/$K$53*100 -> 31.123094 | R29: 20102T | S29: =F29/F25-1 -> -1.0770275 | T29: =+T28 -> -0.65130741
B30: 20103T | C30: 16499 | D30: 19781.677 | E30: 922.01691 | F30: 443.41401 | J30: =AVERAGE(L29:L32) -> 60.487429 | K30: =AVERAGE(M29:M32) -> 4.9494868 | L30: =F30/E30*100 -> 48.091744 | M30: =F30/D30*100 -> 2.2415391 | N30: =J30/$J$53*100 -> 69.230601 | O30: =K30/$K$53*100 -> 27.42105 | P30: =L30/$J$53*100 -> 55.043178 | Q30: =M30/$K$53*100 -> 12.418531 | R30: 20103T | S30: =F30/F26-1 -> -0.37025684 | T30: =0.078396*S33+1.56291*T29-0.641306*T28 -> -0.82254831
B31: 20104T | C31: 16550 | D31: 20574.551 | E31: -1664.4748 | F31: -2221.434 | J31: =AVERAGE(L30:L33) -> 62.064053 | K31: =AVERAGE(M30:M33) -> 4.9631274 | L31: =AVERAGE(L30,L32) -> 60.055447 | M31: =AVERAGE(M30,M32) -> 4.7267476 | N31: =J31/$J$53*100 -> 71.035119 | O31: =K31/$K$53*100 -> 27.496621 | P31: =L31/$J$53*100 -> 68.736178 | Q31: =M31/$K$53*100 -> 26.187035 | R31: 20104T | S31: =F31/F27-1 -> 0.9501344 | T31: =0.078396*S34+1.56291*T30-0.641306*T29 -> -0.78946373
B32: 20111T | C32: 17670 | D32: 21289.902 | E32: 2131.9586 | F32: 1535.4184 | J32: =AVERAGE(L31:L34) -> 66.081265 | K32: =AVERAGE(M31:M34) -> 5.435887 | L32: =F32/E32*100 -> 72.01915 | M32: =F32/D32*100 -> 7.2119562 | N32: =J32/$J$53*100 -> 75.632999 | O32: =K32/$K$53*100 -> 30.115794 | P32: =L32/$J$53*100 -> 82.429178 | Q32: =M32/$K$53*100 -> 39.955538 | R32: 20111T | S32: =F32/F28-1 -> -0.10950053 | T32: =0.078396*S35+1.56291*T31-0.641306*T30 -> -0.78422642
B33: 20112T | C33: 17764 | D33: 19962.496 | E33: 726.1275 | F33: 125.94369 | J33: =AVERAGE(L32:L35) -> 50.414714 | K33: =AVERAGE(M32:M35) -> 4.2375867 | L33: =AVERAGE(L32,L34) -> 68.089871 | M33: =AVERAGE(M32,M34) -> 5.6722667 | N33: =J33/$J$53*100 -> 57.701923 | O33: =K33/$K$53*100 -> 23.476995 | P33: =L33/$J$53*100 -> 77.93194 | Q33: =M33/$K$53*100 -> 31.425381 | R33: 20112T | S33: =F33/F29-1 -> -2.835614 | T33: =0.078396*S36+1.56291*T32-0.641306*T31 -> -0.68579498
B34: 20113T | C34: 17841 | D34: 21462.439 | E34: 1382.3935 | F34: 886.95185 | J34: =AVERAGE(L33:L36) -> 52.52393 | K34: =AVERAGE(M33:M36) -> 4.8465827 | L34: =F34/E34*100 -> 64.160592 | M34: =F34/D34*100 -> 4.1325773 | N34: =J34/$J$53*100 -> 60.116016 | O34: =K34/$K$53*100 -> 26.850943 | P34: =L34/$J$53*100 -> 73.434702 | Q34: =M34/$K$53*100 -> 22.895224 | R34: 20113T | S34: =F34/F30-1 -> 1.0002793 | T34: =0.078396*S37+1.56291*T33-0.641306*T32 -> 0.58244997
B35: 20114T | C35: 17955 | D35: 22393.625 | E35: 569.99911 | F35: -14.881288 | J35: =AVERAGE(L34:L37) -> 55.13388 | K35: =AVERAGE(M34:M37) -> 5.7508443 | L35: =F35/E35*100 -> -2.6107564 | M35: =F35/D35*100 -> -0.066453235 | N35: =J35/$J$53*100 -> 63.103221 | O35: =K35/$K$53*100 -> 31.860715 | P35: =L35/$J$53*100 -> -2.9881289 | Q35: =M35/$K$53*100 -> -0.36816291 | R35: 20114T | S35: =F35/F31-1 -> -0.99330104 | T35: =0.078396*S38+1.56291*T34-0.641306*T33 -> 1.4416083
B36: 20121T | C36: 15804 | D36: 22733.784 | E36: 2726.1378 | F36: 2193.3418 | J36: =AVERAGE(L35:L38) -> 59.268219 | K36: =AVERAGE(M35:M38) -> 7.0418864 | L36: =F36/E36*100 -> 80.456013 | M36: =F36/D36*100 -> 9.6479401 | N36: =J36/$J$53*100 -> 67.83516 | O36: =K36/$K$53*100 -> 39.013321 | P36: =L36/$J$53*100 -> 92.085549 | Q36: =M36/$K$53*100 -> 53.451329 | R36: 20121T | S36: =F36/F32-1 -> 0.42849778 | T36: =0.078396*S39+1.56291*T35-0.641306*T34 -> -5.9215941
B37: 20122T | C37: 15816 | D37: 21267.512 | E37: 2515.7444 | F37: 1975.6058 | J37: =AVERAGE(L36:L39) -> 78.114289 | K37: =AVERAGE(M36:M39) -> 8.7142261 | L37: =F37/E37*100 -> 78.52967 | M37: =F37/D37*100 -> 9.2893131 | N37: =J37/$J$53*100 -> 89.40534 | O37: =K37/$K$53*100 -> 48.278385 | P37: =L37/$J$53*100 -> 89.880762 | Q37: =M37/$K$53*100 -> 51.464471 | R37: 20122T | S37: =F37/F33-1 -> 14.686421 | T37: =0.078396*S40+1.56291*T36-0.641306*T35 -> -10.105547
B38: 20123T | C38: 15834 | D38: 20674.03 | E38: 2381.7359 | F38: 1922.012 | J38: =AVERAGE(L37:L40) -> 80.139136 | K38: =AVERAGE(M37:M40) -> 11.020479 | L38: =F38/E38*100 -> 80.697949 | M38: =F38/D38*100 -> 9.2967457 | N38: =J38/$J$53*100 -> 91.722869 | O38: =K38/$K$53*100 -> 61.055444 | P38: =L38/$J$53*100 -> 92.362456 | Q38: =M38/$K$53*100 -> 51.505648 | R38: 20123T | S38: =F38/F34-1 -> 1.1669857 | T38: =0.078396*S41+1.56291*T37-0.641306*T36 -> -11.960823
B39: 20124T | C39: 15897 | D39: 22134.584 | E39: 2014.4038 | F39: 1465.9526 | J39: =AVERAGE(L38:L41) -> 81.43938 | K39: =AVERAGE(M38:M41) -> 12.264097 | L39: =F39/E39*100 -> 72.773523 | M39: =F39/D39*100 -> 6.6229055 | N39: =J39/$J$53*100 -> 93.211057 | O39: =K39/$K$53*100 -> 67.945311 | P39: =L39/$J$53*100 -> 83.292592 | Q39: =M39/$K$53*100 -> 36.692091 | R39: 20124T | S39: =F39/F35-1 -> -99.50979 | T39: =0.078396*S42+1.56291*T38-0.641306*T37 -> -12.148304
B40: 20131T | C40: 14341 | D40: 22574.314 | E40: 4811.0447 | F40: 4260.4399 | J40: =AVERAGE(L39:L42) -> 83.351971 | K40: =AVERAGE(M39:M42) -> 13.954941 | L40: =F40/E40*100 -> 88.5554 | M40: =F40/D40*100 -> 18.872954 | N40: =J40/$J$53*100 -> 95.400104 | O40: =K40/$K$53*100 -> 77.312892 | P40: =L40/$J$53*100 -> 101.35566 | Q40: =M40/$K$53*100 -> 104.55957 | R40: 20131T | S40: =F40/F36-1 -> 0.94244227 | T40: =0.078396*S43+1.56291*T39-0.641306*T38 -> -11.237888
B41: 20132T | C41: 14373 | D41: 20154.934 | E41: 3433.4576 | F41: 2874.8563 | J41: =AVERAGE(L40:L43) -> 86.249896 | K41: =AVERAGE(M40:M43) -> 15.495984 | L41: =F41/E41*100 -> 83.730648 | M41: =F41/D41*100 -> 14.263784 | N41: =J41/$J$53*100 -> 98.716911 | O41: =K41/$K$53*100 -> 85.850549 | P41: =L41/$J$53*100 -> 95.833517 | Q41: =M41/$K$53*100 -> 79.023939 | R41: 20132T | S41: =F41/F37-1 -> 0.45517707 | T41: =0.078396*S44+1.56291*T40-0.641306*T39 -> -9.765386
