Workbook
Name Print_Area: 'Aliment - 10'!$V$4:$AM$66
Name Print_Area: 'CM combust - 4671'!$V$4:$AM$66
Name Print_Area: 'Comercio mayorista - (467-4671)'!$V$4:$AM$65
Name Print_Area: 'Comercio minorista e.n.e - 471'!$V$4:$AM$66
Name Print_Area: 'Construcción - 41+42+43'!$V$4:$AM$66
Name Print_Area: 'Elec+gas - 35'!$V$4:$AM$66
Name Print_Area: 'Fab vehículos motor - 29'!$V$4:$AM$66
Name Print_Area: 'Ind química - 20'!$V$4:$AM$66
Name Print_Area: 'Refino - 19'!$V$4:$AM$66
Name Print_Area: Total!$V$4:$AM$66
Name Print_Area: 'Total(sin 19, 35, 4671)'!$V$4:$AM$66

Sheet Total
C2: TOTAL
C3: D. Número de empresas | D3: A. Ventas totales | E3: S.1. Ventas - compras | F3: S.2. Indicador de resultado bruto de explotación | G3: A. Ventas y otros ingresos (IS) | H3: S.1. Ventas - compras (IS) | I3: S.2. Resultado bruto de explotación (IS) | L3: Margen Ventas unitario sobre ventas-compras(IVARET) | M3: Margen Ventas unitario (IVARET) | N3: Margen Ventas unitario sobre ventas-compras(IS) | O3: Margen Ventas unitario (IS) | S3: S.2. Indicador RBE (tasa var) | T3: S.2. RBE (tasa var)
B4: 2009 | C4: 898172 | D4: 1473906.6 | E4: 326022.25 | F4: 147220.46 | G4: 1547165 | H4: 369924.06 | I4: 126474.49 | L4: =F4/E4*100 -> 45.156568 | M4: =F4/D4*100 -> 9.9884523 | N4: =I4/H4*100 -> 34.189313 | O4: =I4/G4*100 -> 8.1745965 | R4: 2009
B5: 2010 | C5: 868537 | D5: 1490999.7 | E5: 319861.33 | F5: 150473.09 | G5: 1568789.5 | H5: 362433.93 | I5: 127048.93 | L5: =F5/E5*100 -> 47.043227 | M5: =F5/D5*100 -> 10.092094 | N5: =I5/H5*100 -> 35.054368 | O5: =I5/G5*100 -> 8.0985326 | R5: 2010 | S5: =F5/F4-1 -> 0.022093593 | T5: =I5/I4-1 -> 0.0045418811
B6: 2011 | C6: 891824 | D6: 1494067.8 | E6: 309552 | F6: 134682.12 | G6: 1572753.8 | H6: 336211.84 | I6: 100774.79 | L6: =F6/E6*100 -> 43.508723 | M6: =F6/D6*100 -> 9.0144583 | N6: =I6/H6*100 -> 29.9736 | O6: =I6/G6*100 -> 6.4075376 | R6: 2011 | S6: =F6/F5-1 -> -0.10494213 | T6: =I6/I5-1 -> -0.20680328
B7: 2012 | C7: 870333 | D7: 1426245.4 | E7: 318968.82 | F7: 154509.32 | G7: 1535925.3 | H7: 327962.87 | I7: 106553.1 | L7: =F7/E7*100 -> 48.440258 | M7: =F7/D7*100 -> 10.833292 | N7: =I7/H7*100 -> 32.48938 | O7: =I7/G7*100 -> 6.9373882 | R7: 2012 | S7: =F7/F6-1 -> 0.14721477 | T7: =I7/I6-1 -> 0.057338853
B8: 2013 | C8: 856191 | D8: 1386321.3 | E8: 311194.44 | F8: 153373.93 | G8: 1485036.1 | H8: 308182.57 | I8: 94805.306 | L8: =F8/E8*100 -> 49.285561 | M8: =F8/D8*100 -> 11.063376 | N8: =I8/H8*100 -> 30.762708 | O8: =I8/G8*100 -> 6.3840403 | R8: 2013 | S8: =F8/F7-1 -> -0.0073483755 | T8: =I8/I7-1 -> -0.11025298
B9: 2014 | C9: 855436 | D9: 1437169.2 | E9: 314535.31 | F9: 153422.12 | G9: 1549515.7 | H9: 325034.14 | I9: 106800.43 | L9: =F9/E9*100 -> 48.77739 | M9: =F9/D9*100 -> 10.6753 | N9: =I9/H9*100 -> 32.858217 | O9: =I9/G9*100 -> 6.8925036 | R9: 2014 | S9: =F9/F8-1 -> 0.0003142026 | T9: =I9/I8-1 -> 0.12652371
B10: 2015 | C10: 864577 | D10: 1523349.5 | E10: 326278.63 | F10: 158138.95 | G10: 1606980.2 | H10: 353992.61 | I10: 124301.47 | L10: =F10/E10*100 -> 48.467456 | M10: =F10/D10*100 -> 10.381003 | N10: =I10/H10*100 -> 35.114143 | O10: =I10/G10*100 -> 7.7350964 | R10: 2015 | S10: =F10/F9-1 -> 0.030744144 | T10: =I10/I9-1 -> 0.16386681
B11: 2016 | C11: 906696 | D11: 1571681.3 | E11: 344812.59 | F11: 165943.45 | G11: 1639193.1 | H11: 363882.52 | I11: 122497.92 | L11: =F11/E11*100 -> 48.125693 | M11: =F11/D11*100 -> 10.55834 | N11: =I11/H11*100 -> 33.664139 | O11: =I11/G11*100 -> 7.4730621 | R11: 2016 | S11: =F11/F10-1 -> 0.049352163 | T11: =I11/I10-1 -> -0.014509494
B12: 2017 | C12: 928643 | D12: 1708181.5 | E12: 371129.21 | F12: 179709.93 | G12: 1784785.8 | H12: 392023.61 | I12: 134028.43 | L12: =F12/E12*100 -> 48.42247 | M12: =F12/D12*100 -> 10.52054 | N12: =I12/H12*100 -> 34.188867 | O12: =I12/G12*100 -> 7.5094965 | R12: 2017 | S12: =F12/F11-1 -> 0.082958867 | T12: =I12/I11-1 -> 0.094128207
B13: 2018 | C13: 939009 | D13: 1812741 | E13: 392502.94 | F13: 189480.19 | G13: 1891329.3 | H13: 413432.92 | I13: 139522.95 | L13: =F13/E13*100 -> 48.274845 | M13: =F13/D13*100 -> 10.45269 | N13: =I13/H13*100 -> 33.74742 | O13: =I13/G13*100 -> 7.3769781 | R13: 2018 | S13: =F13/F12-1 -> 0.054366817 | T13: =I13/I12-1 -> 0.040995156
B14: 2019 | C14: 952381 | D14: 1880795.3 | E14: 422366.89 | F14: 206796.4 | G14: 1941569.9 | H14: 438423.15 | I14: 146834.64 | L14: =F14/E14*100 -> 48.961318 | M14: =F14/D14*100 -> 10.995157 | N14: =I14/H14*100 -> 33.491534 | O14: =I14/G14*100 -> 7.5626758 | R14: 2019 | S14: =F14/F13-1 -> 0.091387968 | T14: =I14/I13-1 -> 0.052404948
B15: 2020 | C15: 946401 | D15: 1668858.7 | E15: 368761.98 | F15: 167287.01 | G15: 1732066.3 | H15: 388724.41 | I15: 115779.95 | L15: =F15/E15*100 -> 45.364495 | M15: =F15/D15*100 -> 10.024037 | N15: =I15/H15*100 -> 29.784585 | O15: =I15/G15*100 -> 6.6844989 | R15: 2020 | S15: =F15/F14-1 -> -0.19105451 | T15: =I15/I14-1 -> -0.21149428
B16: 2021 | C16: 969498 | D16: 2004142.9 | E16: 446366.08 | F16: 228581.39 | G16: 2079127.7 | H16: 456124.62 | I16: 155765.51 | L16: =F16/E16*100 -> 51.209399 | M16: =F16/D16*100 -> 11.405444 | N16: =I16/H16*100 -> 34.14977 | O16: =I16/G16*100 -> 7.4918683 | R16: 2021 | S16: =F16/F15-1 -> 0.36640247 | T16: =I16/I15-1 -> 0.34535822
B17: 2022 | C17: 988205 | D17: 2470331.4 | E17: 551905.26 | F17: 306384.7 | G17: 2496607.1 | H17: 514125.74 | I17: 183628.72 | L17: =F17/E17*100 -> 55.514003 | M17: =F17/D17*100 -> 12.402575 | N17: =I17/H17*100 -> 35.716695 | O17: =I17/G17*100 -> 7.3551312 | R17: 2022 | S17: =F17/F16-1 -> 0.34037468 | T17: =I17/I16-1 -> 0.17887923
B18: 2023 | C18: 1004985 | D18: 2423317.9 | E18: 578019.22 | F18: 311127.34 | G18: 2494559.6 | H18: 559296.12 | I18: 196855.12 | L18: =F18/E18*100 -> 53.826469 | M18: =F18/D18*100 -> 12.838899 | N18: =I18/H18*100 -> 35.196941 | O18: =I18/G18*100 -> 7.8913779 | R18: 2023 | S18: =F18/F17-1 -> 0.01547935 | T18: =I18/I17-1 -> 0.072027946
B19: 2024 | C19: 1030913 | D19: 2485592.3 | E19: 605490.48 | F19: 321389.08 | G19: =G18*(1+G22) -> 2559798.2 | H19: =H18*(1+H22) -> 603691.47 | I19: =I18*(1+I22) -> 215906.57 | L19: =F19/E19*100 -> 53.079131 | M19: =F19/D19*100 -> 12.93008 | N19: =I19/H19*100 -> 35.764391 | O19: =I19/G19*100 -> 8.4345156 | R19: 2024 | S19: =F19/F18-1 -> 0.032982466 | T19: =I19/I18-1 -> 0.096779047
B20: 2025 | D20: =D19*(SUM(D88:D90)/SUM(D84:D86)) -> 2600608.9 | E20: =E19*(SUM(E88:E90)/SUM(E84:E86)) -> 630442.22 | F20: =F19*(SUM(F88:F90)/SUM(F84:F86)) -> 328474.82 | I20: =I19*(1+T20) -> 220666.72 | L20: =F20/E20*100 -> 52.102288 | M20: =F20/D20*100 -> 12.630689 | N20: =N19*(L20/L19) -> 35.1062 | O20: =O19*(M20/M19) -> 8.2392173 | R20: 2025 | S20: =F20/F19-1 -> 0.022047225 | T20: =+S20 -> 0.022047225
B22: Tasas IS pob. Cte-> | G22: 0.026152344 | H22: 0.079377179 | I22: 0.096779047
J23: mm4 MU sobre ventas compras | K23: mm4 MU s/ ventas | N23: Base 2016=100 | O23: Base 2016=100
B24: 20091T | C24: 866857 | D24: 342468.95 | E24: 71079.088 | F24: 28284.108 | L24: =F24/E24*100 -> 39.792446 | M24: =F24/D24*100 -> 8.2588824 | P24: =L24/$J$53*100 -> 82.970781 | Q24: =M24/$K$53*100 -> 78.323517 | R24: 20091T
B25: 20092T | C25: 874979 | D25: 364392.44 | E25: 79499.579 | F25: 34633.888 | J25: =AVERAGE(L24:L27) -> 44.834518 | K25: =AVERAGE(M24:M27) -> 9.9261768 | L25: =F25/E25*100 -> 43.564869 | M25: =F25/D25*100 -> 9.5045572 | N25: =J25/$J$53*100 -> 93.48395 | O25: =K25/$K$53*100 -> 94.135385 | P25: =L25/$J$53*100 -> 90.836619 | Q25: =M25/$K$53*100 -> 90.136936 | R25: 20092T
B26: 20093T | C26: 878488 | D26: 357434.42 | E26: 80829.857 | F26: 38166.474 | J26: =AVERAGE(L25:L28) -> 46.352793 | K26: =AVERAGE(M25:M28) -> 10.354384 | L26: =F26/E26*100 -> 47.218287 | M26: =F26/D26*100 -> 10.677895 | N26: =J26/$J$53*100 -> 96.649687 | O26: =K26/$K$53*100 -> 98.196314 | P26: =L26/$J$53*100 -> 98.45432 | Q26: =M26/$K$53*100 -> 101.26435 | R26: 20093T
B27: 20094T | C27: 887189 | D27: 409610.82 | E27: 94613.725 | F27: 46135.991 | J27: =AVERAGE(L26:L29) -> 48.601248 | K27: =AVERAGE(M26:M29) -> 11.007914 | L27: =F27/E27*100 -> 48.762472 | M27: =F27/D27*100 -> 11.263372 | N27: =J27/$J$53*100 -> 101.33792 | O27: =K27/$K$53*100 -> 104.3941 | P27: =L27/$J$53*100 -> 101.67408 | Q27: =M27/$K$53*100 -> 106.81674 | R27: 20094T
B28: 20101T | C28: 844743 | D28: 344136.98 | E28: 74819.458 | F28: 34316.351 | J28: =AVERAGE(L27:L30) -> 47.562902 | K28: =AVERAGE(M27:M30) -> 10.542285 | L28: =F28/E28*100 -> 45.865544 | M28: =F28/D28*100 -> 9.971713 | N28: =J28/$J$53*100 -> 99.172873 | O28: =K28/$K$53*100 -> 99.978276 | P28: =L28/$J$53*100 -> 95.63373 | Q28: =M28/$K$53*100 -> 94.56723 | R28: 20101T | S28: =F28/F24-1 -> 0.21327325 | T28: =AVERAGE(S28:S29) -> 0.29014916
B29: 20102T | C29: 854063 | D29: 390681.19 | E29: 90080.999 | F29: 47345.392 | J29: =AVERAGE(L28:L31) -> 46.761121 | K29: =AVERAGE(M28:M31) -> 10.062513 | L29: =F29/E29*100 -> 52.55869 | M29: =F29/D29*100 -> 12.118677 | N29: =J29/$J$53*100 -> 97.501087 | O29: =K29/$K$53*100 -> 95.42834 | P29: =L29/$J$53*100 -> 109.58953 | Q29: =M29/$K$53*100 -> 114.92807 | R29: 20102T | S29: =F29/F25-1 -> 0.36702507 | T29: =+T28 -> 0.29014916
B30: 20103T | C30: 857022 | D30: 349478.1 | E30: 71538.095 | F30: 30807.812 | J30: =AVERAGE(L29:L32) -> 45.995589 | K30: =AVERAGE(M29:M32) -> 9.7578813 | L30: =F30/E30*100 -> 43.064904 | M30: =F30/D30*100 -> 8.815377 | N30: =J30/$J$53*100 -> 95.904886 | O30: =K30/$K$53*100 -> 92.539347 | P30: =L30/$J$53*100 -> 89.794147 | Q30: =M30/$K$53*100 -> 83.601061 | R30: 20103T | S30: =F30/F26-1 -> -0.19280435 | T30: =0.078396*S33+1.56291*T29-0.641306*T28 -> 0.24311897
B31: 20104T | C31: 857854 | D31: 406703.44 | E31: 83422.775 | F31: 38003.534 | J31: =AVERAGE(L30:L33) -> 43.493943 | K31: =AVERAGE(M30:M33) -> 8.9122217 | L31: =F31/E31*100 -> 45.555345 | M31: =F31/D31*100 -> 9.3442863 | N31: =J31/$J$53*100 -> 90.688732 | O31: =K31/$K$53*100 -> 84.519493 | P31: =L31/$J$53*100 -> 94.986938 | Q31: =M31/$K$53*100 -> 88.616999 | R31: 20104T | S31: =F31/F27-1 -> -0.17627144 | T31: =0.078396*S34+1.56291*T30-0.641306*T29 -> 0.20401962
B32: 20111T | C32: 853088 | D32: 359163.54 | E32: 73447.985 | F32: 31438.248 | J32: =AVERAGE(L31:L34) -> 44.028225 | K32: =AVERAGE(M31:M34) -> 9.0954937 | L32: =F32/E32*100 -> 42.803418 | M32: =F32/D32*100 -> 8.7531848 | N32: =J32/$J$53*100 -> 91.802757 | O32: =K32/$K$53*100 -> 86.257562 | P32: =L32/$J$53*100 -> 89.248926 | Q32: =M32/$K$53*100 -> 83.011258 | R32: 20111T | S32: =F32/F28-1 -> -0.083869737 | T32: =0.078396*S35+1.56291*T31-0.641306*T30 -> 0.15836156
B33: 20112T | C33: 862810 | D33: 374080.94 | E33: 76799.62 | F33: 32679.856 | J33: =AVERAGE(L32:L35) -> 43.501278 | K33: =AVERAGE(M32:M35) -> 9.0152134 | L33: =F33/E33*100 -> 42.552107 | M33: =F33/D33*100 -> 8.7360388 | N33: =J33/$J$53*100 -> 90.704025 | O33: =K33/$K$53*100 -> 85.496219 | P33: =L33/$J$53*100 -> 88.724919 | Q33: =M33/$K$53*100 -> 82.848653 | R33: 20112T | S33: =F33/F29-1 -> -0.30975636 | T33: =0.078396*S36+1.56291*T32-0.641306*T31 -> 0.12740008
B34: 20113T | C34: 868086 | D34: 364300.55 | E34: 76954.754 | F34: 34785.111 | J34: =AVERAGE(L33:L36) -> 44.583068 | K34: =AVERAGE(M33:M36) -> 9.385479 | L34: =F34/E34*100 -> 45.20203 | M34: =F34/D34*100 -> 9.5484651 | N34: =J34/$J$53*100 -> 92.959653 | O34: =K34/$K$53*100 -> 89.007651 | P34: =L34/$J$53*100 -> 94.250245 | Q34: =M34/$K$53*100 -> 90.553338 | R34: 20113T | S34: =F34/F30-1 -> 0.12910035 | T34: =0.078396*S37+1.56291*T33-0.641306*T32 -> 0.11265774
B35: 20114T | C35: 880672 | D35: 396522.81 | E35: 82349.642 | F35: 35778.907 | J35: =AVERAGE(L34:L37) -> 46.02941 | K35: =AVERAGE(M34:M37) -> 9.9287506 | L35: =F35/E35*100 -> 43.447557 | M35: =F35/D35*100 -> 9.0231649 | N35: =J35/$J$53*100 -> 95.975406 | O35: =K35/$K$53*100 -> 94.159794 | P35: =L35/$J$53*100 -> 90.592012 | Q35: =M35/$K$53*100 -> 85.571628 | R35: 20114T | S35: =F35/F31-1 -> -0.058537353 | T35: =0.078396*S38+1.56291*T34-0.641306*T33 -> 0.11299319
B36: 20121T | C36: 829439 | D36: 349247.69 | E36: 75837.968 | F36: 35742.872 | J36: =AVERAGE(L35:L38) -> 47.77788 | K36: =AVERAGE(M35:M38) -> 10.619243 | L36: =F36/E36*100 -> 47.130578 | M36: =F36/D36*100 -> 10.234247 | N36: =J36/$J$53*100 -> 99.621119 | O36: =K36/$K$53*100 -> 100.70811 | P36: =L36/$J$53*100 -> 98.271437 | Q36: =M36/$K$53*100 -> 97.056987 | R36: 20121T | S36: =F36/F32-1 -> 0.13692316 | T36: =0.078396*S39+1.56291*T35-0.641306*T34 -> 0.10646441
B37: 20122T | C37: 838464 | D37: 357268.25 | E37: 80630.689 | F37: 38974.84 | J37: =AVERAGE(L36:L39) -> 48.394608 | K37: =AVERAGE(M36:M39) -> 10.845847 | L37: =F37/E37*100 -> 48.337477 | M37: =F37/D37*100 -> 10.909125 | N37: =J37/$J$53*100 -> 100.90705 | O37: =K37/$K$53*100 -> 102.85712 | P37: =L37/$J$53*100 -> 100.78793 | Q37: =M37/$K$53*100 -> 103.45722 | R37: 20122T | S37: =F37/F33-1 -> 0.19262583 | T37: =0.078396*S40+1.56291*T36-0.641306*T35 -> 0.083063971
B38: 20123T | C38: 844086 | D38: 349685.13 | E38: 82473.441 | F38: 43047.761 | J38: =AVERAGE(L37:L40) -> 47.847052 | K38: =AVERAGE(M37:M40) -> 10.679064 | L38: =F38/E38*100 -> 52.195907 | M38: =F38/D38*100 -> 12.310435 | N38: =J38/$J$53*100 -> 99.76535 | O38: =K38/$K$53*100 -> 101.27543 | P38: =L38/$J$53*100 -> 108.8331 | Q38: =M38/$K$53*100 -> 116.74662 | R38: 20123T | S38: =F38/F34-1 -> 0.23753408 | T38: =0.078396*S41+1.56291*T37-0.641306*T36 -> 0.059953903
B39: 20124T | C39: 857284 | D39: 370044.28 | E39: 80026.723 | F39: 36743.847 | J39: =AVERAGE(L38:L41) -> 48.037098 | K39: =AVERAGE(M38:M41) -> 10.697623 | L39: =F39/E39*100 -> 45.914471 | M39: =F39/D39*100 -> 9.929581 | N39: =J39/$J$53*100 -> 100.16161 | O39: =K39/$K$53*100 -> 101.45143 | P39: =L39/$J$53*100 -> 95.735747 | Q39: =M39/$K$53*100 -> 94.167669 | R39: 20124T | S39: =F39/F35-1 -> 0.026969503 | T39: =0.078396*S42+1.56291*T38-0.641306*T37 -> 0.043719049
B40: 20131T | C40: 810941 | D40: 321813.44 | E40: 68509.172 | F40: 30788.263 | J40: =AVERAGE(L39:L42) -> 48.492731 | K40: =AVERAGE(M39:M42) -> 10.885201 | L40: =F40/E40*100 -> 44.940353 | M40: =F40/D40*100 -> 9.5671155 | N40: =J40/$J$53*100 -> 101.11165 | O40: =K40/$K$53*100 -> 103.23034 | P40: =L40/$J$53*100 -> 93.704624 | Q40: =M40/$K$53*100 -> 90.73021 | R40: 20131T | S40: =F40/F36-1 -> -0.13861809 | T40: =0.078396*S43+1.56291*T39-0.641306*T38 -> 0.035867056
B41: 20132T | C41: 822466 | D41: 347650.45 | E41: 77770.911 | F41: 38183.698 | J41: =AVERAGE(L40:L43) -> 49.089189 | K41: =AVERAGE(M40:M43) -> 11.050436 | L41: =F41/E41*100 -> 49.097661 | M41: =F41/D41*100 -> 10.983359 | N41: =J41/$J$53*100 -> 102.35532 | O41: =K41/$K$53*100 -> 104.79735 | P41: =L41/$J$53*100 -> 102.37298 | Q41: =M41/$K$53*100 -> 104.16123 | R41: 20132T | S41: =F41/F37-1 -> -0.020298793 | T41: =0.078396*S44+1.56291*T40-0.641306*T39 -> 0.029544157
... B87: 20244T | C87: 1008397 | D87: 668659.43 | E87: 156636.61 | F87: 80789.263 | J87: =AVERAGE(L86:L89) -> 52.219511 | K87: =AVERAGE(M86:M89) -> 12.638598 | L87: =F87/E87*100 -> 51.57751 | M87: =F87/D87*100 -> 12.082274 | N87: =J87/$J$53*100 -> 108.88232 | O87: =K87/$K$53*100 -> 119.85877 | P87: =L87/$J$53*100 -> 107.54369 | Q87: =M87/$K$53*100 -> 114.58284 | R87: 20244T | S87: =F87/F83-1 -> 0.012912977 | T87: =0.078396*S90+1.56291*T86-0.641306*T85 -> 0.017078873
B88: 20251T | C88: 951978 | D88: 618845.14 | E88: 142471.01 | F88: 70121.424 | J88: =AVERAGE(L87:L90) -> 52.255084 | K88: =AVERAGE(M87:M90) -> 12.70906 | L88: =F88/E88*100 -> 49.218029 | M88: =F88/D88*100 -> 11.331013 | N88: =J88/$J$53*100 -> 108.95649 | O88: =K88/$K$53*100 -> 120.52699 | P88: =L88/$J$53*100 -> 102.62396 | Q88: =M88/$K$53*100 -> 107.45822 | R88: 20251T | S88: =F88/F84-1 -> -0.046511966
B89: 20252T | C89: 946583 | D89: 646931.6 | E89: 163777.71 | F89: 87567.307 | L89: =F89/E89*100 -> 53.46717 | M89: =F89/D89*100 -> 13.535791 | P89: =L89/$J$53*100 -> 111.48379 | Q89: =M89/$K$53*100 -> 128.36734 | R89: 20252T | S89: =F89/F85-1 -> 0.039261007
B90: 20253T | C90: 938359 | D90: 635231.65 | E90: 161102.03 | F90: 88215.647 | L90: =F90/E90*100 -> 54.757627 | M90: =F90/D90*100 -> 13.887162 | P90: =L90/$J$53*100 -> 114.17451 | Q90: =M90/$K$53*100 -> 131.69958 | R90: 20253T | S90: =F90/F86-1 -> 0.065424295

Sheet Refino - 19
C2: REFINO - 19
C3: D. Número de empresas | D3: A. Ventas totales | E3: S.1. Ventas - compras | F3: S.2. Indicador de resultado bruto de explotación | G3: A. Ventas y otros ingresos (IS) | H3: S.1. Ventas - compras (IS) | I3: S.2. Resultado bruto de explotación (IS) | K3: % total | L3: Margen Ventas unitario sobre ventas-compras(IVARET) | M3: Margen Ventas unitario (IVARET) | N3: Margen Ventas unitario sobre ventas-compras(IS) | O3: Margen Ventas unitario (IS) | S3: S.2. Indicador RBE (tasa var) | T3: S.2. RBE (tasa var)
B4: 2009 | C4: 32 | D4: 30381.923 | E4: 4677.0654 | F4: 4232.7908 | G4: 33909.933 | H4: 1411.9726 | I4: 816.26944 | K4: =I4/Total!I4 -> 0.0064540241 | L4: =F4/E4*100 -> 90.500997 | M4: =F4/D4*100 -> 13.931939 | N4: =I4/H4*100 -> 57.810571 | O4: =I4/G4*100 -> 2.4071692 | R4: 2009
B5: 2010 | C5: 27 | D5: 36028.838 | E5: 6754.3121 | F5: 6321.2732 | G5: 40204.303 | H5: 2093.0895 | I5: 1487.6127 | K5: =I5/Total!I5 -> 0.011708975 | L5: =F5/E5*100 -> 93.588705 | M5: =F5/D5*100 -> 17.545038 | N5: =I5/H5*100 -> 71.072577 | O5: =I5/G5*100 -> 3.700133 | R5: 2010 | S5: =F5/F4-1 -> 0.49340552 | T5: =I5/I4-1 -> 0.82245298
B6: 2011 | C6: 29 | D6: 42510.671 | E6: 6554.833 | F6: 6089.5288 | G6: 49299.086 | H6: 1994.0071 | I6: 1381.1275 | K6: =I6/Total!I6 -> 0.013705089 | L6: =F6/E6*100 -> 92.901357 | M6: =F6/D6*100 -> 14.324706 | N6: =I6/H6*100 -> 69.26392 | O6: =I6/G6*100 -> 2.8015275 | R6: 2011 | S6: =F6/F5-1 -> -0.036661039 | T6: =I6/I5-1 -> -0.071581273
B7: 2012 | C7: 27 | D7: 48825.493 | E7: 10778.543 | F7: 10309.995 | G7: 58619.709 | H7: 2881.0556 | I7: 2274.1115 | K7: =I7/Total!I7 -> 0.021342518 | L7: =F7/E7*100 -> 95.652965 | M7: =F7/D7*100 -> 21.116009 | N7: =I7/H7*100 -> 78.933274 | O7: =I7/G7*100 -> 3.8794316 | R7: 2012 | S7: =F7/F6-1 -> 0.6930695 | T7: =I7/I6-1 -> 0.64656167
B8: 2013 | C8: 24 | D8: 44186.297 | E8: 6469.68 | F8: 5993.4032 | G8: 54437.149 | H8: 1790.8207 | I8: 1158.1618 | K8: =I8/Total!I8 -> 0.012216212 | L8: =F8/E8*100 -> 92.638325 | M8: =F8/D8*100 -> 13.563941 | N8: =I8/H8*100 -> 64.672121 | O8: =I8/G8*100 -> 2.127521 | R8: 2013 | S8: =F8/F7-1 -> -0.41868033 | T8: =I8/I7-1 -> -0.49071902
B9: 2014 | C9: 18 | D9: 41848.549 | E9: 5900.8452 | F9: 5367.6569 | G9: 50757.693 | H9: 1477.8706 | I9: 748.555 | K9: =I9/Total!I9 -> 0.007008914 | L9: =F9/E9*100 -> 90.964204 | M9: =F9/D9*100 -> 12.826387 | N9: =I9/H9*100 -> 50.650915 | O9: =I9/G9*100 -> 1.4747617 | R9: 2014 | S9: =F9/F8-1 -> -0.10440585 | T9: =I9/I8-1 -> -0.35366973
B10: 2015 | C10: 15 | D10: 34613.406 | E10: 3884.2823 | F10: 3402.7651 | G10: 39281.386 | H10: 3304.453 | I10: 2665.2204 | K10: =I10/Total!I10 -> 0.021441583 | L10: =F10/E10*100 -> 87.603445 | M10: =F10/D10*100 -> 9.8307721 | N10: =I10/H10*100 -> 80.655417 | O10: =I10/G10*100 -> 6.7849447 | R10: 2015 | S10: =F10/F9-1 -> -0.36606136 | T10: =I10/I9-1 -> 2.560487
B11: 2016 | C11: 16 | D11: 30523.575 | E11: 4648.6305 | F11: 4161.9551 | G11: 34141.731 | H11: 2906.6837 | I11: 2213.6381 | K11: =I11/Total!I11 -> 0.018070822 | L11: =F11/E11*100 -> 89.530781 | M11: =F11/D11*100 -> 13.635215 | N11: =I11/H11*100 -> 76.156828 | O11: =I11/G11*100 -> 6.4836726 | R11: 2016 | S11: =F11/F10-1 -> 0.22310974 | T11: =I11/I10-1 -> -0.16943525
B12: 2017 | C12: 17 | D12: 37922.49 | E12: 6489.086 | F12: 5998.1173 | G12: 40761.378 | H12: 2953.564 | I12: 2309.1607 | K12: =I12/Total!I12 -> 0.017228887 | L12: =F12/E12*100 -> 92.433931 | M12: =F12/D12*100 -> 15.816781 | N12: =I12/H12*100 -> 78.182177 | O12: =I12/G12*100 -> 5.6650701 | R12: 2017 | S12: =F12/F11-1 -> 0.44117778 | T12: =I12/I11-1 -> 0.043151847
B13: 2018 | C13: 15 | D13: 46194.949 | E13: 10847.205 | F13: 10314.376 | G13: 48548.038 | H13: 2718.1798 | I13: 2067.454 | K13: =I13/Total!I13 -> 0.014818021 | L13: =F13/E13*100 -> 95.08786 | M13: =F13/D13*100 -> 22.327929 | N13: =I13/H13*100 -> 76.060235 | O13: =I13/G13*100 -> 4.2585737 | R13: 2018 | S13: =F13/F12-1 -> 0.71960219 | T13: =I13/I12-1 -> -0.10467296
B14: 2019 | C14: 13 | D14: 45694.104 | E14: 11548.6 | F14: 11037.264 | G14: 46831.756 | H14: 1991.267 | I14: 1323.2293 | K14: =I14/Total!I14 -> 0.0090116974 | L14: =F14/E14*100 -> 95.572311 | M14: =F14/D14*100 -> 24.154679 | N14: =I14/H14*100 -> 66.451629 | O14: =I14/G14*100 -> 2.8254958 | R14: 2019 | S14: =F14/F13-1 -> 0.070085546 | T14: =I14/I13-1 -> -0.35997157
B15: 2020 | C15: 13 | D15: 28818.407 | E15: 5638.2641 | F15: 5103.1773 | G15: 29870.82 | H15: 800.74599 | I15: 109.07276 | K15: =I15/Total!I15 -> 0.00094206948 | L15: =F15/E15*100 -> 90.509725 | M15: =F15/D15*100 -> 17.708048 | N15: =I15/H15*100 -> 13.621393 | O15: =I15/G15*100 -> 0.36514819 | R15: 2020 | S15: =F15/F14-1 -> -0.5376411 | T15: =I15/I14-1 -> -0.91757078
B16: 2021 | C16: 13 | D16: 43870.97 | E16: 11840.134 | F16: 11321.889 | G16: 45455.597 | H16: 1568.5404 | I16: 854.45152 | K16: =I16/Total!I16 -> 0.0054854988 | L16: =F16/E16*100 -> 95.622979 | M16: =F16/D16*100 -> 25.807246 | N16: =I16/H16*100 -> 54.474308 | O16: =I16/G16*100 -> 1.8797498 | R16: 2021 | S16: =F16/F15-1 -> 1.218596 | T16: =I16/I15-1 -> 6.8337757
B17: 2022 | C17: 13 | D17: 72790.494 | E17: 4150.7629 | F17: 3592.1052 | G17: 73484.168 | H17: 4593.913 | I17: 3799.6961 | K17: =I17/Total!I17 -> 0.020692275 | L17: =F17/E17*100 -> 86.540844 | M17: =F17/D17*100 -> 4.9348549 | N17: =I17/H17*100 -> 82.71154 | O17: =I17/G17*100 -> 5.1707684 | R17: 2022 | S17: =F17/F16-1 -> -0.68272916 | T17: =I17/I16-1 -> 3.4469417
B18: 2023 | C18: 13 | D18: 56990.519 | E18: 10454.513 | F18: 9865.6212 | G18: 58452.083 | H18: 1587.177 | I18: 791.81689 | K18: =I18/Total!I18 -> 0.0040223332 | L18: =F18/E18*100 -> 94.367109 | M18: =F18/D18*100 -> 17.310987 | N18: =I18/H18*100 -> 49.888379 | O18: =I18/G18*100 -> 1.3546427 | R18: 2023 | S18: =F18/F17-1 -> 1.7464733 | T18: =I18/I17-1 -> -0.79161047
B19: 2024 | C19: 13 | D19: 54788.991 | E19: 8964.9526 | F19: 8343.5336 | G19: =G18*(1+G22) -> 56675.722 | H19: =H18*(1+H22) -> 1358.9496 | I19: =I18*(1+I22) -> 505.65251 | K19: =I19/Total!I19 -> 0.0023419968 | L19: =F19/E19*100 -> 93.068352 | M19: =F19/D19*100 -> 15.228486 | N19: =I19/H19*100 -> 37.209071 | O19: =I19/G19*100 -> 0.89218539 | R19: 2024 | S19: =F19/F18-1 -> -0.15428199 | T19: =I19/I18-1 -> -0.36140221
B20: 2025 | D20: =D19*(SUM(D88:D90)/SUM(D84:D86)) -> 55132.439 | E20: =E19*(SUM(E88:E90)/SUM(E84:E86)) -> 11849.525 | F20: =F19*(SUM(F88:F90)/SUM(F84:F86)) -> 11250.93 | I20: =I19*(1+T20) -> 681.85273 | L20: =F20/E20*100 -> 94.948364 | M20: =F20/D20*100 -> 20.407097 | N20: =N19*(L20/L19) -> 37.960707 | O20: =O19*(M20/M19) -> 1.1955827 | R20: 2025 | S20: =F20/F19-1 -> 0.34846108 | T20: =+S20 -> 0.34846108
B22: Tasas IS pob. Cte-> | G22: -0.030390033 | H22: -0.14379459 | I22: -0.36140221
J23: mm4 MU sobre ventas compras | K23: mm4 MU s/ ventas | N23: Base 2016=100 | O23: Base 2016=100
B24: 20091T | C24: 31 | D24: 6723.7394 | E24: 832.81916 | F24: 719.95046 | L24: =F24/E24*100 -> 86.447394 | M24: =F24/D24*100 -> 10.70759 | P24: =L24/$J$53*100 -> 98.36823 | Q24: =M24/$K$53*100 -> 80.856632 | R24: 20091T
B25: 20092T | C25: 30 | D25: 7652.8932 | E25: 1650.9524 | F25: 1534.1312 | J25: =AVERAGE(L24:L27) -> 89.913325 | K25: =AVERAGE(M24:M27) -> 13.874947 | L25: =F25/E25*100 -> 92.924014 | M25: =F25/D25*100 -> 20.046421 | N25: =J25/$J$53*100 -> 102.3121 | O25: =K25/$K$53*100 -> 104.77441 | P25: =L25/$J$53*100 -> 105.73796 | Q25: =M25/$K$53*100 -> 151.3773 | R25: 20092T
B26: 20093T | C26: 29 | D26: 7912.2148 | E26: 1139.8741 | F26: 1049.2911 | J26: =AVERAGE(L25:L28) -> 91.729248 | K26: =AVERAGE(M25:M28) -> 16.13896 | L26: =F26/E26*100 -> 92.053248 | M26: =F26/D26*100 -> 13.261662 | N26: =J26/$J$53*100 -> 104.37844 | O26: =K26/$K$53*100 -> 121.87074 | P26: =L26/$J$53*100 -> 104.74711 | Q26: =M26/$K$53*100 -> 100.14329 | R26: 20093T
B27: 20094T | C27: 30 | D27: 8093.0754 | E27: 1053.4198 | F27: 929.41803 | J27: =AVERAGE(L26:L29) -> 91.975451 | K27: =AVERAGE(M26:M29) -> 16.023599 | L27: =F27/E27*100 -> 88.228645 | M27: =F27/D27*100 -> 11.484114 | N27: =J27/$J$53*100 -> 104.65859 | O27: =K27/$K$53*100 -> 120.99961 | P27: =L27/$J$53*100 -> 100.39511 | Q27: =M27/$K$53*100 -> 86.720428 | R27: 20094T
B28: 20101T | C28: 26 | D28: 8212.5709 | E28: 1732.0289 | F28: 1623.1031 | J28: =AVERAGE(L27:L30) -> 92.615539 | K28: =AVERAGE(M27:M30) -> 17.236398 | L28: =F28/E28*100 -> 93.711086 | M28: =F28/D28*100 -> 19.763641 | N28: =J28/$J$53*100 -> 105.38694 | O28: =K28/$K$53*100 -> 130.15786 | P28: =L28/$J$53*100 -> 106.63356 | Q28: =M28/$K$53*100 -> 149.24193 | R28: 20101T | S28: =F28/F24-1 -> 1.2544649 | T28: =AVERAGE(S28:S29) -> 0.71514455
B29: 20102T | C29: 27 | D29: 9210.47 | E29: 1920.8722 | F29: 1803.8686 | J29: =AVERAGE(L28:L31) -> 93.4676 | K29: =AVERAGE(M28:M31) -> 17.632915 | L29: =F29/E29*100 -> 93.908827 | M29: =F29/D29*100 -> 19.584979 | N29: =J29/$J$53*100 -> 106.3565 | O29: =K29/$K$53*100 -> 133.1521 | P29: =L29/$J$53*100 -> 106.85857 | Q29: =M29/$K$53*100 -> 147.89279 | R29: 20102T | S29: =F29/F25-1 -> 0.17582419 | T29: =+T28 -> 0.71514455
B30: 20103T | C30: 26 | D30: 9171.5218 | E30: 1755.7989 | F30: 1661.2245 | J30: =AVERAGE(L29:L32) -> 93.581893 | K30: =AVERAGE(M29:M32) -> 17.405154 | L30: =F30/E30*100 -> 94.613598 | M30: =F30/D30*100 -> 18.112856 | N30: =J30/$J$53*100 -> 106.48655 | O30: =K30/$K$53*100 -> 131.4322 | P30: =L30/$J$53*100 -> 107.66053 | Q30: =M30/$K$53*100 -> 136.77629 | R30: 20103T | S30: =F30/F26-1 -> 0.58318739 | T30: =0.078396*S33+1.56291*T29-0.641306*T28 -> 0.63699752
B31: 20104T | C31: 27 | D31: 9434.2752 | E31: 1345.6121 | F31: 1233.0771 | J31: =AVERAGE(L30:L33) -> 92.906931 | K31: =AVERAGE(M30:M33) -> 15.518798 | L31: =F31/E31*100 -> 91.636892 | M31: =F31/D31*100 -> 13.070184 | N31: =J31/$J$53*100 -> 105.71852 | O31: =K31/$K$53*100 -> 117.18768 | P31: =L31/$J$53*100 -> 104.27334 | Q31: =M31/$K$53*100 -> 98.697373 | R31: 20104T | S31: =F31/F27-1 -> 0.32671957 | T31: =0.078396*S34+1.56291*T30-0.641306*T29 -> 0.55358788
B32: 20111T | C32: 25 | D32: 10096.568 | E32: 2021.3449 | F32: 1903.4653 | J32: =AVERAGE(L31:L34) -> 93.016737 | K32: =AVERAGE(M31:M34) -> 15.619395 | L32: =F32/E32*100 -> 94.168256 | M32: =F32/D32*100 -> 18.852597 | N32: =J32/$J$53*100 -> 105.84347 | O32: =K32/$K$53*100 -> 117.94733 | P32: =L32/$J$53*100 -> 107.15378 | Q32: =M32/$K$53*100 -> 142.36233 | R32: 20111T | S32: =F32/F28-1 -> 0.17273222 | T32: =0.078396*S35+1.56291*T31-0.641306*T30 -> 0.43401992
B33: 20112T | C33: 27 | D33: 10762.488 | E33: 1420.6448 | F33: 1295.7556 | J33: =AVERAGE(L32:L35) -> 92.147113 | K33: =AVERAGE(M32:M35) -> 14.385314 | L33: =F33/E33*100 -> 91.208978 | M33: =F33/D33*100 -> 12.039553 | N33: =J33/$J$53*100 -> 104.85392 | O33: =K33/$K$53*100 -> 108.62837 | P33: =L33/$J$53*100 -> 103.78642 | Q33: =M33/$K$53*100 -> 90.914736 | R33: 20112T | S33: =F33/F29-1 -> -0.28167962 | T33: =0.078396*S36+1.56291*T32-0.641306*T31 -> 0.36215241
B34: 20113T | C34: 29 | D34: 10877.123 | E34: 2118.7439 | F34: 2013.9259 | J34: =AVERAGE(L33:L36) -> 92.571968 | K34: =AVERAGE(M33:M36) -> 15.557894 | L34: =F34/E34*100 -> 95.052823 | M34: =F34/D34*100 -> 18.515245 | N34: =J34/$J$53*100 -> 105.33736 | O34: =K34/$K$53*100 -> 117.48291 | P34: =L34/$J$53*100 -> 108.16032 | Q34: =M34/$K$53*100 -> 139.81487 | R34: 20113T | S34: =F34/F30-1 -> 0.21231412 | T34: =0.078396*S37+1.56291*T33-0.641306*T32 -> 0.3744753
B35: 20114T | C35: 27 | D35: 10774.492 | E35: 994.09938 | F35: 876.38205 | J35: =AVERAGE(L34:L37) -> 93.6319 | K35: =AVERAGE(M34:M37) -> 18.440279 | L35: =F35/E35*100 -> 88.158394 | M35: =F35/D35*100 -> 8.1338595 | N35: =J35/$J$53*100 -> 106.54346 | O35: =K35/$K$53*100 -> 139.24878 | P35: =L35/$J$53*100 -> 100.31517 | Q35: =M35/$K$53*100 -> 61.421521 | R35: 20114T | S35: =F35/F31-1 -> -0.2892723 | T35: =0.078396*S38+1.56291*T34-0.641306*T33 -> 0.3757233
B36: 20121T | C36: 24 | D36: 12090.459 | E36: 2969.1412 | F36: 2846.4467 | J36: =AVERAGE(L35:L38) -> 93.946343 | K36: =AVERAGE(M35:M38) -> 18.919953 | L36: =F36/E36*100 -> 95.867677 | M36: =F36/D36*100 -> 23.542917 | N36: =J36/$J$53*100 -> 106.90126 | O36: =K36/$K$53*100 -> 142.87095 | P36: =L36/$J$53*100 -> 109.08754 | Q36: =M36/$K$53*100 -> 177.78052 | R36: 20121T | S36: =F36/F32-1 -> 0.49540248 | T36: =0.078396*S39+1.56291*T35-0.641306*T34 -> 0.45974138
B37: 20122T | C37: 25 | D37: 11584.954 | E37: 2860.6663 | F37: 2730.469 | J37: =AVERAGE(L36:L39) -> 95.617222 | K37: =AVERAGE(M36:M39) -> 21.178922 | L37: =F37/E37*100 -> 95.448707 | M37: =F37/D37*100 -> 23.569096 | N37: =J37/$J$53*100 -> 108.80255 | O37: =K37/$K$53*100 -> 159.9292 | P37: =L37/$J$53*100 -> 108.6108 | Q37: =M37/$K$53*100 -> 177.97821 | R37: 20122T | S37: =F37/F33-1 -> 1.1072408 | T37: =0.078396*S40+1.56291*T36-0.641306*T35 -> 0.41789054
B38: 20123T | C38: 26 | D38: 12709.919 | E38: 2696.6263 | F38: 2597.1368 | J38: =AVERAGE(L37:L40) -> 92.85774 | K38: =AVERAGE(M37:M40) -> 16.857903 | L38: =F38/E38*100 -> 96.310592 | M38: =F38/D38*100 -> 20.433937 | N38: =J38/$J$53*100 -> 105.66254 | O38: =K38/$K$53*100 -> 127.29972 | P38: =L38/$J$53*100 -> 109.59153 | Q38: =M38/$K$53*100 -> 154.30356 | R38: 20123T | S38: =F38/F34-1 -> 0.28958903 | T38: =0.078396*S41+1.56291*T37-0.641306*T36 -> 0.3304335
B39: 20124T | C39: 24 | D39: 12440.161 | E39: 2252.1087 | F39: 2135.943 | J39: =AVERAGE(L38:L41) -> 92.182496 | K39: =AVERAGE(M38:M41) -> 14.969357 | L39: =F39/E39*100 -> 94.841914 | M39: =F39/D39*100 -> 17.169737 | N39: =J39/$J$53*100 -> 104.89418 | O39: =K39/$K$53*100 -> 113.03868 | P39: =L39/$J$53*100 -> 107.92033 | Q39: =M39/$K$53*100 -> 129.65449 | R39: 20124T | S39: =F39/F35-1 -> 1.4372281 | T39: =0.078396*S42+1.56291*T38-0.641306*T37 -> 0.22898804
B40: 20131T | C40: 21 | D40: 10851.514 | E40: 800.63776 | F40: 679.179 | J40: =AVERAGE(L39:L42) -> 91.903883 | K40: =AVERAGE(M39:M42) -> 14.148731 | L40: =F40/E40*100 -> 84.829748 | M40: =F40/D40*100 -> 6.2588407 | N40: =J40/$J$53*100 -> 104.57715 | O40: =K40/$K$53*100 -> 106.84185 | P40: =L40/$J$53*100 -> 96.527515 | Q40: =M40/$K$53*100 -> 47.262621 | R40: 20131T | S40: =F40/F36-1 -> -0.76139409 | T40: =0.078396*S43+1.56291*T39-0.641306*T38 -> 0.12635686
B41: 20132T | C41: 21 | D41: 10991.226 | E41: 1897.8745 | F41: 1760.2355 | J41: =AVERAGE(L40:L43) -> 91.468923 | K41: =AVERAGE(M40:M43) -> 13.509387 | L41: =F41/E41*100 -> 92.747728 | M41: =F41/D41*100 -> 16.014915 | N41: =J41/$J$53*100 -> 104.08221 | O41: =K41/$K$53*100 -> 102.01394 | P41: =L41/$J$53*100 -> 105.53736 | Q41: =M41/$K$53*100 -> 120.93403 | R41: 20132T | S41: =F41/F37-1 -> -0.35533585 | T41: =0.078396*S44+1.56291*T40-0.641306*T39 -> 0.061591226
... B87: 20244T | C87: 12 | D87: 14225.889 | E87: 3167.5612 | F87: 3026.4406 | J87: =AVERAGE(L86:L89) -> 85.206609 | K87: =AVERAGE(M86:M89) -> 10.834839 | L87: =F87/E87*100 -> 95.544816 | M87: =F87/D87*100 -> 21.274175 | N87: =J87/$J$53*100 -> 96.956344 | O87: =K87/$K$53*100 -> 81.817527 | P87: =L87/$J$53*100 -> 108.72016 | Q87: =M87/$K$53*100 -> 160.64849 | R87: 20244T | S87: =F87/F83-1 -> 0.19370551 | T87: =0.078396*S90+1.56291*T86-0.641306*T85 -> 1.0488236
B88: 20251T | C88: 12 | D88: 13455.515 | E88: 747.00632 | F88: 564.71871 | J88: =AVERAGE(L87:L90) -> 89.873958 | K88: =AVERAGE(M87:M90) -> 18.208165 | L88: =F88/E88*100 -> 75.597582 | M88: =F88/D88*100 -> 4.1969313 | N88: =J88/$J$53*100 -> 102.26731 | O88: =K88/$K$53*100 -> 137.49601 | P88: =L88/$J$53*100 -> 86.022261 | Q88: =M88/$K$53*100 -> 31.692446 | R88: 20251T | S88: =F88/F84-1 -> -0.76421897
B89: 20252T | C89: 12 | D89: 13017.946 | E89: 2033.0545 | F89: 1848.9285 | L89: =F89/E89*100 -> 90.943381 | M89: =F89/D89*100 -> 14.202921 | P89: =L89/$J$53*100 -> 103.4842 | Q89: =M89/$K$53*100 -> 107.25105 | R89: 20252T | S89: =F89/F85-1 -> -0.25349966
B90: 20253T | C90: 12 | D90: 14343.913 | E90: 4882.7052 | F90: 4756.2458 | L90: =F90/E90*100 -> 97.410053 | M90: =F90/D90*100 -> 33.158634 | P90: =L90/$J$53*100 -> 110.84261 | Q90: =M90/$K$53*100 -> 250.39205 | R90: 20253T | S90: =F90/F86-1 -> 9.683401

Sheet CM combust - 4671
C2: COMERCIO AL POR MAYOR COMBUSTIBLES - 4671
C3: D. Número de empresas | D3: A. Ventas totales | E3: S.1. Ventas - compras | F3: S.2. Indicador de resultado bruto de explotación | G3: A. Ventas y otros ingresos (IS) | H3: S.1. Ventas - compras (IS) | I3: S.2. Resultado bruto de explotación (IS) | K3: % total | L3: Margen Ventas unitario sobre ventas-compras(IVARET) | M3: Margen Ventas unitario (IVARET) | N3: Margen Ventas unitario sobre ventas-compras(IS) | O3: Margen Ventas unitario (IS) | S3: S.2. Indicador RBE (tasa var) | T3: S.2. RBE (tasa var)
B4: 2009 | C4: 811 | D4: 35851.359 | E4: 4672.0371 | F4: 4344.924 | G4: 43136.009 | H4: 1925.5982 | I4: 1483.1421 | K4: =I4/Total!I4 -> 0.011726808 | L4: =F4/E4*100 -> 92.99849 | M4: =F4/D4*100 -> 12.119273 | N4: =I4/H4*100 -> 77.02241 | O4: =I4/G4*100 -> 3.4382924 | R4: 2009
B5: 2010 | C5: 814 | D5: 40338.387 | E5: 1198.9782 | F5: 878.2798 | G5: 52388.027 | H5: 1784.1969 | I5: 1343.2564 | K5: =I5/Total!I5 -> 0.010572749 | L5: =F5/E5*100 -> 73.25236 | M5: =F5/D5*100 -> 2.1772804 | N5: =I5/H5*100 -> 75.286331 | O5: =I5/G5*100 -> 2.5640523 | R5: 2010 | S5: =F5/F4-1 -> -0.79786072 | T5: =I5/I4-1 -> -0.094317156
B6: 2011 | C6: 828 | D6: 45266.408 | E6: -1080.8794 | F6: -1409.6258 | G6: 61842.026 | H6: 1949.4051 | I6: 1495.5774 | K6: =I6/Total!I6 -> 0.014840788 | L6: =F6/E6*100 -> 130.41472 | M6: =F6/D6*100 -> -3.114066 | N6: =I6/H6*100 -> 76.719681 | O6: =I6/G6*100 -> 2.4183835 | R6: 2011 | S6: =F6/F5-1 -> -2.6049849 | T6: =I6/I5-1 -> 0.11339679
B7: 2012 | C7: 819 | D7: 47977.759 | E7: 3577.0756 | F7: 3256.057 | G7: 62431.262 | H7: 2339.5577 | I7: 1902.7837 | K7: =I7/Total!I7 -> 0.017857609 | L7: =F7/E7*100 -> 91.02567 | M7: =F7/D7*100 -> 6.7865967 | N7: =I7/H7*100 -> 81.330916 | O7: =I7/G7*100 -> 3.0478059 | R7: 2012 | S7: =F7/F6-1 -> -3.3098733 | T7: =I7/I6-1 -> 0.27227367
B8: 2013 | C8: 807 | D8: 48316.877 | E8: -310.24815 | F8: -619.72182 | G8: 73636.594 | H8: 2169.9244 | I8: 1725.1043 | K8: =I8/Total!I8 -> 0.018196285 | L8: =F8/E8*100 -> 199.75037 | M8: =F8/D8*100 -> -1.2826198 | N8: =I8/H8*100 -> 79.500667 | O8: =I8/G8*100 -> 2.342727 | R8: 2013 | S8: =F8/F7-1 -> -1.1903289 | T8: =I8/I7-1 -> -0.093378636
B9: 2014 | C9: 814 | D9: 50109.665 | E9: -1094.1424 | F9: -1414.898 | G9: 89533.34 | H9: 1742.0345 | I9: 1292.9486 | K9: =I9/Total!I9 -> 0.012106212 | L9: =F9/E9*100 -> 129.31571 | M9: =F9/D9*100 -> -2.823603 | N9: =I9/H9*100 -> 74.220608 | O9: =I9/G9*100 -> 1.4440974 | R9: 2014 | S9: =F9/F8-1 -> 1.2831179 | T9: =I9/I8-1 -> -0.25050992
B10: 2015 | C10: 841 | D10: 42517.499 | E10: -9548.9056 | F10: -9879.3931 | G10: 66880.686 | H10: 1691.0921 | I10: 1242.2436 | K10: =I10/Total!I10 -> 0.0099937966 | L10: =F10/E10*100 -> 103.461 | M10: =F10/D10*100 -> -23.236063 | N10: =I10/H10*100 -> 73.458068 | O10: =I10/G10*100 -> 1.8574026 | R10: 2015 | S10: =F10/F9-1 -> 5.9824066 | T10: =I10/I9-1 -> -0.03921654
B11: 2016 | C11: 858 | D11: 40765.841 | E11: -9895.5976 | F11: -10240.102 | G11: 58883.766 | H11: 1772.921 | I11: 1211.9772 | K11: =I11/Total!I11 -> 0.0098938596 | L11: =F11/E11*100 -> 103.48139 | M11: =F11/D11*100 -> -25.119319 | N11: =I11/H11*100 -> 68.360475 | O11: =I11/G11*100 -> 2.0582536 | R11: 2016 | S11: =F11/F10-1 -> 0.036511227 | T11: =I11/I10-1 -> -0.024364303
B12: 2017 | C12: 886 | D12: 47911.759 | E12: -8278.1191 | F12: -8617.3924 | G12: 71530.79 | H12: 2217.0519 | I12: 1743.3828 | K12: =I12/Total!I12 -> 0.013007559 | L12: =F12/E12*100 -> 104.09843 | M12: =F12/D12*100 -> -17.985965 | N12: =I12/H12*100 -> 78.635181 | O12: =I12/G12*100 -> 2.437248 | R12: 2017 | S12: =F12/F11-1 -> -0.15846614 | T12: =I12/I11-1 -> 0.43846166
B13: 2018 | C13: 898 | D13: 58112.168 | E13: -5325.9888 | F13: -5692.8044 | G13: 87722.609 | H13: 2057.6103 | I13: 1572.9549 | K13: =I13/Total!I13 -> 0.011273808 | L13: =F13/E13*100 -> 106.88728 | M13: =F13/D13*100 -> -9.7962348 | N13: =I13/H13*100 -> 76.445714 | O13: =I13/G13*100 -> 1.7931009 | R13: 2018 | S13: =F13/F12-1 -> -0.33938202 | T13: =I13/I12-1 -> -0.097757018
B14: 2019 | C14: 915 | D14: 62542.213 | E14: -1953.3477 | F14: -2345.7932 | G14: 85794.767 | H14: 2516.219 | I14: 1984.6061 | K14: =I14/Total!I14 -> 0.013515926 | L14: =F14/E14*100 -> 120.09092 | M14: =F14/D14*100 -> -3.7507359 | N14: =I14/H14*100 -> 78.872551 | O14: =I14/G14*100 -> 2.3132018 | R14: 2019 | S14: =F14/F13-1 -> -0.58793714 | T14: =I14/I13-1 -> 0.2617057
B15: 2020 | C15: 948 | D15: 52824.846 | E15: -159.9931 | F15: -570.05389 | G15: 58839.793 | H15: 2042.1845 | I15: 1462.8379 | K15: =I15/Total!I15 -> 0.012634639 | L15: =F15/E15*100 -> 356.29904 | M15: =F15/D15*100 -> -1.0791397 | N15: =I15/H15*100 -> 71.631037 | O15: =I15/G15*100 -> 2.4861371 | R15: 2020 | S15: =F15/F14-1 -> -0.75698886 | T15: =I15/I14-1 -> -0.26290768
B16: 2021 | C16: 977 | D16: 83639.825 | E16: 14094.683 | F16: 13677.398 | G16: 95538.858 | H16: 2455.5376 | I16: 1857.7654 | K16: =I16/Total!I16 -> 0.01192668 | L16: =F16/E16*100 -> 97.039414 | M16: =F16/D16*100 -> 16.352734 | N16: =I16/H16*100 -> 75.656158 | O16: =I16/G16*100 -> 1.9445129 | R16: 2021 | S16: =F16/F15-1 -> -24.993167 | T16: =I16/I15-1 -> 0.26997349
... B18: 2023 | C18: 1078 | D18: 106326.09 | E18: 30138.27 | F18: 29613.911 | G18: 104658.01 | H18: 3025.4998 | I18: 2311.8301 | K18: =I18/Total!I18 -> 0.011743815 | L18: =F18/E18*100 -> 98.260155 | M18: =F18/D18*100 -> 27.85197 | N18: =I18/H18*100 -> 76.411511 | O18: =I18/G18*100 -> 2.2089376 | R18: 2023 | S18: =F18/F17-1 -> -0.36367608 | T18: =I18/I17-1 -> -0.27139931
B19: 2024 | C19: 1153 | D19: 92900.695 | E19: 30167.735 | F19: 29582.439 | G19: =G18*(1+G22) -> 87489.579 | H19: =H18*(1+H22) -> 2323.508 | I19: =I18*(1+I22) -> 1569.0882 | K19: =I19/Total!I19 -> 0.0072674407 | L19: =F19/E19*100 -> 98.059861 | M19: =F19/D19*100 -> 31.843076 | N19: =I19/H19*100 -> 67.531003 | O19: =I19/G19*100 -> 1.7934573 | R19: 2024 | S19: =F19/F18-1 -> -0.0010627368 | T19: =I19/I18-1 -> -0.32127875
B20: 2025 | D20: =D19*(SUM(D88:D90)/SUM(D84:D86)) -> 80838.835 | E20: =E19*(SUM(E88:E90)/SUM(E84:E86)) -> 24977.185 | F20: =F19*(SUM(F88:F90)/SUM(F84:F86)) -> 24419.418 | I20: =I19*(1+T20) -> 1295.2353 | L20: =F20/E20*100 -> 97.766894 | M20: =F20/D20*100 -> 30.207533 | N20: =N19*(L20/L19) -> 67.329245 | O20: =O19*(M20/M19) -> 1.7013406 | R20: 2025 | S20: =F20/F19-1 -> -0.17452995 | T20: =+S20 -> -0.17452995
B22: Tasas IS pob. Cte-> | G22: -0.16404314 | H22: -0.23202508 | I22: -0.32127875
C23: D. Número de empresas | D23: A. Ventas totales | E23: S.1. Ventas - compras | F23: S.2. Indicador de resultado bruto de explotación | J23: mm4 MU sobre ventas compras | K23: mm4 MU s/ ventas | N23: Base 2016=100 | O23: Base 2016=100
B24: 20091T | C24: 802 | D24: 8370.2688 | E24: 1225.847 | F24: 1134.4451 | L24: =F24/E24*100 -> 92.543772 | M24: =F24/D24*100 -> 13.553269 | P24: =L24/$J$53*100 -> 89.4135 | Q24: =M24/$K$53*100 -> -52.472471 | R24: 20091T
B25: 20092T | C25: 803 | D25: 8595.3131 | E25: 1127.9621 | F25: 1046.785 | J25: =AVERAGE(L24:L27) -> 92.967707 | K25: =AVERAGE(M24:M27) -> 12.174465 | L25: =F25/E25*100 -> 92.803208 | M25: =F25/D25*100 -> 12.178555 | N25: =J25/$J$53*100 -> 89.823095 | O25: =K25/$K$53*100 -> -47.134329 | P25: =L25/$J$53*100 -> 89.66416 | Q25: =M25/$K$53*100 -> -47.150166 | R25: 20092T
B26: 20093T | C26: 807 | D26: 9250.2881 | E26: 1255.039 | F26: 1181.3972 | J26: =AVERAGE(L25:L28) -> 92.498312 | K26: =AVERAGE(M25:M28) -> 11.049449 | L26: =F26/E26*100 -> 94.132312 | M26: =F26/D26*100 -> 12.771464 | N26: =J26/$J$53*100 -> 89.369578 | O26: =K26/$K$53*100 -> -42.77875 | P26: =L26/$J$53*100 -> 90.948307 | Q26: =M26/$K$53*100 -> -49.445655 | R26: 20093T
B27: 20094T | C27: 809 | D27: 9635.4889 | E27: 1063.189 | F27: 982.29668 | J27: =AVERAGE(L26:L29) -> 92.517895 | K27: =AVERAGE(M26:M29) -> 10.517066 | L27: =F27/E27*100 -> 92.391537 | M27: =F27/D27*100 -> 10.19457 | N27: =J27/$J$53*100 -> 89.388498 | O27: =K27/$K$53*100 -> -40.717587 | P27: =L27/$J$53*100 -> 89.266414 | Q27: =M27/$K$53*100 -> -39.469023 | R27: 20094T
B28: 20101T | C28: 800 | D28: 9489.251 | E28: 947.52145 | F28: 859.08162 | J28: =AVERAGE(L27:L30) -> 97.290499 | K28: =AVERAGE(M27:M30) -> 5.765243 | L28: =F28/E28*100 -> 90.666193 | M28: =F28/D28*100 -> 9.053208 | N28: =J28/$J$53*100 -> 93.999669 | O28: =K28/$K$53*100 -> -22.320559 | P28: =L28/$J$53*100 -> 87.599429 | Q28: =M28/$K$53*100 -> -35.050155 | R28: 20101T | S28: =F28/F24-1 -> -0.24272964 | T28: =AVERAGE(S28:S29) -> -0.13443624
B29: 20102T | C29: 804 | D29: 10144.462 | E29: 1097.5475 | F29: 1019.419 | J29: =AVERAGE(L28:L31) -> 106.071 | K29: =AVERAGE(M28:M31) -> 2.3366002 | L29: =F29/E29*100 -> 92.88154 | M29: =F29/D29*100 -> 10.04902 | N29: =J29/$J$53*100 -> 102.48317 | O29: =K29/$K$53*100 -> -9.0463181 | P29: =L29/$J$53*100 -> 89.739843 | Q29: =M29/$K$53*100 -> -38.905515 | R29: 20102T | S29: =F29/F25-1 -> -0.026142833 | T29: =+T28 -> -0.13443624
B30: 20103T | C30: 807 | D30: 9993.8728 | E30: -550.42002 | F30: -623.20055 | J30: =AVERAGE(L29:L32) -> 100.21559 | K30: =AVERAGE(M29:M32) -> 0.49115984 | L30: =F30/E30*100 -> 113.22273 | M30: =F30/D30*100 -> -6.2358263 | N30: =J30/$J$53*100 -> 96.82582 | O30: =K30/$K$53*100 -> -1.9015612 | P30: =L30/$J$53*100 -> 109.39299 | Q30: =M30/$K$53*100 -> 24.142457 | R30: 20103T | S30: =F30/F26-1 -> -1.5275114 | T30: =0.078396*S33+1.56291*T29-0.641306*T28 -> -0.17410393
B31: 20104T | C31: 807 | D31: 10710.801 | E31: -295.6708 | F31: -377.02033 | J31: =AVERAGE(L30:L33) -> 97.524954 | K31: =AVERAGE(M30:M33) -> -1.2044574 | L31: =F31/E31*100 -> 127.51355 | M31: =F31/D31*100 -> -3.5200011 | N31: =J31/$J$53*100 -> 94.226194 | O31: =K31/$K$53*100 -> 4.6631445 | P31: =L31/$J$53*100 -> 123.20043 | Q31: =M31/$K$53*100 -> 13.627941 | R31: 20104T | S31: =F31/F27-1 -> -1.3838151 | T31: =0.078396*S34+1.56291*T30-0.641306*T29 -> -0.12884158
B32: 20111T | C32: 810 | D32: 11150.855 | E32: 277.16832 | F32: 186.38058 | J32: =AVERAGE(L31:L34) -> 96.114213 | K32: =AVERAGE(M31:M34) -> -2.0007989 | L32: =F32/E32*100 -> 67.244545 | M32: =F32/D32*100 -> 1.6714466 | N32: =J32/$J$53*100 -> 92.863172 | O32: =K32/$K$53*100 -> 7.746239 | P32: =L32/$J$53*100 -> 64.970014 | Q32: =M32/$K$53*100 -> -6.4711274 | R32: 20111T | S32: =F32/F28-1 -> -0.78304672 | T32: =0.078396*S35+1.56291*T31-0.641306*T30 -> 0.01608555
B33: 20112T | C33: 811 | D33: 11221.468 | E33: 446.37056 | F33: 366.55501 | J33: =AVERAGE(L32:L35) -> 91.795707 | K33: =AVERAGE(M32:M35) -> -3.0523501 | L33: =F33/E33*100 -> 82.118993 | M33: =F33/D33*100 -> 3.2665514 | N33: =J33/$J$53*100 -> 88.690738 | O33: =K33/$K$53*100 -> 11.817396 | P33: =L33/$J$53*100 -> 79.341337 | Q33: =M33/$K$53*100 -> -12.646692 | R33: 20112T | S33: =F33/F29-1 -> -0.64042755 | T33: =0.078396*S36+1.56291*T32-0.641306*T31 -> 0.43244626
B34: 20113T | C34: 814 | D34: 11428.837 | E34: -1000.8692 | F34: -1076.7327 | J34: =AVERAGE(L33:L36) -> 97.890552 | K34: =AVERAGE(M33:M36) -> -1.5510852 | L34: =F34/E34*100 -> 107.57976 | M34: =F34/D34*100 -> -9.4211925 | N34: =J34/$J$53*100 -> 94.579426 | O34: =K34/$K$53*100 -> 6.0051394 | P34: =L34/$J$53*100 -> 103.9409 | Q34: =M34/$K$53*100 -> 36.474834 | R34: 20113T | S34: =F34/F30-1 -> 0.72774675 | T34: =0.078396*S37+1.56291*T33-0.641306*T32 -> 0.80545216
B35: 20114T | C35: 821 | D35: 11465.249 | E35: -803.54908 | F35: -885.82869 | J35: =AVERAGE(L34:L37) -> 100.57247 | K35: =AVERAGE(M34:M37) -> -0.13769036 | L35: =F35/E35*100 -> 110.23952 | M35: =F35/D35*100 -> -7.7262057 | N35: =J35/$J$53*100 -> 97.170632 | O35: =K35/$K$53*100 -> 0.53307828 | P35: =L35/$J$53*100 -> 106.5107 | Q35: =M35/$K$53*100 -> 29.912569 | R35: 20114T | S35: =F35/F31-1 -> 1.3495515 | T35: =0.078396*S38+1.56291*T34-0.641306*T33 -> 0.83579197
B36: 20121T | C36: 799 | D36: 12483.292 | E36: 1045.8848 | F36: 958.2807 | J36: =AVERAGE(L35:L38) -> 96.846626 | K36: =AVERAGE(M35:M38) -> 4.1660989 | L36: =F36/E36*100 -> 91.623927 | M36: =F36/D36*100 -> 7.6765062 | N36: =J36/$J$53*100 -> 93.570811 | O36: =K36/$K$53*100 -> -16.129356 | P36: =L36/$J$53*100 -> 88.524769 | Q36: =M36/$K$53*100 -> -29.720154 | R36: 20121T | S36: =F36/F32-1 -> 4.1415265 | T36: =0.078396*S39+1.56291*T35-0.641306*T34 -> 0.68014591
B37: 20122T | C37: 805 | D37: 11442.122 | E37: 1099.2878 | F37: 1020.6522 | J37: =AVERAGE(L36:L39) -> 89.581182 | K37: =AVERAGE(M36:M39) -> 6.8204642 | L37: =F37/E37*100 -> 92.846679 | M37: =F37/D37*100 -> 8.9201306 | N37: =J37/$J$53*100 -> 86.551119 | O37: =K37/$K$53*100 -> -26.405925 | P37: =L37/$J$53*100 -> 89.706161 | Q37: =M37/$K$53*100 -> -34.534937 | R37: 20122T | S37: =F37/F33-1 -> 1.7844449 | T37: =0.078396*S40+1.56291*T36-0.641306*T35 -> 0.39189689
B38: 20123T | C38: 806 | D38: 11865.06 | E38: 997.83633 | F38: 924.75853 | J38: =AVERAGE(L37:L40) -> 95.071745 | K38: =AVERAGE(M37:M40) -> 3.4141932 | L38: =F38/E38*100 -> 92.676374 | M38: =F38/D38*100 -> 7.7939645 | N38: =J38/$J$53*100 -> 91.855965 | O38: =K38/$K$53*100 -> -13.218298 | P38: =L38/$J$53*100 -> 89.541617 | Q38: =M38/$K$53*100 -> -30.174902 | R38: 20123T | S38: =F38/F34-1 -> -1.8588562 | T38: =0.078396*S41+1.56291*T37-0.641306*T36 -> 0.089302604
B39: 20124T | C39: 815 | D39: 12187.285 | E39: 434.0667 | F39: 352.36557 | J39: =AVERAGE(L38:L41) -> 155.11805 | K39: =AVERAGE(M38:M41) -> 0.94652475 | L39: =F39/E39*100 -> 81.177748 | M39: =F39/D39*100 -> 2.8912557 | N39: =J39/$J$53*100 -> 149.87121 | O39: =K39/$K$53*100 -> -3.6645396 | P39: =L39/$J$53*100 -> 78.431929 | Q39: =M39/$K$53*100 -> -11.193707 | R39: 20124T | S39: =F39/F35-1 -> -1.3977807 | T39: =0.078396*S42+1.56291*T38-0.641306*T37 -> -0.15941459
B40: 20131T | C40: 780 | D40: 11654.343 | E40: -610.34512 | F40: -693.2677 | J40: =AVERAGE(L39:L42) -> 152.9998 | K40: =AVERAGE(M39:M42) -> -0.27239135 | L40: =F40/E40*100 -> 113.58618 | M40: =F40/D40*100 -> -5.9485781 | N40: =J40/$J$53*100 -> 147.82462 | O40: =K40/$K$53*100 -> 1.054583 | P40: =L40/$J$53*100 -> 109.74415 | Q40: =M40/$K$53*100 -> 23.030354 | R40: 20131T | S40: =F40/F36-1 -> -1.7234495 | T40: =0.078396*S43+1.56291*T39-0.641306*T38 -> -0.42415029
B41: 20132T | C41: 785 | D41: 11805.508 | E41: -33.695405 | F41: -112.21645 | J41: =AVERAGE(L40:L43) -> 178.37544 | K41: =AVERAGE(M40:M43) -> -1.3506762 | L41: =F41/E41*100 -> 333.03189 | M41: =F41/D41*100 -> -0.95054313 | N41: =J41/$J$53*100 -> 172.34193 | O41: =K41/$K$53*100 -> 5.2292414 | P41: =L41/$J$53*100 -> 321.76716 | Q41: =M41/$K$53*100 -> 3.6800971 | R41: 20132T | S41: =F41/F37-1 -> -1.1099458 | T41: =0.078396*S44+1.56291*T40-0.641306*T39 -> -0.60873432
... B44: 20141T | C44: 783 | D44: 12282.168 | E44: -182.93349 | F44: -268.27351 | J44: =AVERAGE(L43:L46) -> 151.85683 | K44: =AVERAGE(M43:M46) -> -0.80993528 | L44: =F44/E44*100 -> 146.65085 | M44: =F44/D44*100 -> -2.184252 | N44: =J44/$J$53*100 -> 146.72031 | O44: =K44/$K$53*100 -> 3.1357235 | P44: =L44/$J$53*100 -> 141.69041 | Q44: =M44/$K$53*100 -> 8.4564911 | R44: 20141T | S44: =F44/F40-1 -> -0.61303042 | T44: =0.078396*S47+1.56291*T43-0.641306*T42 -> -0.52409499
B45: 20142T | C45: 796 | D45: 12575.051 | E45: 151.68626 | F45: 70.132943 | J45: =AVERAGE(L44:L47) -> 133.02827 | K45: =AVERAGE(M44:M47) -> -2.9016117 | L45: =AVERAGE(L43:L44,L47) -> 145.56573 | M45: =F45/D45*100 -> 0.55771496 | N45: =J45/$J$53*100 -> 128.52862 | O45: =K45/$K$53*100 -> 11.233801 | P45: =L45/$J$53*100 -> 140.642 | Q45: =M45/$K$53*100 -> -2.1592342 | R45: 20142T | S45: =F45/F41-1 -> -1.6249792 | T45: =0.078396*S48+1.56291*T44-0.641306*T43 -> 0.25913253
B46: 20143T | C46: 808 | D46: 13077.687 | E46: 47.080609 | F46: -25.020284 | J46: =AVERAGE(L45:L48) -> 122.70927 | K46: =AVERAGE(M45:M48) -> -6.8464177 | L46: =AVERAGE(L44:L45,L48) -> 132.53047 | M46: =F46/D46*100 -> -0.19132041 | N46: =J46/$J$53*100 -> 118.55866 | O46: =K46/$K$53*100 -> 26.506406 | P46: =L46/$J$53*100 -> 128.04766 | Q46: =M46/$K$53*100 -> 0.74071094 | R46: 20143T | S46: =F46/F42-1 -> -1.0690113 | T46: =0.078396*S49+1.56291*T45-0.641306*T44 -> -1.0906445
B47: 20144T | C47: 813 | D47: 12174.759 | E47: -1109.9758 | F47: -1191.7371 | J47: =AVERAGE(L46:L49) -> 112.69474 | K47: =AVERAGE(M46:M49) -> -10.484705 | L47: =F47/E47*100 -> 107.36605 | M47: =F47/D47*100 -> -9.7885893 | N47: =J47/$J$53*100 -> 108.88287 | O47: =K47/$K$53*100 -> 40.5923 | P47: =L47/$J$53*100 -> 103.73441 | Q47: =M47/$K$53*100 -> 37.897237 | R47: 20144T | S47: =F47/F43-1 -> 5.7409354 | T47: =0.078396*S50+1.56291*T46-0.641306*T45 -> 3.8169329
B48: 20151T | C48: 809 | D48: 10374.889 | E48: -1768.6296 | F48: -1863.6907 | J48: =AVERAGE(L47:L50) -> 105.59009 | K48: =AVERAGE(M47:M50) -> -14.686828 | L48: =F48/E48*100 -> 105.37485 | M48: =F48/D48*100 -> -17.963476 | N48: =J48/$J$53*100 -> 102.01853 | O48: =K48/$K$53*100 -> 56.861128 | P48: =L48/$J$53*100 -> 101.81057 | Q48: =M48/$K$53*100 -> 69.546908 | R48: 20151T | S48: =F48/F44-1 -> 5.9469802 | T48: =0.078396*S51+1.56291*T47-0.641306*T46 -> 6.8896185
B49: 20152T | C49: 823 | D49: 11207.572 | E49: -1486.6686 | F49: -1568.5484 | J49: =AVERAGE(L48:L51) -> 104.19525 | K49: =AVERAGE(M48:M51) -> -23.631774 | L49: =F49/E49*100 -> 105.5076 | M49: =F49/D49*100 -> -13.995434 | N49: =J49/$J$53*100 -> 100.67087 | O49: =K49/$K$53*100 -> 91.492136 | P49: =L49/$J$53*100 -> 101.93883 | Q49: =M49/$K$53*100 -> 54.184343 | R49: 20152T | S49: =F49/F45-1 -> -23.365358 | T49: =0.078396*S52+1.56291*T48-0.641306*T47 -> 8.3706536
B50: 20153T | C50: 827 | D50: 10825.194 | E50: -1767.5822 | F50: -1840.2628 | J50: =AVERAGE(L49:L52) -> 103.64379 | K50: =AVERAGE(M49:M52) -> -28.186775 | L50: =F50/E50*100 -> 104.11187 | M50: =F50/D50*100 -> -16.999815 | N50: =J50/$J$53*100 -> 100.13806 | O50: =K50/$K$53*100 -> 109.12716 | P50: =L50/$J$53*100 -> 100.59031 | Q50: =M50/$K$53*100 -> 65.816023 | R50: 20153T | S50: =F50/F46-1 -> 72.550837 | T50: =0.078396*S53+1.56291*T49-0.641306*T48 -> 8.7104424
B51: 20154T | C51: 836 | D51: 10109.844 | E51: -4526.0253 | F51: -4606.8911 | J51: =AVERAGE(L50:L53) -> 103.25887 | K51: =AVERAGE(M50:M53) -> -30.932757 | L51: =F51/E51*100 -> 101.78669 | M51: =F51/D51*100 -> -45.56837 | N51: =J51/$J$53*100 -> 99.76616 | O51: =K51/$K$53*100 -> 119.75843 | P51: =L51/$J$53*100 -> 98.343774 | Q51: =M51/$K$53*100 -> 176.42127 | R51: 20154T | S51: =F51/F47-1 -> 2.865694 | T51: =0.078396*S54+1.56291*T50-0.641306*T49 -> 8.2690604
B52: 20161T | C52: 823 | D52: 8476.5643 | E52: -2972.9044 | F52: -3067.116 | J52: =AVERAGE(L51:L54) -> 103.04322 | K52: =AVERAGE(M51:M54) -> -32.379163 | L52: =F52/E52*100 -> 103.16901 | M52: =F52/D52*100 -> -36.183481 | N52: =J52/$J$53*100 -> 99.55781 | O52: =K52/$K$53*100 -> 125.35829 | P52: =L52/$J$53*100 -> 99.679341 | Q52: =M52/$K$53*100 -> 140.08699 | R52: 20161T | S52: =F52/F48-1 -> 0.64572156 | T52: =0.078396*S55+1.56291*T51-0.641306*T50 -> 7.2982449
B53: 20162T | C53: 830 | D53: 9981.3412 | E53: -2398.1203 | F53: -2493.2755 | J53: =AVERAGE(L52:L55) -> 103.50089 | K53: =AVERAGE(M52:M55) -> -25.829295 | L53: =F53/E53*100 -> 103.96791 | M53: =F53/D53*100 -> -24.979364 | N53: =J53/$J$53*100 -> 100 | O53: =K53/$K$53*100 -> 100 | P53: =L53/$J$53*100 -> 100.45122 | Q53: =M53/$K$53*100 -> 96.709429 | R53: 20162T | S53: =F53/F49-1 -> 0.58954328 | T53: =0.078396*S56+1.56291*T52-0.641306*T51 -> 6.077356
B54: 20163T | C54: 836 | D54: 10505.044 | E54: -2318.292 | F54: -2393.62 | J54: =AVERAGE(L53:L56) -> 103.94112 | K54: =AVERAGE(M53:M56) -> -21.017214 | L54: =F54/E54*100 -> 103.24929 | M54: =F54/D54*100 -> -22.785435 | N54: =J54/$J$53*100 -> 100.42533 | O54: =K54/$K$53*100 -> 81.369677 | P54: =L54/$J$53*100 -> 99.756907 | Q54: =M54/$K$53*100 -> 88.215475 | R54: 20163T | S54: =F54/F50-1 -> 0.30069464 | T54: =0.078396*S57+1.56291*T53-0.641306*T52 -> 4.8092327
B55: 20164T | C55: 851 | D55: 11802.892 | E55: -2206.2809 | F55: -2286.0903 | J55: =AVERAGE(L54:L57) -> 103.91738 | K55: =AVERAGE(M54:M57) -> -19.510993 | L55: =F55/E55*100 -> 103.61737 | M55: =F55/D55*100 -> -19.3689 | N55: =J55/$J$53*100 -> 100.4024 | O55: =K55/$K$53*100 -> 75.538234 | P55: =L55/$J$53*100 -> 100.11253 | Q55: =M55/$K$53*100 -> 74.988108 | R55: 20164T | S55: =F55/F51-1 -> -0.50376725 | T55: =0.078396*S58+1.56291*T54-0.641306*T53 -> 3.6164712
B56: 20171T | C56: 853 | D56: 12070.757 | E56: -1948.1595 | F56: -2044.2016 | J56: =AVERAGE(L55:L58) -> 103.94255 | K56: =AVERAGE(M55:M58) -> -18.807694 | L56: =F56/E56*100 -> 104.92989 | M56: =F56/D56*100 -> -16.935157 | N56: =J56/$J$53*100 -> 100.42671 | O56: =K56/$K$53*100 -> 72.815358 | P56: =L56/$J$53*100 -> 101.38066 | Q56: =M56/$K$53*100 -> 65.565696 | R56: 20171T | S56: =F56/F52-1 -> -0.33351018 | T56: =0.078396*S59+1.56291*T55-0.641306*T54 -> 2.559569
B57: 20172T | C57: 864 | D57: 11690.962 | E57: -2133.3376 | F57: -2215.9611 | J57: =AVERAGE(L56:L59) -> 104.13188 | K57: =AVERAGE(M56:M59) -> -18.029702 | L57: =F57/E57*100 -> 103.87297 | M57: =F57/D57*100 -> -18.954481 | N57: =J57/$J$53*100 -> 100.60964 | O57: =K57/$K$53*100 -> 69.803307 | P57: =L57/$J$53*100 -> 100.35949 | Q57: =M57/$K$53*100 -> 73.383656 | R57: 20172T | S57: =F57/F53-1 -> -0.11122494 | T57: =0.078396*S60+1.56291*T56-0.641306*T55 -> 1.6622414
B58: 20173T | C58: 867 | D58: 11605.342 | E58: -2242.7164 | F58: -2317.8464 | J58: =AVERAGE(L57:L60) -> 104.65123 | K58: =AVERAGE(M57:M60) -> -16.788531 | L58: =F58/E58*100 -> 103.34995 | M58: =F58/D58*100 -> -19.972237 | N58: =J58/$J$53*100 -> 101.11143 | O58: =K58/$K$53*100 -> 64.998023 | P58: =L58/$J$53*100 -> 99.854165 | Q58: =M58/$K$53*100 -> 77.323972 | R58: 20173T | S58: =F58/F54-1 -> -0.03165651 | T58: =0.078396*S61+1.56291*T57-0.641306*T56 -> 1.0117662
... B87: 20244T | C87: 1110 | D87: 22673.878 | E87: 5913.2425 | F87: 5780.4486 | J87: =AVERAGE(L86:L89) -> 97.756555 | K87: =AVERAGE(M86:M89) -> 29.992823 | L87: =F87/E87*100 -> 97.754297 | M87: =F87/D87*100 -> 25.493869 | N87: =J87/$J$53*100 -> 94.449962 | O87: =K87/$K$53*100 -> -116.1194 | P87: =L87/$J$53*100 -> 94.44778 | Q87: =M87/$K$53*100 -> -98.701373 | R87: 20244T | S87: =F87/F83-1 -> -0.32608143 | T87: =0.078396*S90+1.56291*T86-0.641306*T85 -> 0.045159224
B88: 20251T | C88: 1011 | D88: 20724.288 | E88: 6870.1476 | F88: 6705.1043 | J88: =AVERAGE(L87:L90) -> 97.822353 | K88: =AVERAGE(M87:M90) -> 30.488351 | L88: =F88/E88*100 -> 97.597675 | M88: =F88/D88*100 -> 32.353846 | N88: =J88/$J$53*100 -> 94.513534 | O88: =K88/$K$53*100 -> -118.03787 | P88: =L88/$J$53*100 -> 94.296455 | Q88: =M88/$K$53*100 -> -125.26028 | R88: 20251T | S88: =F88/F84-1 -> -0.24120394
B89: 20252T | C89: 995 | D89: 20445.903 | E89: 6634.7984 | F89: 6486.0701 | L89: =F89/E89*100 -> 97.758361 | M89: =F89/D89*100 -> 31.72308 | P89: =L89/$J$53*100 -> 94.451706 | Q89: =M89/$K$53*100 -> -122.81822 | R89: 20252T | S89: =F89/F85-1 -> -0.21495795
B90: 20253T | C90: 978 | D90: 19938.653 | E90: 6576.4071 | F90: 6456.656 | L90: =F90/E90*100 -> 98.17908 | M90: =F90/D90*100 -> 32.382609 | P90: =L90/$J$53*100 -> 94.858194 | Q90: =M90/$K$53*100 -> -125.37163 | R90: 20253T | S90: =F90/F86-1 -> -0.036811596

Sheet Elec+gas - 35
C2: ELEC+GAS - 35
C3: D. Número de empresas | D3: A. Ventas totales | E3: S.1. Ventas - compras | F3: S.2. Indicador de resultado bruto de explotación | G3: A. Ventas y otros ingresos (IS) | H3: S.1. Ventas - compras (IS) | I3: S.2. Resultado bruto de explotación (IS) | K3: % total | L3: Margen Ventas unitario sobre ventas-compras(IVARET) | M3: Margen Ventas unitario (IVARET) | N3: Margen Ventas unitario sobre ventas-compras(IS) | O3: Margen Ventas unitario (IS) | S3: S.2. Indicador RBE (tasa var) | T3: S.2. RBE (tasa var)
B4: 2009 | C4: 16542 | D4: 67079.073 | E4: 4903.706 | F4: 2682.2262 | G4: 55289.197 | H4: 15090.604 | I4: 12334.813 | K4: =I4/Total!I4 -> 0.097528065 | L4: =F4/E4*100 -> 54.697941 | M4: =F4/D4*100 -> 3.9986036 | N4: =I4/H4*100 -> 81.738365 | O4: =I4/G4*100 -> 22.309625 | R4: 2009
B5: 2010 | C5: 16638 | D5: 77730.167 | E5: 2099.9861 | F5: -122.40958 | G5: 72713.931 | H5: 16701.962 | I5: 13964.303 | K5: =I5/Total!I5 -> 0.10991279 | L5: =F5/E5*100 -> -5.8290664 | M5: =F5/D5*100 -> -0.15748015 | N5: =I5/H5*100 -> 83.608756 | O5: =I5/G5*100 -> 19.204439 | R5: 2010 | S5: =F5/F4-1 -> -1.0456373 | T5: =I5/I4-1 -> 0.13210495
B6: 2011 | C6: 18070 | D6: 85108.463 | E6: 4810.4787 | F6: 2533.4327 | G6: 78694.706 | H6: 17250.517 | I6: 14668.539 | K6: =I6/Total!I6 -> 0.14555762 | L6: =F6/E6*100 -> 52.664877 | M6: =F6/D6*100 -> 2.9767107 | N6: =I6/H6*100 -> 85.032456 | O6: =I6/G6*100 -> 18.639803 | R6: 2011 | S6: =F6/F5-1 -> -21.696359 | T6: =I6/I5-1 -> 0.050431162
B7: 2012 | C7: 16013 | D7: 86809.91 | E7: 9638.0219 | F7: 7556.9122 | G7: 84919.572 | H7: 16779.899 | I7: 14350.669 | K7: =I7/Total!I7 -> 0.13468092 | L7: =F7/E7*100 -> 78.407295 | M7: =F7/D7*100 -> 8.7051262 | N7: =I7/H7*100 -> 85.522977 | O7: =I7/G7*100 -> 16.899131 | R7: 2012 | S7: =F7/F6-1 -> 1.9828747 | T7: =I7/I6-1 -> -0.021670126
B8: 2013 | C8: 14454 | D8: 87474.4 | E8: 15686.151 | F8: 13571.555 | G8: 87198.529 | H8: 15767.033 | I8: 13440.654 | K8: =I8/Total!I8 -> 0.14177111 | L8: =F8/E8*100 -> 86.519346 | M8: =F8/D8*100 -> 15.514888 | N8: =I8/H8*100 -> 85.245296 | O8: =I8/G8*100 -> 15.413854 | R8: 2013 | S8: =F8/F7-1 -> 0.7959128 | T8: =I8/I7-1 -> -0.063412772
B9: 2014 | C9: 14225 | D9: 93105.039 | E9: 19532.477 | F9: 17226.149 | G9: 90685.239 | H9: 17673.509 | I9: 14793.39 | K9: =I9/Total!I9 -> 0.13851434 | L9: =F9/E9*100 -> 88.192343 | M9: =F9/D9*100 -> 18.501844 | N9: =I9/H9*100 -> 83.703749 | O9: =I9/G9*100 -> 16.312897 | R9: 2014 | S9: =F9/F8-1 -> 0.26928336 | T9: =I9/I8-1 -> 0.10064513
B10: 2015 | C10: 14705 | D10: 99995.97 | E10: 20142.403 | F10: 17789.979 | G10: 90941.936 | H10: 18320.63 | I10: 15328.581 | K10: =I10/Total!I10 -> 0.12331777 | L10: =F10/E10*100 -> 88.321037 | M10: =F10/D10*100 -> 17.790696 | N10: =I10/H10*100 -> 83.668416 | O10: =I10/G10*100 -> 16.855349 | R10: 2015 | S10: =F10/F9-1 -> 0.032731034 | T10: =I10/I9-1 -> 0.036177689
B11: 2016 | C11: 13974 | D11: 89370.986 | E11: 18246.733 | F11: 15955.53 | G11: 82350.373 | H11: 18298.673 | I11: 15550.813 | K11: =I11/Total!I11 -> 0.12694756 | L11: =F11/E11*100 -> 87.443212 | M11: =F11/D11*100 -> 17.853143 | N11: =I11/H11*100 -> 84.983278 | O11: =I11/G11*100 -> 18.883718 | R11: 2016 | S11: =F11/F10-1 -> -0.10311702 | T11: =I11/I10-1 -> 0.014497872
B12: 2017 | C12: 14678 | D12: 95320.22 | E12: 16815.498 | F12: 14571.64 | G12: 87828.566 | H12: 17178.915 | I12: 14319.356 | K12: =I12/Total!I12 -> 0.1068382 | L12: =F12/E12*100 -> 86.656013 | M12: =F12/D12*100 -> 15.28704 | N12: =I12/H12*100 -> 83.354254 | O12: =I12/G12*100 -> 16.303757 | R12: 2017 | S12: =F12/F11-1 -> -0.086734165 | T12: =I12/I11-1 -> -0.079189182
B13: 2018 | C13: 15321 | D13: 100746.23 | E13: 18154.495 | F13: 15853.089 | G13: 89870.056 | H13: 18297.797 | I13: 15433.947 | K13: =I13/Total!I13 -> 0.11061942 | L13: =F13/E13*100 -> 87.323217 | M13: =F13/D13*100 -> 15.735665 | N13: =I13/H13*100 -> 84.34866 | O13: =I13/G13*100 -> 17.173626 | R13: 2018 | S13: =F13/F12-1 -> 0.087941326 | T13: =I13/I12-1 -> 0.077838032
B14: 2019 | C14: 15675 | D14: 100778.46 | E14: 20528.915 | F14: 18224.915 | G14: 91810.355 | H14: 19274.426 | I14: 16287 | K14: =I14/Total!I14 -> 0.1109207 | L14: =F14/E14*100 -> 88.776806 | M14: =F14/D14*100 -> 18.084137 | N14: =I14/H14*100 -> 84.500573 | O14: =I14/G14*100 -> 17.739829 | R14: 2019 | S14: =F14/F13-1 -> 0.14961283 | T14: =I14/I13-1 -> 0.055271232
B15: 2020 | C15: 15863 | D15: 86280.037 | E15: 17421.968 | F15: 15078.235 | G15: 79456.272 | H15: 17818.184 | I15: 14858.591 | K15: =I15/Total!I15 -> 0.12833475 | L15: =F15/E15*100 -> 86.547257 | M15: =F15/D15*100 -> 17.475926 | N15: =I15/H15*100 -> 83.390044 | O15: =I15/G15*100 -> 18.700338 | R15: 2020 | S15: =F15/F14-1 -> -0.17265811 | T15: =I15/I14-1 -> -0.087702388
B16: 2021 | C16: 16393 | D16: 138722.78 | E16: 21554.34 | F16: 19222.021 | G16: 123442.9 | H16: 21107.843 | I16: 18023.619 | K16: =I16/Total!I16 -> 0.11570995 | L16: =F16/E16*100 -> 89.179357 | M16: =F16/D16*100 -> 13.856427 | N16: =I16/H16*100 -> 85.388255 | O16: =I16/G16*100 -> 14.600774 | R16: 2021 | S16: =F16/F15-1 -> 0.27481903 | T16: =I16/I15-1 -> 0.2130099
... B18: 2023 | C18: 17682 | D18: 149807.6 | E18: 38519.39 | F18: 36001.794 | G18: 136151.94 | H18: 26518.422 | I18: 23228.427 | K18: =I18/Total!I18 -> 0.11799757 | L18: =F18/E18*100 -> 93.464081 | M18: =F18/D18*100 -> 24.032021 | N18: =I18/H18*100 -> 87.59355 | O18: =I18/G18*100 -> 17.060665 | R18: 2023 | S18: =F18/F17-1 -> -0.39042243 | T18: =I18/I17-1 -> -0.17106209
B19: 2024 | C19: 17413 | D19: 125994.39 | E19: 30201.899 | F19: 27769.753 | G19: =G18*(1+G22) -> 116664.4 | H19: =H18*(1+H22) -> 25655.253 | I19: =I18*(1+I22) -> 22297.844 | K19: =I19/Total!I19 -> 0.10327543 | L19: =F19/E19*100 -> 91.947042 | M19: =F19/D19*100 -> 22.040468 | N19: =I19/H19*100 -> 86.913369 | O19: =I19/G19*100 -> 19.112809 | R19: 2024 | S19: =F19/F18-1 -> -0.22865641 | T19: =I19/I18-1 -> -0.040062223
B20: 2025 | D20: =D19*(SUM(D88:D90)/SUM(D84:D86)) -> 145043.35 | E20: =E19*(SUM(E88:E90)/SUM(E84:E86)) -> 34118.487 | F20: =F19*(SUM(F88:F90)/SUM(F84:F86)) -> 31617.708 | I20: =I19*(1+T20) -> 25387.576 | L20: =F20/E20*100 -> 92.670309 | M20: =F20/D20*100 -> 21.798798 | N20: =N19*(L20/L19) -> 87.59704 | O20: =O19*(M20/M19) -> 18.903241 | R20: 2025 | S20: =F20/F19-1 -> 0.1385664 | T20: =+S20 -> 0.1385664
B22: Tasas IS pob. Cte-> | G22: -0.14313086 | H22: -0.032549786 | I22: -0.040062223
C23: D. Número de empresas | D23: A. Ventas totales | E23: S.1. Ventas - compras | F23: S.2. Indicador de resultado bruto de explotación | J23: mm4 MU sobre ventas compras | K23: mm4 MU s/ ventas | N23: Base 2016=100 | O23: Base 2016=100
B24: 20091T | C24: 15943 | D24: 17476.182 | E24: 2783.9889 | F24: 2226.4894 | L24: =F24/E24*100 -> 79.974793 | M24: =F24/D24*100 -> 12.740136 | P24: =L24/$J$53*100 -> 91.534771 | Q24: =M24/$K$53*100 -> 70.582652 | R24: 20091T
B25: 20092T | C25: 16122 | D25: 17390.695 | E25: 1461.0765 | F25: 890.73644 | J25: =AVERAGE(L24:L27) -> 66.958687 | K25: =AVERAGE(M24:M27) -> 7.3559446 | L25: =F25/E25*100 -> 60.964395 | M25: =F25/D25*100 -> 5.121914 | N25: =J25/$J$53*100 -> 76.637249 | O25: =K25/$K$53*100 -> 40.75326 | P25: =L25/$J$53*100 -> 69.77651 | Q25: =M25/$K$53*100 -> 28.376328 | R25: 20092T
B26: 20093T | C26: 16165 | D26: 14949.88 | E26: 1184.6133 | F26: 704.11882 | J26: =AVERAGE(L25:L28) -> 65.833739 | K26: =AVERAGE(M25:M28) -> 6.4193779 | L26: =F26/E26*100 -> 59.438706 | M26: =F26/D26*100 -> 4.7098626 | N26: =J26/$J$53*100 -> 75.349695 | O26: =K26/$K$53*100 -> 35.564512 | P26: =L26/$J$53*100 -> 68.03029 | Q26: =M26/$K$53*100 -> 26.093489 | R26: 20093T
B27: 20094T | C27: 16409 | D27: 17262.316 | E27: -525.97267 | F27: -1139.1184 | J27: =AVERAGE(L26:L29) -> 66.038484 | K27: =AVERAGE(M26:M29) -> 6.5433254 | L27: =AVERAGE(L26,L28) -> 67.456854 | M27: =AVERAGE(M26,M28) -> 6.8518658 | N27: =J27/$J$53*100 -> 75.584034 | O27: =K27/$K$53*100 -> 36.251203 | P27: =L27/$J$53*100 -> 77.207423 | Q27: =M27/$K$53*100 -> 37.960573 | R27: 20094T
B28: 20101T | C28: 16277 | D28: 19171.078 | E28: 2284.4936 | F28: 1724.2216 | J28: =AVERAGE(L27:L30) -> 63.201744 | K28: =AVERAGE(M27:M30) -> 5.9262445 | L28: =F28/E28*100 -> 75.475002 | M28: =F28/D28*100 -> 8.9938691 | N28: =J28/$J$53*100 -> 72.337257 | O28: =K28/$K$53*100 -> 32.832464 | P28: =L28/$J$53*100 -> 86.384557 | Q28: =M28/$K$53*100 -> 49.827657 | R28: 20101T | S28: =F28/F24-1 -> -0.22558732 | T28: =AVERAGE(S28:S29) -> -0.65130741
B29: 20102T | C29: 16432 | D29: 18202.862 | E29: 557.95039 | F29: -68.611208 | J29: =AVERAGE(L28:L31) -> 61.351392 | K29: =AVERAGE(M28:M31) -> 5.394965 | L29: =AVERAGE(L28,L30) -> 61.783373 | M29: =AVERAGE(M28,M30) -> 5.6177041 | N29: =J29/$J$53*100 -> 70.219445 | O29: =K29/$K$53*100 -> 29.889079 | P29: =L29/$J$53*100 -> 70.713868 | Q29: =M29/$K$53*100 -> 31.123094 | R29: 20102T | S29: =F29/F25-1 -> -1.0770275 | T29: =+T28 -> -0.65130741
B30: 20103T | C30: 16499 | D30: 19781.677 | E30: 922.01691 | F30: 443.41401 | J30: =AVERAGE(L29:L32) -> 60.487429 | K30: =AVERAGE(M29:M32) -> 4.9494868 | L30: =F30/E30*100 -> 48.091744 | M30: =F30/D30*100 -> 2.2415391 | N30: =J30/$J$53*100 -> 69.230601 | O30: =K30/$K$53*100 -> 27.42105 | P30: =L30/$J$53*100 -> 55.043178 | Q30: =M30/$K$53*100 -> 12.418531 | R30: 20103T | S30: =F30/F26-1 -> -0.37025684 | T30: =0.078396*S33+1.56291*T29-0.641306*T28 -> -0.82254831
B31: 20104T | C31: 16550 | D31: 20574.551 | E31: -1664.4748 | F31: -2221.434 | J31: =AVERAGE(L30:L33) -> 62.064053 | K31: =AVERAGE(M30:M33) -> 4.9631274 | L31: =AVERAGE(L30,L32) -> 60.055447 | M31: =AVERAGE(M30,M32) -> 4.7267476 | N31: =J31/$J$53*100 -> 71.035119 | O31: =K31/$K$53*100 -> 27.496621 | P31: =L31/$J$53*100 -> 68.736178 | Q31: =M31/$K$53*100 -> 26.187035 | R31: 20104T | S31: =F31/F27-1 -> 0.9501344 | T31: =0.078396*S34+1.56291*T30-0.641306*T29 -> -0.78946373
B32: 20111T | C32: 17670 | D32: 21289.902 | E32: 2131.9586 | F32: 1535.4184 | J32: =AVERAGE(L31:L34) -> 66.081265 | K32: =AVERAGE(M31:M34) -> 5.435887 | L32: =F32/E32*100 -> 72.01915 | M32: =F32/D32*100 -> 7.2119562 | N32: =J32/$J$53*100 -> 75.632999 | O32: =K32/$K$53*100 -> 30.115794 | P32: =L32/$J$53*100 -> 82.429178 | Q32: =M32/$K$53*100 -> 39.955538 | R32: 20111T | S32: =F32/F28-1 -> -0.10950053 | T32: =0.078396*S35+1.56291*T31-0.641306*T30 -> -0.78422642
B33: 20112T | C33: 17764 | D33: 19962.496 | E33: 726.1275 | F33: 125.94369 | J33: =AVERAGE(L32:L35) -> 50.414714 | K33: =AVERAGE(M32:M35) -> 4.2375867 | L33: =AVERAGE(L32,L34) -> 68.089871 | M33: =AVERAGE(M32,M34) -> 5.6722667 | N33: =J33/$J$53*100 -> 57.701923 | O33: =K33/$K$53*100 -> 23.476995 | P33: =L33/$J$53*100 -> 77.93194 | Q33: =M33/$K$53*100 -> 31.425381 | R33: 20112T | S33: =F33/F29-1 -> -2.835614 | T33: =0.078396*S36+1.56291*T32-0.641306*T31 -> -0.68579498
B34: 20113T | C34: 17841 | D34: 21462.439 | E34: 1382.3935 | F34: 886.95185 | J34: =AVERAGE(L33:L36) -> 52.52393 | K34: =AVERAGE(M33:M36) -> 4.8465827 | L34: =F34/E34*100 -> 64.160592 | M34: =F34/D34*100 -> 4.1325773 | N34: =J34/$J$53*100 -> 60.116016 | O34: =K34/$K$53*100 -> 26.850943 | P34: =L34/$J$53*100 -> 73.434702 | Q34: =M34/$K$53*100 -> 22.895224 | R34: 20113T | S34: =F34/F30-1 -> 1.0002793 | T34: =0.078396*S37+1.56291*T33-0.641306*T32 -> 0.58244997
B35: 20114T | C35: 17955 | D35: 22393.625 | E35: 569.99911 | F35: -14.881288 | J35: =AVERAGE(L34:L37) -> 55.13388 | K35: =AVERAGE(M34:M37) -> 5.7508443 | L35: =F35/E35*100 -> -2.6107564 | M35: =F35/D35*100 -> -0.066453235 | N35: =J35/$J$53*100 -> 63.103221 | O35: =K35/$K$53*100 -> 31.860715 | P35: =L35/$J$53*100 -> -2.9881289 | Q35: =M35/$K$53*100 -> -0.36816291 | R35: 20114T | S35: =F35/F31-1 -> -0.99330104 | T35: =0.078396*S38+1.56291*T34-0.641306*T33 -> 1.4416083
B36: 20121T | C36: 15804 | D36: 22733.784 | E36: 2726.1378 | F36: 2193.3418 | J36: =AVERAGE(L35:L38) -> 59.268219 | K36: =AVERAGE(M35:M38) -> 7.0418864 | L36: =F36/E36*100 -> 80.456013 | M36: =F36/D36*100 -> 9.6479401 | N36: =J36/$J$53*100 -> 67.83516 | O36: =K36/$K$53*100 -> 39.013321 | P36: =L36/$J$53*100 -> 92.085549 | Q36: =M36/$K$53*100 -> 53.451329 | R36: 20121T | S36: =F36/F32-1 -> 0.42849778 | T36: =0.078396*S39+1.56291*T35-0.641306*T34 -> -5.9215941
B37: 20122T | C37: 15816 | D37: 21267.512 | E37: 2515.7444 | F37: 1975.6058 | J37: =AVERAGE(L36:L39) -> 78.114289 | K37: =AVERAGE(M36:M39) -> 8.7142261 | L37: =F37/E37*100 -> 78.52967 | M37: =F37/D37*100 -> 9.2893131 | N37: =J37/$J$53*100 -> 89.40534 | O37: =K37/$K$53*100 -> 48.278385 | P37: =L37/$J$53*100 -> 89.880762 | Q37: =M37/$K$53*100 -> 51.464471 | R37: 20122T | S37: =F37/F33-1 -> 14.686421 | T37: =0.078396*S40+1.56291*T36-0.641306*T35 -> -10.105547
B38: 20123T | C38: 15834 | D38: 20674.03 | E38: 2381.7359 | F38: 1922.012 | J38: =AVERAGE(L37:L40) -> 80.139136 | K38: =AVERAGE(M37:M40) -> 11.020479 | L38: =F38/E38*100 -> 80.697949 | M38: =F38/D38*100 -> 9.2967457 | N38: =J38/$J$53*100 -> 91.722869 | O38: =K38/$K$53*100 -> 61.055444 | P38: =L38/$J$53*100 -> 92.362456 | Q38: =M38/$K$53*100 -> 51.505648 | R38: 20123T | S38: =F38/F34-1 -> 1.1669857 | T38: =0.078396*S41+1.56291*T37-0.641306*T36 -> -11.960823
B39: 20124T | C39: 15897 | D39: 22134.584 | E39: 2014.4038 | F39: 1465.9526 | J39: =AVERAGE(L38:L41) -> 81.43938 | K39: =AVERAGE(M38:M41) -> 12.264097 | L39: =F39/E39*100 -> 72.773523 | M39: =F39/D39*100 -> 6.6229055 | N39: =J39/$J$53*100 -> 93.211057 | O39: =K39/$K$53*100 -> 67.945311 | P39: =L39/$J$53*100 -> 83.292592 | Q39: =M39/$K$53*100 -> 36.692091 | R39: 20124T | S39: =F39/F35-1 -> -99.50979 | T39: =0.078396*S42+1.56291*T38-0.641306*T37 -> -12.148304
B40: 20131T | C40: 14341 | D40: 22574.314 | E40: 4811.0447 | F40: 4260.4399 | J40: =AVERAGE(L39:L42) -> 83.351971 | K40: =AVERAGE(M39:M42) -> 13.954941 | L40: =F40/E40*100 -> 88.5554 | M40: =F40/D40*100 -> 18.872954 | N40: =J40/$J$53*100 -> 95.400104 | O40: =K40/$K$53*100 -> 77.312892 | P40: =L40/$J$53*100 -> 101.35566 | Q40: =M40/$K$53*100 -> 104.55957 | R40: 20131T | S40: =F40/F36-1 -> 0.94244227 | T40: =0.078396*S43+1.56291*T39-0.641306*T38 -> -11.237888
B41: 20132T | C41: 14373 | D41: 20154.934 | E41: 3433.4576 | F41: 2874.8563 | J41: =AVERAGE(L40:L43) -> 86.249896 | K41: =AVERAGE(M40:M43) -> 15.495984 | L41: =F41/E41*100 -> 83.730648 | M41: =F41/D41*100 -> 14.263784 | N41: =J41/$J$53*100 -> 98.716911 | O41: =K41/$K$53*100 -> 85.850549 | P41: =L41/$J$53*100 -> 95.833517 | Q41: =M41/$K$53*100 -> 79.023939 | R41: 20132T | S41: =F41/F37-1 -> 0.45517707 | T41: =0.078396*S44+1.56291*T40-0.641306*T39 -> -9.765386
B42: 20133T | C42: 14372 | D42: 21834.782 | E42: 3969.1676 | F42: 3506.6926 | J42: =AVERAGE(L41:L44) -> 86.381674 | K42: =AVERAGE(M41:M44) -> 15.973926 | L42: =F42/E42*100 -> 88.348311 | M42: =F42/D42*100 -> 16.060121 | N42: =J42/$J$53*100 -> 98.867736 | O42: =K42/$K$53*100 -> 88.498434 | P42: =L42/$J$53*100 -> 101.11864 | Q42: =M42/$K$53*100 -> 88.97597 | R42: 20133T | S42: =F42/F38-1 -> 0.82449047 | T42: =0.078396*S45+1.56291*T41-0.641306*T40 -> -8.0207319
B43: 20134T | C43: 14369 | D43: 22910.369 | E43: 3472.4814 | F43: 2929.5667 | J43: =AVERAGE(L42:L45) -> 87.258559 | K43: =AVERAGE(M42:M45) -> 17.381349 | L43: =F43/E43*100 -> 84.365225 | M43: =F43/D43*100 -> 12.787078 | N43: =J43/$J$53*100 -> 99.871371 | O43: =K43/$K$53*100 -> 96.295809 | P43: =L43/$J$53*100 -> 96.55982 | Q43: =M43/$K$53*100 -> 70.842718 | R43: 20134T | S43: =F43/F39-1 -> 0.99840482 | T43: =0.078396*S46+1.56291*T42-0.641306*T41 -> -6.25786
B44: 20141T | C44: 14121 | D44: 22495.944 | E44: 5248.7512 | F44: 4675.7193 | J44: =AVERAGE(L43:L46) -> 87.436175 | K44: =AVERAGE(M43:M46) -> 17.830467 | L44: =F44/E44*100 -> 89.08251 | M44: =F44/D44*100 -> 20.784722 | N44: =J44/$J$53*100 -> 100.07466 | O44: =K44/$K$53*100 -> 98.784005 | P44: =L44/$J$53*100 -> 101.95897 | Q44: =M44/$K$53*100 -> 115.15111 | R44: 20141T | S44: =F44/F40-1 -> 0.097473364 | T44: =0.078396*S47+1.56291*T43-0.641306*T42 -> -4.6023767
B45: 20142T | C45: 14128 | D45: 20859.23 | E45: 4756.6619 | F45: 4149.6257 | J45: =AVERAGE(L44:L47) -> 88.174943 | K45: =AVERAGE(M44:M47) -> 18.638865 | L45: =F45/E45*100 -> 87.238189 | M45: =F45/D45*100 -> 19.893475 | N45: =J45/$J$53*100 -> 100.92021 | O45: =K45/$K$53*100 -> 103.26267 | P45: =L45/$J$53*100 -> 99.848057 | Q45: =M45/$K$53*100 -> 110.21344 | R45: 20142T | S45: =F45/F41-1 -> 0.44342024 | T45: =0.078396*S48+1.56291*T44-0.641306*T43 -> -3.1759319
... B72: 20211T | C72: 15090 | D72: 26214.6 | E72: 6343.1543 | F72: 5769.3641 | J72: =AVERAGE(L71:L74) -> 89.796981 | K72: =AVERAGE(M71:M74) -> 19.067721 | L72: =F72/E72*100 -> 90.954181 | M72: =F72/D72*100 -> 22.008209 | N72: =J72/$J$53*100 -> 102.77671 | O72: =K72/$K$53*100 -> 105.63862 | P72: =L72/$J$53*100 -> 104.10118 | Q72: =M72/$K$53*100 -> 121.92945 | R72: 20211T | S72: =F72/F68-1 -> 0.16885443 | T72: =0.078396*S75+1.56291*T71-0.641306*T70 -> 0.027127482
B73: 20212T | C73: 15421 | D73: 26619.812 | E73: -832.0754 | F73: -1464.2355 | J73: =AVERAGE(L72:L75) -> 92.197063 | K73: =AVERAGE(M72:M75) -> 19.730415 | L73: =AVERAGE(L72,L74) -> 91.896157 | M73: =AVERAGE(M72,M74) -> 21.15208 | N73: =J73/$J$53*100 -> 105.52371 | O73: =K73/$K$53*100 -> 109.31006 | P73: =L73/$J$53*100 -> 105.17931 | Q73: =M73/$K$53*100 -> 117.18634 | R73: 20212T | S73: =F73/F69-1 -> -1.408899 | T73: =0.078396*S76+1.56291*T72-0.641306*T71 -> 0.24792204
B74: 20213T | C74: 15731 | D74: 33824.366 | E74: 7394.5658 | F74: 6864.9768 | J74: =AVERAGE(L73:L76) -> 93.533833 | K74: =AVERAGE(M73:M76) -> 20.509186 | L74: =F74/E74*100 -> 92.838132 | M74: =F74/D74*100 -> 20.295951 | N74: =J74/$J$53*100 -> 107.05371 | O74: =K74/$K$53*100 -> 113.62459 | P74: =L74/$J$53*100 -> 106.25745 | Q74: =M74/$K$53*100 -> 112.44323 | R74: 20213T | S74: =F74/F70-1 -> 0.93954446 | T74: =0.078396*S77+1.56291*T73-0.641306*T72 -> -0.4251124
B75: 20214T | C75: 16162 | D75: 52064.005 | E75: 8648.6948 | F75: 8051.916 | J75: =AVERAGE(L74:L77) -> 94.389394 | K75: =AVERAGE(M74:M77) -> 21.323696 | L75: =F75/E75*100 -> 93.099783 | M75: =F75/D75*100 -> 15.465418 | N75: =J75/$J$53*100 -> 108.03293 | O75: =K75/$K$53*100 -> 118.13712 | P75: =L75/$J$53*100 -> 106.55692 | Q75: =M75/$K$53*100 -> 85.681207 | R75: 20214T | S75: =F75/F71-1 -> 1.6645027 | T75: =0.078396*S78+1.56291*T74-0.641306*T73 -> -0.70976259
B76: 20221T | C76: 16099 | D76: 61141.719 | E76: 15950.794 | F76: 15360.815 | J76: =AVERAGE(L75:L78) -> 95.41203 | K76: =AVERAGE(M75:M78) -> 22.66317 | L76: =F76/E76*100 -> 96.301259 | M76: =F76/D76*100 -> 25.123296 | N76: =J76/$J$53*100 -> 109.20339 | O76: =K76/$K$53*100 -> 125.55805 | P76: =L76/$J$53*100 -> 110.22115 | Q76: =M76/$K$53*100 -> 139.18759 | R76: 20221T | S76: =F76/F72-1 -> 1.6624798 | T76: =0.078396*S79+1.56291*T75-0.641306*T74 -> -0.78367301
B77: 20222T | C77: 16325 | D77: 54845.96 | E77: 14045.519 | F77: 13387.964 | J77: =AVERAGE(L76:L79) -> 95.977853 | K77: =AVERAGE(M76:M79) -> 24.72599 | L77: =F77/E77*100 -> 95.318404 | M77: =F77/D77*100 -> 24.410119 | N77: =J77/$J$53*100 -> 109.851 | O77: =K77/$K$53*100 -> 136.98645 | P77: =L77/$J$53*100 -> 109.09623 | Q77: =M77/$K$53*100 -> 135.23646 | R77: 20222T | S77: =F77/F73-1 -> -10.143314 | T77: =0.078396*S80+1.56291*T76-0.641306*T75 -> -0.78560168
B78: 20223T | C78: 16408 | D78: 65551.672 | E78: 17349.381 | F78: 16816.525 | J78: =AVERAGE(L77:L80) -> 95.635445 | K78: =AVERAGE(M77:M80) -> 25.105774 | L78: =F78/E78*100 -> 96.928673 | M78: =F78/D78*100 -> 25.653846 | N78: =J78/$J$53*100 -> 109.4591 | O78: =K78/$K$53*100 -> 139.09052 | P78: =L78/$J$53*100 -> 110.93925 | Q78: =M78/$K$53*100 -> 142.12693 | R78: 20223T | S78: =F78/F74-1 -> 1.4496113 | T78: =0.078396*S81+1.56291*T77-0.641306*T76 -> -0.75612055
B79: 20224T | C79: 16714 | D79: 56900.541 | E79: 14151.106 | F79: 13494.93 | J79: =AVERAGE(L78:L81) -> 94.87255 | K79: =AVERAGE(M78:M81) -> 24.81341 | L79: =F79/E79*100 -> 95.363077 | M79: =F79/D79*100 -> 23.716699 | N79: =J79/$J$53*100 -> 108.58593 | O79: =K79/$K$53*100 -> 137.47077 | P79: =L79/$J$53*100 -> 109.14736 | Q79: =M79/$K$53*100 -> 131.39479 | R79: 20224T | S79: =F79/F75-1 -> 0.67598989 | T79: =0.078396*S82+1.56291*T78-0.641306*T77 -> -0.7191574
B80: 20231T | C80: 16424 | D80: 45913.209 | E80: 12885.481 | F80: 12232.397 | J80: =AVERAGE(L79:L82) -> 94.022168 | K80: =AVERAGE(M79:M82) -> 24.119699 | L80: =F80/E80*100 -> 94.931627 | M80: =F80/D80*100 -> 26.642434 | N80: =J80/$J$53*100 -> 107.61263 | O80: =K80/$K$53*100 -> 133.62749 | P80: =L80/$J$53*100 -> 108.65354 | Q80: =M80/$K$53*100 -> 147.60389 | R80: 20231T | S80: =F80/F76-1 -> -0.20366227 | T80: =0.078396*S83+1.56291*T79-0.641306*T78 -> -0.67286177
B81: 20232T | C81: 16790 | D81: 34922.325 | E81: 8796.4216 | F81: 8116.1788 | J81: =AVERAGE(L80:L83) -> 93.279217 | K81: =AVERAGE(M80:M83) -> 23.817285 | L81: =F81/E81*100 -> 92.266823 | M81: =F81/D81*100 -> 23.24066 | N81: =J81/$J$53*100 -> 106.76229 | O81: =K81/$K$53*100 -> 131.95205 | P81: =L81/$J$53*100 -> 105.60356 | Q81: =M81/$K$53*100 -> 128.75745 | R81: 20232T | S81: =F81/F77-1 -> -0.39377051 | T81: =0.078396*S84+1.56291*T80-0.641306*T79 -> -0.6220897
B82: 20233T | C82: 17060 | D82: 34855.134 | E82: 8526.4098 | F82: 7974.5077 | J82: =AVERAGE(L81:L84) -> 92.570754 | K82: =AVERAGE(M81:M84) -> 23.030437 | L82: =F82/E82*100 -> 93.527145 | M82: =F82/D82*100 -> 22.879005 | N82: =J82/$J$53*100 -> 105.95142 | O82: =K82/$K$53*100 -> 127.59278 | P82: =L82/$J$53*100 -> 107.04605 | Q82: =M82/$K$53*100 -> 126.75381 | R82: 20233T | S82: =F82/F78-1 -> -0.52579336 | T82: =0.078396*S85+1.56291*T81-0.641306*T80 -> -0.55990922
B83: 20234T | C83: 17356 | D83: 34116.928 | E83: 8311.0777 | F83: 7678.7106 | J83: =AVERAGE(L82:L85) -> 92.03852 | K83: =AVERAGE(M82:M85) -> 22.963354 | L83: =F83/E83*100 -> 92.391274 | M83: =F83/D83*100 -> 22.50704 | N83: =J83/$J$53*100 -> 105.34225 | O83: =K83/$K$53*100 -> 127.22112 | P83: =L83/$J$53*100 -> 105.746 | Q83: =M83/$K$53*100 -> 124.69306 | R83: 20234T | S83: =F83/F79-1 -> -0.43099292 | T83: =0.078396*S86+1.56291*T82-0.641306*T81 -> -0.47647631
B84: 20241T | C84: 16489 | D84: 31033.109 | E84: 7916.8504 | F84: 7291.2428 | J84: =AVERAGE(L83:L86) -> 92.109848 | K84: =AVERAGE(M83:M86) -> 23.393663 | L84: =F84/E84*100 -> 92.097771 | M84: =F84/D84*100 -> 23.495045 | N84: =J84/$J$53*100 -> 105.42389 | O84: =K84/$K$53*100 -> 129.60511 | P84: =L84/$J$53*100 -> 105.41007 | Q84: =M84/$K$53*100 -> 130.16679 | R84: 20241T | S84: =F84/F80-1 -> -0.40393997 | T84: =0.078396*S87+1.56291*T83-0.641306*T82 -> -0.3986231
B85: 20242T | C85: 16770 | D85: 26700.352 | E85: 6804.7875 | F85: 6133.692 | J85: =AVERAGE(L84:L87) -> 91.832366 | K85: =AVERAGE(M84:M87) -> 22.216554 | L85: =F85/E85*100 -> 90.137891 | M85: =F85/D85*100 -> 22.972326 | N85: =J85/$J$53*100 -> 105.1063 | O85: =K85/$K$53*100 -> 123.08372 | P85: =L85/$J$53*100 -> 103.1669 | Q85: =M85/$K$53*100 -> 127.27083 | R85: 20242T | S85: =F85/F81-1 -> -0.24426357 | T85: =0.078396*S88+1.56291*T84-0.641306*T83 -> -0.29346924
... B87: 20244T | C87: 17266 | D87: 35984.493 | E87: 7016.4807 | F87: 6404.738 | J87: =AVERAGE(L86:L89) -> 92.315274 | K87: =AVERAGE(M86:M89) -> 22.11382 | L87: =F87/E87*100 -> 91.281346 | M87: =F87/D87*100 -> 17.798606 | N87: =J87/$J$53*100 -> 105.65901 | O87: =K87/$K$53*100 -> 122.51455 | P87: =L87/$J$53*100 -> 104.47563 | Q87: =M87/$K$53*100 -> 98.607486 | R87: 20244T | S87: =F87/F83-1 -> -0.1659097 | T87: =0.078396*S90+1.56291*T86-0.641306*T85 -> -0.11767402
B88: 20251T | C88: 15647 | D88: 40456.76 | E88: 10179.804 | F88: 9521.108 | J88: =AVERAGE(L87:L90) -> 92.350304 | K88: =AVERAGE(M87:M90) -> 22.019086 | L88: =F88/E88*100 -> 93.529381 | M88: =F88/D88*100 -> 23.534035 | N88: =J88/$J$53*100 -> 105.6991 | O88: =K88/$K$53*100 -> 121.98971 | P88: =L88/$J$53*100 -> 107.04861 | Q88: =M88/$K$53*100 -> 130.3828 | R88: 20251T | S88: =F88/F84-1 -> 0.30582786
B89: 20252T | C89: 15569 | D89: 29088.918 | E89: 7228.236 | F89: 6551.5224 | L89: =F89/E89*100 -> 90.637915 | M89: =F89/D89*100 -> 22.5224 | P89: =L89/$J$53*100 -> 103.7392 | Q89: =M89/$K$53*100 -> 124.77816 | R89: 20252T | S89: =F89/F85-1 -> 0.068120544
B90: 20253T | C90: 15554 | D90: 34072.723 | E90: 8784.0677 | F90: 8252.8578 | L90: =F90/E90*100 -> 93.952575 | M90: =F90/D90*100 -> 24.221304 | P90: =L90/$J$53*100 -> 107.53298 | Q90: =M90/$K$53*100 -> 134.19039 | R90: 20253T | S90: =F90/F86-1 -> 0.039392257

Sheet Total(sin 19, 35, 4671)
C2: TOTAL SIN ENERGÍA - (19 +4671 + 35)
C3: D. Número de empresas | D3: A. Ventas totales | E3: S.1. Ventas - compras | F3: S.2. Indicador de resultado bruto de explotación | G3: A. Ventas y otros ingresos (IS) | H3: S.1. Ventas - compras (IS) | I3: S.2. Resultado bruto de explotación (IS) | K3: % total | L3: Margen Ventas unitario sobre ventas-compras(IVARET) | M3: Margen Ventas unitario (IVARET) | N3: Margen Ventas unitario sobre ventas-compras(IS) | O3: Margen Ventas unitario (IS) | S3: S.2. Indicador RBE (tasa var) | T3: S.2. RBE (tasa var)
B4: 2009 | C4: =+Total!C4-'Refino - 19'!C4-'CM combust - 4671'!C4-'Elec+gas - 35'!C4 -> 880787 | D4: =+Total!D4-'Refino - 19'!D4-'CM combust - 4671'!D4-'Elec+gas - 35'!D4 -> 1340594.3 | E4: =+Total!E4-'Refino - 19'!E4-'CM combust - 4671'!E4-'Elec+gas - 35'!E4 -> 311769.44 | F4: =+Total!F4-'Refino - 19'!F4-'CM combust - 4671'!F4-'Elec+gas - 35'!F4 -> 135960.52 | G4: =+Total!G4-'Refino - 19'!G4-'CM combust - 4671'!G4-'Elec+gas - 35'!G4 -> 1414829.8 | H4: =+Total!H4-'Refino - 19'!H4-'CM combust - 4671'!H4-'Elec+gas - 35'!H4 -> 351495.89 | I4: =+Total!I4-'Refino - 19'!I4-'CM combust - 4671'!I4-'Elec+gas - 35'!I4 -> 111840.27 | K4: =I4/Total!I4 -> 0.8842911 | L4: =F4/E4*100 -> 43.609316 | M4: =F4/D4*100 -> 10.14181 | N4: =I4/H4*100 -> 31.818372 | O4: =I4/G4*100 -> 7.9048566 | R4: 2009
B5: 2010 | C5: =+Total!C5-'Refino - 19'!C5-'CM combust - 4671'!C5-'Elec+gas - 35'!C5 -> 851058 | D5: =+Total!D5-'Refino - 19'!D5-'CM combust - 4671'!D5-'Elec+gas - 35'!D5 -> 1336902.3 | E5: =+Total!E5-'Refino - 19'!E5-'CM combust - 4671'!E5-'Elec+gas - 35'!E5 -> 309808.05 | F5: =+Total!F5-'Refino - 19'!F5-'CM combust - 4671'!F5-'Elec+gas - 35'!F5 -> 143395.95 | G5: =+Total!G5-'Refino - 19'!G5-'CM combust - 4671'!G5-'Elec+gas - 35'!G5 -> 1403483.2 | H5: =+Total!H5-'Refino - 19'!H5-'CM combust - 4671'!H5-'Elec+gas - 35'!H5 -> 341854.69 | I5: =+Total!I5-'Refino - 19'!I5-'CM combust - 4671'!I5-'Elec+gas - 35'!I5 -> 110253.76 | K5: =I5/Total!I5 -> 0.86780548 | L5: =F5/E5*100 -> 46.285416 | M5: =F5/D5*100 -> 10.725985 | N5: =I5/H5*100 -> 32.251644 | O5: =I5/G5*100 -> 7.8557231 | R5: 2010 | S5: =F5/F4-1 -> 0.05468813 | T5: =I5/I4-1 -> -0.014185545
B6: 2011 | C6: =+Total!C6-'Refino - 19'!C6-'CM combust - 4671'!C6-'Elec+gas - 35'!C6 -> 872897 | D6: =+Total!D6-'Refino - 19'!D6-'CM combust - 4671'!D6-'Elec+gas - 35'!D6 -> 1321182.3 | E6: =+Total!E6-'Refino - 19'!E6-'CM combust - 4671'!E6-'Elec+gas - 35'!E6 -> 299267.57 | F6: =+Total!F6-'Refino - 19'!F6-'CM combust - 4671'!F6-'Elec+gas - 35'!F6 -> 127468.79 | G6: =+Total!G6-'Refino - 19'!G6-'CM combust - 4671'!G6-'Elec+gas - 35'!G6 -> 1382918 | H6: =+Total!H6-'Refino - 19'!H6-'CM combust - 4671'!H6-'Elec+gas - 35'!H6 -> 315017.91 | I6: =+Total!I6-'Refino - 19'!I6-'CM combust - 4671'!I6-'Elec+gas - 35'!I6 -> 83229.549 | K6: =I6/Total!I6 -> 0.82589651 | L6: =F6/E6*100 -> 42.593585 | M6: =F6/D6*100 -> 9.6480846 | N6: =I6/H6*100 -> 26.420577 | O6: =I6/G6*100 -> 6.0184009 | R6: 2011 | S6: =F6/F5-1 -> -0.11107119 | T6: =I6/I5-1 -> -0.24510917
B7: 2012 | C7: =+Total!C7-'Refino - 19'!C7-'CM combust - 4671'!C7-'Elec+gas - 35'!C7 -> 853474 | D7: =+Total!D7-'Refino - 19'!D7-'CM combust - 4671'!D7-'Elec+gas - 35'!D7 -> 1242632.2 | E7: =+Total!E7-'Refino - 19'!E7-'CM combust - 4671'!E7-'Elec+gas - 35'!E7 -> 294975.18 | F7: =+Total!F7-'Refino - 19'!F7-'CM combust - 4671'!F7-'Elec+gas - 35'!F7 -> 133386.36 | G7: =+Total!G7-'Refino - 19'!G7-'CM combust - 4671'!G7-'Elec+gas - 35'!G7 -> 1329954.8 | H7: =+Total!H7-'Refino - 19'!H7-'CM combust - 4671'!H7-'Elec+gas - 35'!H7 -> 305962.36 | I7: =+Total!I7-'Refino - 19'!I7-'CM combust - 4671'!I7-'Elec+gas - 35'!I7 -> 88025.538 | K7: =I7/Total!I7 -> 0.82611896 | L7: =F7/E7*100 -> 45.219518 | M7: =F7/D7*100 -> 10.734178 | N7: =I7/H7*100 -> 28.770055 | O7: =I7/G7*100 -> 6.6186865 | R7: 2012 | S7: =F7/F6-1 -> 0.046423664 | T7: =I7/I6-1 -> 0.057623641
B8: 2013 | C8: =+Total!C8-'Refino - 19'!C8-'CM combust - 4671'!C8-'Elec+gas - 35'!C8 -> 840906 | D8: =+Total!D8-'Refino - 19'!D8-'CM combust - 4671'!D8-'Elec+gas - 35'!D8 -> 1206343.7 | E8: =+Total!E8-'Refino - 19'!E8-'CM combust - 4671'!E8-'Elec+gas - 35'!E8 -> 289348.86 | F8: =+Total!F8-'Refino - 19'!F8-'CM combust - 4671'!F8-'Elec+gas - 35'!F8 -> 134428.69 | G8: =+Total!G8-'Refino - 19'!G8-'CM combust - 4671'!G8-'Elec+gas - 35'!G8 -> 1269763.9 | H8: =+Total!H8-'Refino - 19'!H8-'CM combust - 4671'!H8-'Elec+gas - 35'!H8 -> 288454.8 | I8: =+Total!I8-'Refino - 19'!I8-'CM combust - 4671'!I8-'Elec+gas - 35'!I8 -> 78481.386 | K8: =I8/Total!I8 -> 0.82781639 | L8: =F8/E8*100 -> 46.459036 | M8: =F8/D8*100 -> 11.143482 | N8: =I8/H8*100 -> 27.207517 | O8: =I8/G8*100 -> 6.1807859 | R8: 2013 | S8: =F8/F7-1 -> 0.0078144082 | T8: =I8/I7-1 -> -0.10842481
B9: 2014 | C9: =+Total!C9-'Refino - 19'!C9-'CM combust - 4671'!C9-'Elec+gas - 35'!C9 -> 840379 | D9: =+Total!D9-'Refino - 19'!D9-'CM combust - 4671'!D9-'Elec+gas - 35'!D9 -> 1252105.9 | E9: =+Total!E9-'Refino - 19'!E9-'CM combust - 4671'!E9-'Elec+gas - 35'!E9 -> 290196.13 | F9: =+Total!F9-'Refino - 19'!F9-'CM combust - 4671'!F9-'Elec+gas - 35'!F9 -> 132243.21 | G9: =+Total!G9-'Refino - 19'!G9-'CM combust - 4671'!G9-'Elec+gas - 35'!G9 -> 1318539.4 | H9: =+Total!H9-'Refino - 19'!H9-'CM combust - 4671'!H9-'Elec+gas - 35'!H9 -> 304140.73 | I9: =+Total!I9-'Refino - 19'!I9-'CM combust - 4671'!I9-'Elec+gas - 35'!I9 -> 89965.532 | K9: =I9/Total!I9 -> 0.84237054 | L9: =F9/E9*100 -> 45.570286 | M9: =F9/D9*100 -> 10.561663 | N9: =I9/H9*100 -> 29.580231 | O9: =I9/G9*100 -> 6.8231203 | R9: 2014 | S9: =F9/F8-1 -> -0.016257549 | T9: =I9/I8-1 -> 0.14632954
B10: 2015 | C10: =+Total!C10-'Refino - 19'!C10-'CM combust - 4671'!C10-'Elec+gas - 35'!C10 -> 849016 | D10: =+Total!D10-'Refino - 19'!D10-'CM combust - 4671'!D10-'Elec+gas - 35'!D10 -> 1346222.6 | E10: =+Total!E10-'Refino - 19'!E10-'CM combust - 4671'!E10-'Elec+gas - 35'!E10 -> 311800.85 | F10: =+Total!F10-'Refino - 19'!F10-'CM combust - 4671'!F10-'Elec+gas - 35'!F10 -> 146825.6 | G10: =+Total!G10-'Refino - 19'!G10-'CM combust - 4671'!G10-'Elec+gas - 35'!G10 -> 1409876.2 | H10: =+Total!H10-'Refino - 19'!H10-'CM combust - 4671'!H10-'Elec+gas - 35'!H10 -> 330676.43 | I10: =+Total!I10-'Refino - 19'!I10-'CM combust - 4671'!I10-'Elec+gas - 35'!I10 -> 105065.43 | K10: =I10/Total!I10 -> 0.84524685 | L10: =F10/E10*100 -> 47.089545 | M10: =F10/D10*100 -> 10.906487 | N10: =I10/H10*100 -> 31.77288 | O10: =I10/G10*100 -> 7.4521027 | R10: 2015 | S10: =F10/F9-1 -> 0.11026947 | T10: =I10/I9-1 -> 0.16784088
B11: 2016 | C11: =+Total!C11-'Refino - 19'!C11-'CM combust - 4671'!C11-'Elec+gas - 35'!C11 -> 891848 | D11: =+Total!D11-'Refino - 19'!D11-'CM combust - 4671'!D11-'Elec+gas - 35'!D11 -> 1411020.9 | E11: =+Total!E11-'Refino - 19'!E11-'CM combust - 4671'!E11-'Elec+gas - 35'!E11 -> 331812.83 | F11: =+Total!F11-'Refino - 19'!F11-'CM combust - 4671'!F11-'Elec+gas - 35'!F11 -> 156066.07 | G11: =+Total!G11-'Refino - 19'!G11-'CM combust - 4671'!G11-'Elec+gas - 35'!G11 -> 1463817.2 | H11: =+Total!H11-'Refino - 19'!H11-'CM combust - 4671'!H11-'Elec+gas - 35'!H11 -> 340904.24 | I11: =+Total!I11-'Refino - 19'!I11-'CM combust - 4671'!I11-'Elec+gas - 35'!I11 -> 103521.49 | K11: =I11/Total!I11 -> 0.84508775 | L11: =F11/E11*100 -> 47.034368 | M11: =F11/D11*100 -> 11.060507 | N11: =I11/H11*100 -> 30.366736 | O11: =I11/G11*100 -> 7.0720229 | R11: 2016 | S11: =F11/F10-1 -> 0.06293499 | T11: =I11/I10-1 -> -0.014694982
B12: 2017 | C12: =+Total!C12-'Refino - 19'!C12-'CM combust - 4671'!C12-'Elec+gas - 35'!C12 -> 913062 | D12: =+Total!D12-'Refino - 19'!D12-'CM combust - 4671'!D12-'Elec+gas - 35'!D12 -> 1527027.1 | E12: =+Total!E12-'Refino - 19'!E12-'CM combust - 4671'!E12-'Elec+gas - 35'!E12 -> 356102.75 | F12: =+Total!F12-'Refino - 19'!F12-'CM combust - 4671'!F12-'Elec+gas - 35'!F12 -> 167757.56 | G12: =+Total!G12-'Refino - 19'!G12-'CM combust - 4671'!G12-'Elec+gas - 35'!G12 -> 1584665.1 | H12: =+Total!H12-'Refino - 19'!H12-'CM combust - 4671'!H12-'Elec+gas - 35'!H12 -> 369674.08 | I12: =+Total!I12-'Refino - 19'!I12-'CM combust - 4671'!I12-'Elec+gas - 35'!I12 -> 115656.53 | K12: =I12/Total!I12 -> 0.86292535 | L12: =F12/E12*100 -> 47.109315 | M12: =F12/D12*100 -> 10.985893 | N12: =I12/H12*100 -> 31.28608 | O12: =I12/G12*100 -> 7.298484 | R12: 2017 | S12: =F12/F11-1 -> 0.074913777 | T12: =I12/I11-1 -> 0.1172224
B13: 2018 | C13: =+Total!C13-'Refino - 19'!C13-'CM combust - 4671'!C13-'Elec+gas - 35'!C13 -> 922775 | D13: =+Total!D13-'Refino - 19'!D13-'CM combust - 4671'!D13-'Elec+gas - 35'!D13 -> 1607687.6 | E13: =+Total!E13-'Refino - 19'!E13-'CM combust - 4671'!E13-'Elec+gas - 35'!E13 -> 368827.23 | F13: =+Total!F13-'Refino - 19'!F13-'CM combust - 4671'!F13-'Elec+gas - 35'!F13 -> 169005.53 | G13: =+Total!G13-'Refino - 19'!G13-'CM combust - 4671'!G13-'Elec+gas - 35'!G13 -> 1665188.6 | H13: =+Total!H13-'Refino - 19'!H13-'CM combust - 4671'!H13-'Elec+gas - 35'!H13 -> 390359.33 | I13: =+Total!I13-'Refino - 19'!I13-'CM combust - 4671'!I13-'Elec+gas - 35'!I13 -> 120448.59 | K13: =I13/Total!I13 -> 0.86328875 | L13: =F13/E13*100 -> 45.82241 | M13: =F13/D13*100 -> 10.512336 | N13: =I13/H13*100 -> 30.855824 | O13: =I13/G13*100 -> 7.2333303 | R13: 2018 | S13: =F13/F12-1 -> 0.0074390748 | T13: =I13/I12-1 -> 0.041433549
B14: 2019 | C14: =+Total!C14-'Refino - 19'!C14-'CM combust - 4671'!C14-'Elec+gas - 35'!C14 -> 935778 | D14: =+Total!D14-'Refino - 19'!D14-'CM combust - 4671'!D14-'Elec+gas - 35'!D14 -> 1671780.5 | E14: =+Total!E14-'Refino - 19'!E14-'CM combust - 4671'!E14-'Elec+gas - 35'!E14 -> 392242.72 | F14: =+Total!F14-'Refino - 19'!F14-'CM combust - 4671'!F14-'Elec+gas - 35'!F14 -> 179880.01 | G14: =+Total!G14-'Refino - 19'!G14-'CM combust - 4671'!G14-'Elec+gas - 35'!G14 -> 1717133 | H14: =+Total!H14-'Refino - 19'!H14-'CM combust - 4671'!H14-'Elec+gas - 35'!H14 -> 414641.24 | I14: =+Total!I14-'Refino - 19'!I14-'CM combust - 4671'!I14-'Elec+gas - 35'!I14 -> 127239.8 | K14: =I14/Total!I14 -> 0.86655168 | L14: =F14/E14*100 -> 45.859362 | M14: =F14/D14*100 -> 10.759786 | N14: =I14/H14*100 -> 30.686721 | O14: =I14/G14*100 -> 7.4100143 | R14: 2019 | S14: =F14/F13-1 -> 0.064343955 | T14: =I14/I13-1 -> 0.056382668
B15: 2020 | C15: =+Total!C15-'Refino - 19'!C15-'CM combust - 4671'!C15-'Elec+gas - 35'!C15 -> 929577 | D15: =+Total!D15-'Refino - 19'!D15-'CM combust - 4671'!D15-'Elec+gas - 35'!D15 -> 1500935.4 | E15: =+Total!E15-'Refino - 19'!E15-'CM combust - 4671'!E15-'Elec+gas - 35'!E15 -> 345861.74 | F15: =+Total!F15-'Refino - 19'!F15-'CM combust - 4671'!F15-'Elec+gas - 35'!F15 -> 147675.65 | G15: =+Total!G15-'Refino - 19'!G15-'CM combust - 4671'!G15-'Elec+gas - 35'!G15 -> 1563899.4 | H15: =+Total!H15-'Refino - 19'!H15-'CM combust - 4671'!H15-'Elec+gas - 35'!H15 -> 368063.29 | I15: =+Total!I15-'Refino - 19'!I15-'CM combust - 4671'!I15-'Elec+gas - 35'!I15 -> 99349.449 | K15: =I15/Total!I15 -> 0.85808854 | L15: =F15/E15*100 -> 42.697886 | M15: =F15/D15*100 -> 9.838908 | N15: =I15/H15*100 -> 26.992491 | O15: =I15/G15*100 -> 6.3526752 | R15: 2020 | S15: =F15/F14-1 -> -0.17903244 | T15: =I15/I14-1 -> -0.21919519
B16: 2021 | C16: =+Total!C16-'Refino - 19'!C16-'CM combust - 4671'!C16-'Elec+gas - 35'!C16 -> 952115 | D16: =+Total!D16-'Refino - 19'!D16-'CM combust - 4671'!D16-'Elec+gas - 35'!D16 -> 1737909.3 | E16: =+Total!E16-'Refino - 19'!E16-'CM combust - 4671'!E16-'Elec+gas - 35'!E16 -> 398876.92 | F16: =+Total!F16-'Refino - 19'!F16-'CM combust - 4671'!F16-'Elec+gas - 35'!F16 -> 184360.08 | G16: =+Total!G16-'Refino - 19'!G16-'CM combust - 4671'!G16-'Elec+gas - 35'!G16 -> 1814690.4 | H16: =+Total!H16-'Refino - 19'!H16-'CM combust - 4671'!H16-'Elec+gas - 35'!H16 -> 430992.7 | I16: =+Total!I16-'Refino - 19'!I16-'CM combust - 4671'!I16-'Elec+gas - 35'!I16 -> 135029.67 | K16: =I16/Total!I16 -> 0.86687788 | L16: =F16/E16*100 -> 46.219791 | M16: =F16/D16*100 -> 10.608153 | N16: =I16/H16*100 -> 31.329922 | O16: =I16/G16*100 -> 7.4409209 | R16: 2021 | S16: =F16/F15-1 -> 0.24841214 | T16: =I16/I15-1 -> 0.35913863
... B19: 2024 | C19: =+Total!C19-'Refino - 19'!C19-'CM combust - 4671'!C19-'Elec+gas - 35'!C19 -> 1012334 | D19: =+Total!D19-'Refino - 19'!D19-'CM combust - 4671'!D19-'Elec+gas - 35'!D19 -> 2211908.2 | E19: =+Total!E19-'Refino - 19'!E19-'CM combust - 4671'!E19-'Elec+gas - 35'!E19 -> 536155.89 | F19: =+Total!F19-'Refino - 19'!F19-'CM combust - 4671'!F19-'Elec+gas - 35'!F19 -> 255693.36 | G19: =+Total!G19-'Refino - 19'!G19-'CM combust - 4671'!G19-'Elec+gas - 35'!G19 -> 2298968.5 | H19: =+Total!H19-'Refino - 19'!H19-'CM combust - 4671'!H19-'Elec+gas - 35'!H19 -> 574353.76 | I19: =+Total!I19-'Refino - 19'!I19-'CM combust - 4671'!I19-'Elec+gas - 35'!I19 -> 191533.99 | K19: =I19/Total!I19 -> 0.88711513 | L19: =F19/E19*100 -> 47.690114 | M19: =F19/D19*100 -> 11.559854 | N19: =I19/H19*100 -> 33.347738 | O19: =I19/G19*100 -> 8.3313013 | R19: 2024 | S19: =F19/F18-1 -> 0.085073993 | T19: =I19/I18-1 -> 0.12321466
B20: 2025 | D20: =+Total!D20-'Refino - 19'!D20-'CM combust - 4671'!D20-'Elec+gas - 35'!D20 -> 2319594.3 | E20: =+Total!E20-'Refino - 19'!E20-'CM combust - 4671'!E20-'Elec+gas - 35'!E20 -> 559497.02 | F20: =+Total!F20-'Refino - 19'!F20-'CM combust - 4671'!F20-'Elec+gas - 35'!F20 -> 261186.77 | I20: =I19*(1+T20) -> 195648.97 | K20: =I20/Total!I20 -> 0.88662658 | L20: =F20/E20*100 -> 46.682423 | M20: =F20/D20*100 -> 11.260019 | N20: =N19*(L20/L19) -> 32.643101 | O20: =O19*(M20/M19) -> 8.1152076 | R20: 2025 | S20: =F20/F19-1 -> 0.021484358 | T20: =+S20 -> 0.021484358
C23: D. Número de empresas | D23: A. Ventas totales | E23: S.1. Ventas - compras | F23: S.2. Indicador de resultado bruto de explotación | J23: mm4 MU sobre ventas compras | K23: mm4 MU s/ ventas | N23: Base 2016=100 | O23: Base 2016=100
B24: 20091T | C24: =+Total!C24-'Refino - 19'!C24-'CM combust - 4671'!C24-'Elec+gas - 35'!C24 -> 850081 | D24: =+Total!D24-'Refino - 19'!D24-'CM combust - 4671'!D24-'Elec+gas - 35'!D24 -> 309898.76 | E24: =+Total!E24-'Refino - 19'!E24-'CM combust - 4671'!E24-'Elec+gas - 35'!E24 -> 66236.433 | F24: =+Total!F24-'Refino - 19'!F24-'CM combust - 4671'!F24-'Elec+gas - 35'!F24 -> 24203.223 | L24: =F24/E24*100 -> 36.540649 | M24: =F24/D24*100 -> 7.8100418 | P24: =L24/$J$53*100 -> 77.895313 | Q24: =M24/$K$53*100 -> 70.68978 | R24: 20091T
B25: 20092T | C25: =+Total!C25-'Refino - 19'!C25-'CM combust - 4671'!C25-'Elec+gas - 35'!C25 -> 858024 | D25: =+Total!D25-'Refino - 19'!D25-'CM combust - 4671'!D25-'Elec+gas - 35'!D25 -> 330753.54 | E25: =+Total!E25-'Refino - 19'!E25-'CM combust - 4671'!E25-'Elec+gas - 35'!E25 -> 75259.588 | F25: =+Total!F25-'Refino - 19'!F25-'CM combust - 4671'!F25-'Elec+gas - 35'!F25 -> 31162.235 | J25: =AVERAGE(L24:L27) -> 43.079965 | K25: =AVERAGE(M24:M27) -> 10.042647 | L25: =F25/E25*100 -> 41.406332 | M25: =F25/D25*100 -> 9.4215879 | N25: =J25/$J$53*100 -> 91.835459 | O25: =K25/$K$53*100 -> 90.897404 | P25: =L25/$J$53*100 -> 88.267703 | Q25: =M25/$K$53*100 -> 85.276109 | R25: 20092T
B26: 20093T | C26: =+Total!C26-'Refino - 19'!C26-'CM combust - 4671'!C26-'Elec+gas - 35'!C26 -> 861487 | D26: =+Total!D26-'Refino - 19'!D26-'CM combust - 4671'!D26-'Elec+gas - 35'!D26 -> 325322.04 | E26: =+Total!E26-'Refino - 19'!E26-'CM combust - 4671'!E26-'Elec+gas - 35'!E26 -> 77250.331 | F26: =+Total!F26-'Refino - 19'!F26-'CM combust - 4671'!F26-'Elec+gas - 35'!F26 -> 35231.667 | J26: =AVERAGE(L25:L28) -> 44.720612 | K26: =AVERAGE(M25:M28) -> 10.539979 | L26: =F26/E26*100 -> 45.607141 | M26: =F26/D26*100 -> 10.829782 | N26: =J26/$J$53*100 -> 95.332899 | O26: =K26/$K$53*100 -> 95.398827 | P26: =L26/$J$53*100 -> 97.222752 | Q26: =M26/$K$53*100 -> 98.021868 | R26: 20093T
B27: 20094T | C27: =+Total!C27-'Refino - 19'!C27-'CM combust - 4671'!C27-'Elec+gas - 35'!C27 -> 869941 | D27: =+Total!D27-'Refino - 19'!D27-'CM combust - 4671'!D27-'Elec+gas - 35'!D27 -> 374619.94 | E27: =+Total!E27-'Refino - 19'!E27-'CM combust - 4671'!E27-'Elec+gas - 35'!E27 -> 93023.089 | F27: =+Total!F27-'Refino - 19'!F27-'CM combust - 4671'!F27-'Elec+gas - 35'!F27 -> 45363.395 | J27: =AVERAGE(L26:L29) -> 47.255829 | K27: =AVERAGE(M26:M29) -> 11.341462 | L27: =F27/E27*100 -> 48.765737 | M27: =F27/D27*100 -> 12.109178 | N27: =J27/$J$53*100 -> 100.73733 | O27: =K27/$K$53*100 -> 102.65315 | P27: =L27/$J$53*100 -> 103.95607 | Q27: =M27/$K$53*100 -> 109.60186 | R27: 20094T
B28: 20101T | C28: =+Total!C28-'Refino - 19'!C28-'CM combust - 4671'!C28-'Elec+gas - 35'!C28 -> 827640 | D28: =+Total!D28-'Refino - 19'!D28-'CM combust - 4671'!D28-'Elec+gas - 35'!D28 -> 307264.08 | E28: =+Total!E28-'Refino - 19'!E28-'CM combust - 4671'!E28-'Elec+gas - 35'!E28 -> 69855.414 | F28: =+Total!F28-'Refino - 19'!F28-'CM combust - 4671'!F28-'Elec+gas - 35'!F28 -> 30109.945 | J28: =AVERAGE(L27:L30) -> 46.416672 | K28: =AVERAGE(M27:M30) -> 10.995002 | L28: =F28/E28*100 -> 43.103238 | M28: =F28/D28*100 -> 9.7993705 | N28: =J28/$J$53*100 -> 98.948464 | O28: =K28/$K$53*100 -> 99.5173 | P28: =L28/$J$53*100 -> 91.885071 | Q28: =M28/$K$53*100 -> 88.695472 | R28: 20101T | S28: =F28/F24-1 -> 0.24404693 | T28: =AVERAGE(S28:S29) -> 0.33748428
B29: 20102T | C29: =+Total!C29-'Refino - 19'!C29-'CM combust - 4671'!C29-'Elec+gas - 35'!C29 -> 836800 | D29: =+Total!D29-'Refino - 19'!D29-'CM combust - 4671'!D29-'Elec+gas - 35'!D29 -> 353123.4 | E29: =+Total!E29-'Refino - 19'!E29-'CM combust - 4671'!E29-'Elec+gas - 35'!E29 -> 86504.628 | F29: =+Total!F29-'Refino - 19'!F29-'CM combust - 4671'!F29-'Elec+gas - 35'!F29 -> 44590.716 | J29: =AVERAGE(L28:L31) -> 45.936973 | K29: =AVERAGE(M28:M31) -> 10.65696 | L29: =F29/E29*100 -> 51.547203 | M29: =F29/D29*100 -> 12.627517 | N29: =J29/$J$53*100 -> 97.925871 | O29: =K29/$K$53*100 -> 96.457633 | P29: =L29/$J$53*100 -> 109.88544 | Q29: =M29/$K$53*100 -> 114.29342 | R29: 20102T | S29: =F29/F25-1 -> 0.43092163 | T29: =+T28 -> 0.33748428
B30: 20103T | C30: =+Total!C30-'Refino - 19'!C30-'CM combust - 4671'!C30-'Elec+gas - 35'!C30 -> 839690 | D30: =+Total!D30-'Refino - 19'!D30-'CM combust - 4671'!D30-'Elec+gas - 35'!D30 -> 310531.03 | E30: =+Total!E30-'Refino - 19'!E30-'CM combust - 4671'!E30-'Elec+gas - 35'!E30 -> 69410.699 | F30: =+Total!F30-'Refino - 19'!F30-'CM combust - 4671'!F30-'Elec+gas - 35'!F30 -> 29326.374 | J30: =AVERAGE(L29:L32) -> 45.235775 | K30: =AVERAGE(M29:M32) -> 10.40316 | L30: =F30/E30*100 -> 42.250509 | M30: =F30/D30*100 -> 9.4439432 | N30: =J30/$J$53*100 -> 96.431095 | O30: =K30/$K$53*100 -> 94.160452 | P30: =L30/$J$53*100 -> 90.067273 | Q30: =M30/$K$53*100 -> 85.47845 | R30: 20103T | S30: =F30/F26-1 -> -0.16761322 | T30: =0.078396*S33+1.56291*T29-0.641306*T28 -> 0.28694213
B31: 20104T | C31: =+Total!C31-'Refino - 19'!C31-'CM combust - 4671'!C31-'Elec+gas - 35'!C31 -> 840470 | D31: =+Total!D31-'Refino - 19'!D31-'CM combust - 4671'!D31-'Elec+gas - 35'!D31 -> 365983.81 | E31: =+Total!E31-'Refino - 19'!E31-'CM combust - 4671'!E31-'Elec+gas - 35'!E31 -> 84037.309 | F31: =+Total!F31-'Refino - 19'!F31-'CM combust - 4671'!F31-'Elec+gas - 35'!F31 -> 39368.911 | J31: =AVERAGE(L30:L33) -> 42.756287 | K31: =AVERAGE(M30:M33) -> 9.5715134 | L31: =F31/E31*100 -> 46.846944 | M31: =F31/D31*100 -> 10.757009 | N31: =J31/$J$53*100 -> 91.145462 | O31: =K31/$K$53*100 -> 86.633105 | P31: =L31/$J$53*100 -> 99.865695 | Q31: =M31/$K$53*100 -> 97.363191 | R31: 20104T | S31: =F31/F27-1 -> -0.13214364 | T31: =0.078396*S34+1.56291*T30-0.641306*T29 -> 0.24175011
B32: 20111T | C32: =+Total!C32-'Refino - 19'!C32-'CM combust - 4671'!C32-'Elec+gas - 35'!C32 -> 834583 | D32: =+Total!D32-'Refino - 19'!D32-'CM combust - 4671'!D32-'Elec+gas - 35'!D32 -> 316626.21 | E32: =+Total!E32-'Refino - 19'!E32-'CM combust - 4671'!E32-'Elec+gas - 35'!E32 -> 69017.513 | F32: =+Total!F32-'Refino - 19'!F32-'CM combust - 4671'!F32-'Elec+gas - 35'!F32 -> 27812.984 | J32: =AVERAGE(L31:L34) -> 43.261148 | K32: =AVERAGE(M31:M34) -> 9.7813278 | L32: =F32/E32*100 -> 40.298444 | M32: =F32/D32*100 -> 8.7841697 | N32: =J32/$J$53*100 -> 92.221697 | O32: =K32/$K$53*100 -> 88.532165 | P32: =L32/$J$53*100 -> 85.905969 | Q32: =M32/$K$53*100 -> 79.506748 | R32: 20111T | S32: =F32/F28-1 -> -0.076285803 | T32: =0.078396*S35+1.56291*T31-0.641306*T30 -> 0.18671556
B33: 20112T | C33: =+Total!C33-'Refino - 19'!C33-'CM combust - 4671'!C33-'Elec+gas - 35'!C33 -> 844208 | D33: =+Total!D33-'Refino - 19'!D33-'CM combust - 4671'!D33-'Elec+gas - 35'!D33 -> 332134.49 | E33: =+Total!E33-'Refino - 19'!E33-'CM combust - 4671'!E33-'Elec+gas - 35'!E33 -> 74206.477 | F33: =+Total!F33-'Refino - 19'!F33-'CM combust - 4671'!F33-'Elec+gas - 35'!F33 -> 30891.602 | J33: =AVERAGE(L32:L35) -> 42.520007 | K33: =AVERAGE(M32:M35) -> 9.6357179 | L33: =F33/E33*100 -> 41.629253 | M33: =F33/D33*100 -> 9.3009317 | N33: =J33/$J$53*100 -> 90.641774 | O33: =K33/$K$53*100 -> 87.214229 | P33: =L33/$J$53*100 -> 88.742913 | Q33: =M33/$K$53*100 -> 84.184032 | R33: 20112T | S33: =F33/F29-1 -> -0.30721898 | T33: =0.078396*S36+1.56291*T32-0.641306*T31 -> 0.14222901
B34: 20113T | C34: =+Total!C34-'Refino - 19'!C34-'CM combust - 4671'!C34-'Elec+gas - 35'!C34 -> 849402 | D34: =+Total!D34-'Refino - 19'!D34-'CM combust - 4671'!D34-'Elec+gas - 35'!D34 -> 320532.16 | E34: =+Total!E34-'Refino - 19'!E34-'CM combust - 4671'!E34-'Elec+gas - 35'!E34 -> 74454.486 | F34: =+Total!F34-'Refino - 19'!F34-'CM combust - 4671'!F34-'Elec+gas - 35'!F34 -> 32960.966 | J34: =AVERAGE(L33:L36) -> 43.2074 | K34: =AVERAGE(M33:M36) -> 9.9024816 | L34: =F34/E34*100 -> 44.269953 | M34: =F34/D34*100 -> 10.283201 | N34: =J34/$J$53*100 -> 92.10712 | O34: =K34/$K$53*100 -> 89.628745 | P34: =L34/$J$53*100 -> 94.372211 | Q34: =M34/$K$53*100 -> 93.074691 | R34: 20113T | S34: =F34/F30-1 -> 0.12393596 | T34: =0.078396*S37+1.56291*T33-0.641306*T32 -> 0.10852963
B35: 20114T | C35: =+Total!C35-'Refino - 19'!C35-'CM combust - 4671'!C35-'Elec+gas - 35'!C35 -> 861869 | D35: =+Total!D35-'Refino - 19'!D35-'CM combust - 4671'!D35-'Elec+gas - 35'!D35 -> 351889.45 | E35: =+Total!E35-'Refino - 19'!E35-'CM combust - 4671'!E35-'Elec+gas - 35'!E35 -> 81589.092 | F35: =+Total!F35-'Refino - 19'!F35-'CM combust - 4671'!F35-'Elec+gas - 35'!F35 -> 35803.235 | J35: =AVERAGE(L34:L37) -> 44.009081 | K35: =AVERAGE(M34:M37) -> 10.233072 | L35: =F35/E35*100 -> 43.88238 | M35: =F35/D35*100 -> 10.174569 | N35: =J35/$J$53*100 -> 93.816098 | O35: =K35/$K$53*100 -> 92.620967 | P35: =L35/$J$53*100 -> 93.546003 | Q35: =M35/$K$53*100 -> 92.091447 | R35: 20114T | S35: =F35/F31-1 -> -0.090570846 | T35: =0.078396*S38+1.56291*T34-0.641306*T33 -> 0.089452604
B36: 20121T | C36: =+Total!C36-'Refino - 19'!C36-'CM combust - 4671'!C36-'Elec+gas - 35'!C36 -> 812812 | D36: =+Total!D36-'Refino - 19'!D36-'CM combust - 4671'!D36-'Elec+gas - 35'!D36 -> 301940.16 | E36: =+Total!E36-'Refino - 19'!E36-'CM combust - 4671'!E36-'Elec+gas - 35'!E36 -> 69096.804 | F36: =+Total!F36-'Refino - 19'!F36-'CM combust - 4671'!F36-'Elec+gas - 35'!F36 -> 29744.803 | J36: =AVERAGE(L35:L38) -> 45.246963 | K36: =AVERAGE(M35:M38) -> 10.750264 | L36: =F36/E36*100 -> 43.048016 | M36: =F36/D36*100 -> 9.8512246 | N36: =J36/$J$53*100 -> 96.454945 | O36: =K36/$K$53*100 -> 97.302143 | P36: =L36/$J$53*100 -> 91.767353 | Q36: =M36/$K$53*100 -> 89.164811 | R36: 20121T | S36: =F36/F32-1 -> 0.069457461 | T36: =0.078396*S39+1.56291*T35-0.641306*T34 -> 0.063606873
B37: 20122T | C37: =+Total!C37-'Refino - 19'!C37-'CM combust - 4671'!C37-'Elec+gas - 35'!C37 -> 821818 | D37: =+Total!D37-'Refino - 19'!D37-'CM combust - 4671'!D37-'Elec+gas - 35'!D37 -> 312973.67 | E37: =+Total!E37-'Refino - 19'!E37-'CM combust - 4671'!E37-'Elec+gas - 35'!E37 -> 74154.991 | F37: =+Total!F37-'Refino - 19'!F37-'CM combust - 4671'!F37-'Elec+gas - 35'!F37 -> 33248.113 | J37: =AVERAGE(L36:L39) -> 45.158906 | K37: =AVERAGE(M36:M39) -> 10.7423 | L37: =F37/E37*100 -> 44.835975 | M37: =F37/D37*100 -> 10.623294 | N37: =J37/$J$53*100 -> 96.26723 | O37: =K37/$K$53*100 -> 97.230056 | P37: =L37/$J$53*100 -> 95.578825 | Q37: =M37/$K$53*100 -> 96.152921 | R37: 20122T | S37: =F37/F33-1 -> 0.076283243 | T37: =0.078396*S40+1.56291*T36-0.641306*T35 -> 0.033603724
B38: 20123T | C38: =+Total!C38-'Refino - 19'!C38-'CM combust - 4671'!C38-'Elec+gas - 35'!C38 -> 827420 | D38: =+Total!D38-'Refino - 19'!D38-'CM combust - 4671'!D38-'Elec+gas - 35'!D38 -> 304436.12 | E38: =+Total!E38-'Refino - 19'!E38-'CM combust - 4671'!E38-'Elec+gas - 35'!E38 -> 76397.242 | F38: =+Total!F38-'Refino - 19'!F38-'CM combust - 4671'!F38-'Elec+gas - 35'!F38 -> 37603.853 | J38: =AVERAGE(L37:L40) -> 44.845185 | K38: =AVERAGE(M37:M40) -> 10.677282 | L38: =F38/E38*100 -> 49.22148 | M38: =F38/D38*100 -> 12.351968 | N38: =J38/$J$53*100 -> 95.598457 | O38: =K38/$K$53*100 -> 96.64157 | P38: =L38/$J$53*100 -> 104.9276 | Q38: =M38/$K$53*100 -> 111.79939 | R38: 20123T | S38: =F38/F34-1 -> 0.14086016 | T38: =0.078396*S41+1.56291*T37-0.641306*T36 -> 0.012701257
B39: 20124T | C39: =+Total!C39-'Refino - 19'!C39-'CM combust - 4671'!C39-'Elec+gas - 35'!C39 -> 840548 | D39: =+Total!D39-'Refino - 19'!D39-'CM combust - 4671'!D39-'Elec+gas - 35'!D39 -> 323282.25 | E39: =+Total!E39-'Refino - 19'!E39-'CM combust - 4671'!E39-'Elec+gas - 35'!E39 -> 75326.144 | F39: =+Total!F39-'Refino - 19'!F39-'CM combust - 4671'!F39-'Elec+gas - 35'!F39 -> 32789.585 | J39: =AVERAGE(L38:L41) -> 45.247651 | K39: =AVERAGE(M38:M41) -> 10.78327 | L39: =F39/E39*100 -> 43.530153 | M39: =F39/D39*100 -> 10.142711 | N39: =J39/$J$53*100 -> 96.456413 | O39: =K39/$K$53*100 -> 97.600881 | P39: =L39/$J$53*100 -> 92.795145 | Q39: =M39/$K$53*100 -> 91.803098 | R39: 20124T | S39: =F39/F35-1 -> -0.084172554 | T39: =0.078396*S42+1.56291*T38-0.641306*T37 -> 0.0012742379
B40: 20131T | C40: =+Total!C40-'Refino - 19'!C40-'CM combust - 4671'!C40-'Elec+gas - 35'!C40 -> 795799 | D40: =+Total!D40-'Refino - 19'!D40-'CM combust - 4671'!D40-'Elec+gas - 35'!D40 -> 276733.27 | E40: =+Total!E40-'Refino - 19'!E40-'CM combust - 4671'!E40-'Elec+gas - 35'!E40 -> 63507.834 | F40: =+Total!F40-'Refino - 19'!F40-'CM combust - 4671'!F40-'Elec+gas - 35'!F40 -> 26541.912 | J40: =AVERAGE(L39:L42) -> 45.683896 | K40: =AVERAGE(M39:M42) -> 10.97217 | L40: =F40/E40*100 -> 41.793131 | M40: =F40/D40*100 -> 9.5911534 | N40: =J40/$J$53*100 -> 97.386376 | O40: =K40/$K$53*100 -> 99.31064 | P40: =L40/$J$53*100 -> 89.092259 | Q40: =M40/$K$53*100 -> 86.81087 | R40: 20131T | S40: =F40/F36-1 -> -0.10767901 | T40: =0.078396*S43+1.56291*T39-0.641306*T38 -> -0.00040095791
B41: 20132T | C41: =+Total!C41-'Refino - 19'!C41-'CM combust - 4671'!C41-'Elec+gas - 35'!C41 -> 807287 | D41: =+Total!D41-'Refino - 19'!D41-'CM combust - 4671'!D41-'Elec+gas - 35'!D41 -> 304698.79 | E41: =+Total!E41-'Refino - 19'!E41-'CM combust - 4671'!E41-'Elec+gas - 35'!E41 -> 72473.274 | F41: =+Total!F41-'Refino - 19'!F41-'CM combust - 4671'!F41-'Elec+gas - 35'!F41 -> 33660.823 | J41: =AVERAGE(L40:L43) -> 46.260163 | K41: =AVERAGE(M40:M43) -> 11.126121 | L41: =F41/E41*100 -> 46.445842 | M41: =F41/D41*100 -> 11.047245 | N41: =J41/$J$53*100 -> 98.614828 | O41: =K41/$K$53*100 -> 100.70408 | P41: =L41/$J$53*100 -> 99.01065 | Q41: =M41/$K$53*100 -> 99.990163 | R41: 20132T | S41: =F41/F37-1 -> 0.012413021 | T41: =0.078396*S44+1.56291*T40-0.641306*T39 -> -0.0024377781
... B87: 20244T | C87: =+Total!C87-'Refino - 19'!C87-'CM combust - 4671'!C87-'Elec+gas - 35'!C87 -> 990009 | D87: =+Total!D87-'Refino - 19'!D87-'CM combust - 4671'!D87-'Elec+gas - 35'!D87 -> 595775.17 | E87: =+Total!E87-'Refino - 19'!E87-'CM combust - 4671'!E87-'Elec+gas - 35'!E87 -> 140539.33 | F87: =+Total!F87-'Refino - 19'!F87-'CM combust - 4671'!F87-'Elec+gas - 35'!F87 -> 65577.636 | J87: =AVERAGE(L86:L89) -> 47.117948 | K87: =AVERAGE(M86:M89) -> 11.433567 | L87: =F87/E87*100 -> 46.661414 | M87: =F87/D87*100 -> 11.007111 | N87: =J87/$J$53*100 -> 100.44341 | O87: =K87/$K$53*100 -> 103.48682 | P87: =L87/$J$53*100 -> 99.470192 | Q87: =M87/$K$53*100 -> 99.626903 | R87: 20244T | S87: =F87/F83-1 -> 0.075608879 | T87: =0.078396*S90+1.56291*T86-0.641306*T85 -> 0.07959151
B88: 20251T | C88: =+Total!C88-'Refino - 19'!C88-'CM combust - 4671'!C88-'Elec+gas - 35'!C88 -> 935308 | D88: =+Total!D88-'Refino - 19'!D88-'CM combust - 4671'!D88-'Elec+gas - 35'!D88 -> 544208.58 | E88: =+Total!E88-'Refino - 19'!E88-'CM combust - 4671'!E88-'Elec+gas - 35'!E88 -> 124674.05 | F88: =+Total!F88-'Refino - 19'!F88-'CM combust - 4671'!F88-'Elec+gas - 35'!F88 -> 53330.493 | J88: =AVERAGE(L87:L90) -> 46.848236 | K88: =AVERAGE(M87:M90) -> 11.342968 | L88: =F88/E88*100 -> 42.775936 | M88: =F88/D88*100 -> 9.7996421 | N88: =J88/$J$53*100 -> 99.86845 | O88: =K88/$K$53*100 -> 102.66679 | P88: =L88/$J$53*100 -> 91.187348 | Q88: =M88/$K$53*100 -> 88.697931 | R88: 20251T | S88: =F88/F84-1 -> -0.030692388
B89: 20252T | C89: =+Total!C89-'Refino - 19'!C89-'CM combust - 4671'!C89-'Elec+gas - 35'!C89 -> 930007 | D89: =+Total!D89-'Refino - 19'!D89-'CM combust - 4671'!D89-'Elec+gas - 35'!D89 -> 584378.83 | E89: =+Total!E89-'Refino - 19'!E89-'CM combust - 4671'!E89-'Elec+gas - 35'!E89 -> 147881.62 | F89: =+Total!F89-'Refino - 19'!F89-'CM combust - 4671'!F89-'Elec+gas - 35'!F89 -> 72680.786 | L89: =F89/E89*100 -> 49.14795 | M89: =F89/D89*100 -> 12.437272 | P89: =L89/$J$53*100 -> 104.77085 | Q89: =M89/$K$53*100 -> 112.57149 | R89: 20252T | S89: =F89/F85-1 -> 0.078563551
B90: 20253T | C90: =+Total!C90-'Refino - 19'!C90-'CM combust - 4671'!C90-'Elec+gas - 35'!C90 -> 921815 | D90: =+Total!D90-'Refino - 19'!D90-'CM combust - 4671'!D90-'Elec+gas - 35'!D90 -> 566876.36 | E90: =+Total!E90-'Refino - 19'!E90-'CM combust - 4671'!E90-'Elec+gas - 35'!E90 -> 140858.85 | F90: =+Total!F90-'Refino - 19'!F90-'CM combust - 4671'!F90-'Elec+gas - 35'!F90 -> 68749.888 | L90: =F90/E90*100 -> 48.807646 | M90: =F90/D90*100 -> 12.127845 | P90: =L90/$J$53*100 -> 104.04541 | Q90: =M90/$K$53*100 -> 109.77082 | R90: 20253T | S90: =F90/F86-1 -> 0.015359351

Sheet Aliment - 10
C2: ALIMENTACION - 10
C3: D. Número de empresas | D3: A. Ventas totales | E3: S.1. Ventas - compras | F3: S.2. Indicador de resultado bruto de explotación | G3: A. Ventas y otros ingresos (IS) | H3: S.1. Ventas - compras (IS) | I3: S.2. Resultado bruto de explotación (IS) | K3: % total | L3: Margen Ventas unitario sobre ventas-compras(IVARET) | M3: Margen Ventas unitario (IVARET) | N3: Margen Ventas unitario sobre ventas-compras(IS) | O3: Margen Ventas unitario (IS) | S3: S.2. Indicador RBE (tasa var) | T3: S.2. RBE (tasa var)
B4: 2009 | C4: 12318 | D4: 67289.064 | E4: 12287.413 | F4: 6569.3812 | G4: 68294.635 | H4: 12353.401 | I4: 4806.3093 | K4: =I4/Total!I4 -> 0.038002202 | L4: =F4/E4*100 -> 53.464315 | M4: =F4/D4*100 -> 9.7629256 | N4: =I4/H4*100 -> 38.906771 | O4: =I4/G4*100 -> 7.0376089 | R4: 2009
B5: 2010 | C5: 12172 | D5: 68708.448 | E5: 11580.396 | F5: 5954.0769 | G5: 69369.193 | H5: 11347.798 | I5: 3928.4541 | K5: =I5/Total!I5 -> 0.030920797 | L5: =F5/E5*100 -> 51.415142 | M5: =F5/D5*100 -> 8.6657129 | N5: =I5/H5*100 -> 34.618646 | O5: =I5/G5*100 -> 5.6631105 | R5: 2010 | S5: =F5/F4-1 -> -0.093662457 | T5: =I5/I4-1 -> -0.18264643
B6: 2011 | C6: 12718 | D6: 75100.08 | E6: 11686.385 | F6: 5747.8908 | G6: 76648.359 | H6: 11597.886 | I6: 3916.5937 | K6: =I6/Total!I6 -> 0.038864816 | L6: =F6/E6*100 -> 49.184507 | M6: =F6/D6*100 -> 7.6536414 | N6: =I6/H6*100 -> 33.769894 | O6: =I6/G6*100 -> 5.1098207 | R6: 2011 | S6: =F6/F5-1 -> -0.034629392 | T6: =I6/I5-1 -> -0.0030190781
B7: 2012 | C7: 12674 | D7: 77865.852 | E7: 13224.616 | F7: 7381.0665 | G7: 78565.9 | H7: 11541.657 | I7: 3920.4093 | K7: =I7/Total!I7 -> 0.03679301 | L7: =F7/E7*100 -> 55.813089 | M7: =F7/D7*100 -> 9.4792086 | N7: =I7/H7*100 -> 33.967473 | O7: =I7/G7*100 -> 4.989963 | R7: 2012 | S7: =F7/F6-1 -> 0.28413479 | T7: =I7/I6-1 -> 0.00097421232
B8: 2013 | C8: 12709 | D8: 81472.277 | E8: 14909.721 | F8: 9055.4001 | G8: 81330.986 | H8: 11797.072 | I8: 4033.7636 | K8: =I8/Total!I8 -> 0.042547867 | L8: =F8/E8*100 -> 60.734871 | M8: =F8/D8*100 -> 11.114701 | N8: =I8/H8*100 -> 34.192922 | O8: =I8/G8*100 -> 4.9596886 | R8: 2013 | S8: =F8/F7-1 -> 0.22684169 | T8: =I8/I7-1 -> 0.028913881
B9: 2014 | C9: 12738 | D9: 83043.677 | E9: 14453.35 | F9: 8409.4234 | G9: 84337.747 | H9: 12509.875 | I9: 4604.7718 | K9: =I9/Total!I9 -> 0.04311567 | L9: =F9/E9*100 -> 58.183213 | M9: =F9/D9*100 -> 10.126506 | N9: =I9/H9*100 -> 36.809094 | O9: =I9/G9*100 -> 5.459918 | R9: 2014 | S9: =F9/F8-1 -> -0.071336082 | T9: =I9/I8-1 -> 0.14155719
B10: 2015 | C10: 12848 | D10: 86947.84 | E10: 16021.821 | F10: 9773.8557 | G10: 86897.549 | H10: 13147.891 | I10: 4969.1202 | K10: =I10/Total!I10 -> 0.039976359 | L10: =F10/E10*100 -> 61.003401 | M10: =F10/D10*100 -> 11.241056 | N10: =I10/H10*100 -> 37.794047 | O10: =I10/G10*100 -> 5.7183663 | R10: 2015 | S10: =F10/F9-1 -> 0.16225041 | T10: =I10/I9-1 -> 0.079124079
B11: 2016 | C11: 13473 | D11: 91188.962 | E11: 17554.958 | F11: 10951.977 | G11: 90647.067 | H11: 14228.959 | I11: 5557 | K11: =I11/Total!I11 -> 0.045364036 | L11: =F11/E11*100 -> 62.386804 | M11: =F11/D11*100 -> 12.010201 | N11: =I11/H11*100 -> 39.054156 | O11: =I11/G11*100 -> 6.1303693 | R11: 2016 | S11: =F11/F10-1 -> 0.12053806 | T11: =I11/I10-1 -> 0.11830662
B12: 2017 | C12: 13763 | D12: 98542.694 | E12: 18954.514 | F12: 11920.496 | G12: 97344.365 | H12: 14799.559 | I12: 5613.1742 | K12: =I12/Total!I12 -> 0.041880474 | L12: =F12/E12*100 -> 62.890014 | M12: =F12/D12*100 -> 12.096783 | N12: =I12/H12*100 -> 37.927981 | O12: =I12/G12*100 -> 5.7663062 | R12: 2017 | S12: =F12/F11-1 -> 0.088433247 | T12: =I12/I11-1 -> 0.010108726
B13: 2018 | C13: 13779 | D13: 99193.772 | E13: 17978.891 | F13: 10609.073 | G13: 99529.11 | H13: 15401.267 | I13: 5704.9737 | K13: =I13/Total!I13 -> 0.040889143 | L13: =F13/E13*100 -> 59.008497 | M13: =F13/D13*100 -> 10.695302 | N13: =I13/H13*100 -> 37.042236 | O13: =I13/G13*100 -> 5.731965 | R13: 2018 | S13: =F13/F12-1 -> -0.11001412 | T13: =I13/I12-1 -> 0.016354302
B14: 2019 | C14: 13857 | D14: 103157.91 | E14: 18414.945 | F14: 10605.724 | G14: 102781.35 | H14: 16372.673 | I14: 6056.1188 | K14: =I14/Total!I14 -> 0.041244484 | L14: =F14/E14*100 -> 57.593029 | M14: =F14/D14*100 -> 10.281058 | N14: =I14/H14*100 -> 36.989188 | O14: =I14/G14*100 -> 5.892235 | R14: 2019 | S14: =F14/F13-1 -> -0.00031566115 | T14: =I14/I13-1 -> 0.061550695
B15: 2020 | C15: 13740 | D15: 103574.96 | E15: 19093.884 | F15: 11321.724 | G15: 103413.08 | H15: 16177.282 | I15: 5790.3535 | K15: =I15/Total!I15 -> 0.050011712 | L15: =F15/E15*100 -> 59.295028 | M15: =F15/D15*100 -> 10.930946 | N15: =I15/H15*100 -> 35.793118 | O15: =I15/G15*100 -> 5.5992466 | R15: 2020 | S15: =F15/F14-1 -> 0.067510637 | T15: =I15/I14-1 -> -0.043883764
B16: 2021 | C16: 13808 | D16: 114447.05 | E16: 19762.664 | F16: 11644.634 | G16: 114945.17 | H16: 17228.377 | I16: 6266.4371 | K16: =I16/Total!I16 -> 0.04022994 | L16: =F16/E16*100 -> 58.922391 | M16: =F16/D16*100 -> 10.174692 | N16: =I16/H16*100 -> 36.372766 | O16: =I16/G16*100 -> 5.4516751 | R16: 2021 | S16: =F16/F15-1 -> 0.028521338 | T16: =I16/I15-1 -> 0.08222013
... B18: 2023 | C18: 13750 | D18: 143640.99 | E18: 22316.916 | F18: 12872.516 | G18: 146235.87 | H18: 21301.353 | I18: 8628.298 | K18: =I18/Total!I18 -> 0.043830701 | L18: =F18/E18*100 -> 57.680531 | M18: =F18/D18*100 -> 8.9615896 | N18: =I18/H18*100 -> 40.505868 | O18: =I18/G18*100 -> 5.9002608 | R18: 2023 | S18: =F18/F17-1 -> 0.30595771 | T18: =I18/I17-1 -> 0.44351975
B19: 2024 | C19: 13804 | D19: 150479.63 | E19: 26940.082 | F19: 16841.362 | G19: =G18*(1+G22) -> 149567.36 | H19: =H18*(1+H22) -> 23577.714 | I19: =I18*(1+I22) -> 10111.419 | K19: =I19/Total!I19 -> 0.046832383 | L19: =F19/E19*100 -> 62.514145 | M19: =F19/D19*100 -> 11.191789 | N19: =I19/H19*100 -> 42.885496 | O19: =I19/G19*100 -> 6.760445 | R19: 2024 | S19: =F19/F18-1 -> 0.30831939 | T19: =I19/I18-1 -> 0.17189038
B20: 2025 | D20: =D19*(SUM(D88:D90)/SUM(D84:D86)) -> 155172.14 | E20: =E19*(SUM(E88:E90)/SUM(E84:E86)) -> 26433.495 | F20: =F19*(SUM(F88:F90)/SUM(F84:F86)) -> 15587.999 | I20: =I19*(1+T20) -> 9358.91 | L20: =F20/E20*100 -> 58.97063 | M20: =F20/D20*100 -> 10.045617 | N20: =N19*(L20/L19) -> 40.454599 | O20: =O19*(M20/M19) -> 6.0680952 | R20: 2025 | S20: =F20/F19-1 -> -0.07442174 | T20: =+S20 -> -0.07442174
B22: Tasas IS pob. Cte-> | G22: 0.022781618 | H22: 0.1068646 | I22: 0.17189038
C23: D. Número de empresas | D23: A. Ventas totales | E23: S.1. Ventas - compras | F23: S.2. Indicador de resultado bruto de explotación | J23: mm4 MU sobre ventas compras | K23: mm4 MU s/ ventas | N23: Base 2016=100 | O23: Base 2016=100
B24: 20091T | C24: 12082 | D24: 15973.183 | E24: 2869.1422 | F24: 1512.0602 | L24: =F24/E24*100 -> 52.700778 | M24: =F24/D24*100 -> 9.4662426 | P24: =L24/$J$53*100 -> 84.712338 | Q24: =M24/$K$53*100 -> 78.78629 | R24: 20091T
B25: 20092T | C25: 12152 | D25: 16635.834 | E25: 3016.6891 | F25: 1597.8508 | J25: =AVERAGE(L24:L27) -> 53.24688 | K25: =AVERAGE(M24:M27) -> 9.7749146 | L25: =F25/E25*100 -> 52.967035 | M25: =F25/D25*100 -> 9.6048734 | N25: =J25/$J$53*100 -> 85.590154 | O25: =K25/$K$53*100 -> 81.355326 | P25: =L25/$J$53*100 -> 85.140325 | Q25: =M25/$K$53*100 -> 79.940096 | R25: 20092T
B26: 20093T | C26: 12170 | D26: 16993.581 | E26: 3400.2182 | F26: 2032.4833 | J26: =AVERAGE(L25:L28) -> 54.047248 | K26: =AVERAGE(M25:M28) -> 10.08392 | L26: =F26/E26*100 -> 59.775086 | M26: =F26/D26*100 -> 11.9603 | N26: =J26/$J$53*100 -> 86.876682 | O26: =K26/$K$53*100 -> 83.927136 | P26: =L26/$J$53*100 -> 96.083729 | Q26: =M26/$K$53*100 -> 99.544004 | R26: 20093T
B27: 20094T | C27: 12259 | D27: 17686.466 | E27: 3001.3635 | F27: 1426.9869 | J27: =AVERAGE(L26:L29) -> 53.242007 | K27: =AVERAGE(M26:M29) -> 9.7580902 | L27: =F27/E27*100 -> 47.54462 | M27: =F27/D27*100 -> 8.0682418 | N27: =J27/$J$53*100 -> 85.582321 | O27: =K27/$K$53*100 -> 81.215299 | P27: =L27/$J$53*100 -> 76.424222 | Q27: =M27/$K$53*100 -> 67.150913 | R27: 20094T
B28: 20101T | C28: 12008 | D28: 15849.501 | E28: 3034.3239 | F28: 1696.2554 | J28: =AVERAGE(L27:L30) -> 52.494267 | K28: =AVERAGE(M27:M30) -> 9.3582759 | L28: =F28/E28*100 -> 55.90225 | M28: =F28/D28*100 -> 10.702263 | N28: =J28/$J$53*100 -> 84.380388 | O28: =K28/$K$53*100 -> 77.887697 | P28: =L28/$J$53*100 -> 89.858452 | Q28: =M28/$K$53*100 -> 89.073528 | R28: 20101T | S28: =F28/F24-1 -> 0.12181731 | T28: =AVERAGE(S28:S29) -> -0.0026986426
B29: 20102T | C29: 12079 | D29: 16799.031 | E29: 2803.3989 | F29: 1394.5808 | J29: =AVERAGE(L28:L31) -> 51.004191 | K29: =AVERAGE(M28:M31) -> 8.7783872 | L29: =F29/E29*100 -> 49.746072 | M29: =F29/D29*100 -> 8.301555 | N29: =J29/$J$53*100 -> 81.985209 | O29: =K29/$K$53*100 -> 73.06136 | P29: =L29/$J$53*100 -> 79.962883 | Q29: =M29/$K$53*100 -> 69.092749 | R29: 20102T | S29: =F29/F25-1 -> -0.1272146 | T29: =+T28 -> -0.0026986426
B30: 20103T | C30: 12097 | D30: 17133.736 | E30: 3126.2855 | F30: 1775.2338 | J30: =AVERAGE(L29:L32) -> 47.518648 | K30: =AVERAGE(M29:M32) -> 7.578675 | L30: =F30/E30*100 -> 56.784124 | M30: =F30/D30*100 -> 10.361043 | N30: =J30/$J$53*100 -> 76.382474 | O30: =K30/$K$53*100 -> 63.076313 | P30: =L30/$J$53*100 -> 91.275995 | Q30: =M30/$K$53*100 -> 86.233598 | R30: 20103T | S30: =F30/F26-1 -> -0.12656906 | T30: =0.078396*S33+1.56291*T29-0.641306*T28 -> 0.007147738
B31: 20104T | C31: 12108 | D31: 18926.18 | E31: 2616.3874 | F31: 1088.0068 | J31: =AVERAGE(L30:L33) -> 47.915679 | K31: =AVERAGE(M30:M33) -> 7.6050887 | L31: =F31/E31*100 -> 41.584318 | M31: =F31/D31*100 -> 5.7486871 | N31: =J31/$J$53*100 -> 77.02067 | O31: =K31/$K$53*100 -> 63.296151 | P31: =L31/$J$53*100 -> 66.843506 | Q31: =M31/$K$53*100 -> 47.845565 | R31: 20104T | S31: =F31/F27-1 -> -0.23754952 | T31: =0.078396*S34+1.56291*T30-0.641306*T29 -> 0.010871573
B32: 20111T | C32: 12402 | D32: 17515.711 | E32: 2464.3067 | F32: 1034.025 | J32: =AVERAGE(L31:L34) -> 47.420745 | K32: =AVERAGE(M31:M34) -> 7.2932848 | L32: =F32/E32*100 -> 41.960079 | M32: =F32/D32*100 -> 5.9034146 | N32: =J32/$J$53*100 -> 76.225103 | O32: =K32/$K$53*100 -> 60.701049 | P32: =L32/$J$53*100 -> 67.447514 | Q32: =M32/$K$53*100 -> 49.133342 | R32: 20111T | S32: =F32/F28-1 -> -0.39040721 | T32: =0.078396*S35+1.56291*T31-0.641306*T30 -> 0.036230659
B33: 20112T | C33: 12497 | D33: 18626.559 | E33: 3050.5473 | F33: 1565.9739 | J33: =AVERAGE(L32:L35) -> 48.783106 | K33: =AVERAGE(M32:M35) -> 7.6308425 | L33: =F33/E33*100 -> 51.334195 | M33: =F33/D33*100 -> 8.4072098 | N33: =J33/$J$53*100 -> 78.41499 | O33: =K33/$K$53*100 -> 63.510496 | P33: =L33/$J$53*100 -> 82.515665 | Q33: =M33/$K$53*100 -> 69.972099 | R33: 20112T | S33: =F33/F29-1 -> 0.12289936 | T33: =0.078396*S36+1.56291*T32-0.641306*T31 -> 0.10245698
B34: 20113T | C34: 12532 | D34: 18973.999 | E34: 3155.3268 | F34: 1729.2576 | J34: =AVERAGE(L33:L36) -> 52.082323 | K34: =AVERAGE(M33:M36) -> 8.5199981 | L34: =F34/E34*100 -> 54.804389 | M34: =F34/D34*100 -> 9.1138278 | N34: =J34/$J$53*100 -> 83.718221 | O34: =K34/$K$53*100 -> 70.910822 | P34: =L34/$J$53*100 -> 88.093727 | Q34: =M34/$K$53*100 -> 75.853188 | R34: 20113T | S34: =F34/F30-1 -> -0.025898693 | T34: =0.078396*S37+1.56291*T33-0.641306*T32 -> 0.14923241
B35: 20114T | C35: 12658 | D35: 19983.81 | E35: 3016.2041 | F35: 1418.6342 | J35: =AVERAGE(L34:L37) -> 53.061206 | K35: =AVERAGE(M34:M37) -> 8.7902218 | L35: =F35/E35*100 -> 47.033761 | M35: =F35/D35*100 -> 7.0989177 | N35: =J35/$J$53*100 -> 85.291698 | O35: =K35/$K$53*100 -> 73.159858 | P35: =L35/$J$53*100 -> 75.603056 | Q35: =M35/$K$53*100 -> 59.083357 | R35: 20114T | S35: =F35/F31-1 -> 0.30388357 | T35: =0.078396*S38+1.56291*T34-0.641306*T33 -> 0.18537799
B36: 20121T | C36: 12309 | D36: 18292.676 | E36: 3137.3999 | F36: 1730.4939 | J36: =AVERAGE(L35:L38) -> 54.431709 | K36: =AVERAGE(M35:M38) -> 9.2315931 | L36: =F36/E36*100 -> 55.156946 | M36: =F36/D36*100 -> 9.460037 | N36: =J36/$J$53*100 -> 87.494674 | O36: =K36/$K$53*100 -> 76.833333 | P36: =L36/$J$53*100 -> 88.660434 | Q36: =M36/$K$53*100 -> 78.734642 | R36: 20121T | S36: =F36/F32-1 -> 0.6735513 | T36: =0.078396*S39+1.56291*T35-0.641306*T34 -> 0.21041653
B37: 20122T | C37: 12409 | D37: 19101.749 | E37: 3280.3671 | F37: 1812.3939 | J37: =AVERAGE(L36:L39) -> 55.725153 | K37: =AVERAGE(M36:M39) -> 9.5029196 | L37: =F37/E37*100 -> 55.249729 | M37: =F37/D37*100 -> 9.4881047 | N37: =J37/$J$53*100 -> 89.573782 | O37: =K37/$K$53*100 -> 79.091548 | P37: =L37/$J$53*100 -> 88.809575 | Q37: =M37/$K$53*100 -> 78.968245 | R37: 20122T | S37: =F37/F33-1 -> 0.15735894 | T37: =0.078396*S40+1.56291*T36-0.641306*T35 -> 0.20909177
B38: 20123T | C38: 12496 | D38: 19513.512 | E38: 3521.4177 | F38: 2122.936 | J38: =AVERAGE(L37:L40) -> 55.721214 | K38: =AVERAGE(M37:M40) -> 9.4061362 | L38: =F38/E38*100 -> 60.286403 | M38: =F38/D38*100 -> 10.879313 | N38: =J38/$J$53*100 -> 89.567451 | O38: =K38/$K$53*100 -> 78.286032 | P38: =L38/$J$53*100 -> 96.905631 | Q38: =M38/$K$53*100 -> 90.54709 | R38: 20123T | S38: =F38/F34-1 -> 0.22765749 | T38: =0.078396*S41+1.56291*T37-0.641306*T36 -> 0.20830202
B39: 20124T | C39: 12607 | D39: 20957.915 | E39: 3285.4311 | F39: 1715.2426 | J39: =AVERAGE(L38:L41) -> 56.970666 | K39: =AVERAGE(M38:M41) -> 9.7437922 | L39: =F39/E39*100 -> 52.207535 | M39: =F39/D39*100 -> 8.1842236 | N39: =J39/$J$53*100 -> 91.575846 | O39: =K39/$K$53*100 -> 81.096298 | P39: =L39/$J$53*100 -> 83.91949 | Q39: =M39/$K$53*100 -> 68.116215 | R39: 20124T | S39: =F39/F35-1 -> 0.20908023 | T39: =0.078396*S42+1.56291*T38-0.641306*T37 -> 0.23268174
B40: 20131T | C40: 12331 | D40: 18857.577 | E40: 3102.8159 | F40: 1710.9297 | J40: =AVERAGE(L39:L42) -> 59.31762 | K40: =AVERAGE(M39:M42) -> 10.877737 | L40: =F40/E40*100 -> 55.141192 | M40: =F40/D40*100 -> 9.0729033 | N40: =J40/$J$53*100 -> 95.348389 | O40: =K40/$K$53*100 -> 90.533972 | P40: =L40/$J$53*100 -> 88.635111 | Q40: =M40/$K$53*100 -> 75.512579 | R40: 20131T | S40: =F40/F36-1 -> -0.011305592 | T40: =0.078396*S43+1.56291*T39-0.641306*T38 -> 0.23909923
B41: 20132T | C41: 12454 | D41: 20230.545 | E41: 3639.5413 | F41: 2192.7339 | J41: =AVERAGE(L40:L43) -> 59.855884 | K41: =AVERAGE(M40:M43) -> 11.069057 | L41: =F41/E41*100 -> 60.247535 | M41: =F41/D41*100 -> 10.838729 | N41: =J41/$J$53*100 -> 96.213605 | O41: =K41/$K$53*100 -> 92.126301 | P41: =L41/$J$53*100 -> 96.843153 | Q41: =M41/$K$53*100 -> 90.209311 | R41: 20132T | S41: =F41/F37-1 -> 0.20985501 | T41: =0.078396*S44+1.56291*T40-0.641306*T39 -> 0.23376429
... B87: 20244T | C87: 13620 | D87: 39311.419 | E87: 7093.7552 | F87: 4389.9612 | J87: =AVERAGE(L86:L89) -> 60.261993 | K87: =AVERAGE(M86:M89) -> 10.448476 | L87: =F87/E87*100 -> 61.884869 | M87: =F87/D87*100 -> 11.16714 | N87: =J87/$J$53*100 -> 96.866395 | O87: =K87/$K$53*100 -> 86.96129 | P87: =L87/$J$53*100 -> 99.47504 | Q87: =M87/$K$53*100 -> 92.942633 | R87: 20244T | S87: =F87/F83-1 -> 0.10317192 | T87: =0.078396*S90+1.56291*T86-0.641306*T85 -> 0.19631722
B88: 20251T | C88: 13175 | D88: 37323.22 | E88: 6045.0524 | F88: 3422.6767 | J88: =AVERAGE(L87:L90) -> 59.792561 | K88: =AVERAGE(M87:M90) -> 10.324461 | L88: =F88/E88*100 -> 56.619472 | M88: =F88/D88*100 -> 9.1703683 | N88: =J88/$J$53*100 -> 96.111819 | O88: =K88/$K$53*100 -> 85.929125 | P88: =L88/$J$53*100 -> 91.011329 | Q88: =M88/$K$53*100 -> 76.323767 | R88: 20251T | S88: =F88/F84-1 -> -0.084754246
B89: 20252T | C89: 13108 | D89: 38729.525 | E89: 6684.3205 | F89: 3975.2412 | L89: =F89/E89*100 -> 59.471134 | M89: =F89/D89*100 -> 10.26411 | P89: =L89/$J$53*100 -> 95.595151 | Q89: =M89/$K$53*100 -> 85.426838 | R89: 20252T | S89: =F89/F85-1 -> -0.12559279
B90: 20253T | C90: 13035 | D90: 38582.102 | E90: 6743.7595 | F90: 4126.828 | L90: =F90/E90*100 -> 61.194768 | M90: =F90/D90*100 -> 10.696224 | P90: =L90/$J$53*100 -> 98.365756 | Q90: =M90/$K$53*100 -> 89.023261 | R90: 20253T | S90: =F90/F86-1 -> -0.009298676

Sheet Ind química - 20
C2: INDUSTRIA QUÍMICA - 20
C3: D. Número de empresas | D3: A. Ventas totales | E3: S.1. Ventas - compras | F3: S.2. Indicador de resultado bruto de explotación | G3: A. Ventas y otros ingresos (IS) | H3: S.1. Ventas - compras (IS) | I3: S.2. Resultado bruto de explotación (IS) | K3: % total | L3: Margen Ventas unitario sobre ventas-compras(IVARET) | M3: Margen Ventas unitario (IVARET) | N3: Margen Ventas unitario sobre ventas-compras(IS) | O3: Margen Ventas unitario (IS) | S3: S.2. Indicador RBE (tasa var) | T3: S.2. RBE (tasa var)
B4: 2009 | C4: 2863 | D4: 27393.842 | E4: 5797.1529 | F4: 3219.9407 | G4: 27949.842 | H4: 5693.3342 | I4: 2169.1962 | K4: =I4/Total!I4 -> 0.017151254 | L4: =F4/E4*100 -> 55.543484 | M4: =F4/D4*100 -> 11.75425 | N4: =I4/H4*100 -> 38.10063 | O4: =I4/G4*100 -> 7.7610321 | R4: 2009
B5: 2010 | C5: 2840 | D5: 31911.402 | E5: 6051.0618 | F5: 3500.3642 | G5: 33095.813 | H5: 5966.0416 | I5: 2572.6021 | K5: =I5/Total!I5 -> 0.020248909 | L5: =F5/E5*100 -> 57.847106 | M5: =F5/D5*100 -> 10.969008 | N5: =I5/H5*100 -> 43.120753 | O5: =I5/G5*100 -> 7.7731951 | R5: 2010 | S5: =F5/F4-1 -> 0.087089643 | T5: =I5/I4-1 -> 0.18597022
B6: 2011 | C6: 2861 | D6: 35417.094 | E6: 6419.3421 | F6: 3744.6203 | G6: 36695.804 | H6: 6094.8179 | I6: 2526.2127 | K6: =I6/Total!I6 -> 0.025067903 | L6: =F6/E6*100 -> 58.333398 | M6: =F6/D6*100 -> 10.572918 | N6: =I6/H6*100 -> 41.448535 | O6: =I6/G6*100 -> 6.8842005 | R6: 2011 | S6: =F6/F5-1 -> 0.069780217 | T6: =I6/I5-1 -> -0.018032091
B7: 2012 | C7: 2822 | D7: 35757.288 | E7: 7901.0793 | F7: 5229.0632 | G7: 38267.052 | H7: 5873.1974 | I7: 2295.3345 | K7: =I7/Total!I7 -> 0.021541696 | L7: =F7/E7*100 -> 66.181632 | M7: =F7/D7*100 -> 14.623769 | N7: =I7/H7*100 -> 39.081515 | O7: =I7/G7*100 -> 5.9982006 | R7: 2012 | S7: =F7/F6-1 -> 0.39642013 | T7: =I7/I6-1 -> -0.09139302
B8: 2013 | C8: 2816 | D8: 34975.709 | E8: 7693.4839 | F8: 5075.7268 | G8: 36972.625 | H8: 5838.7699 | I8: 2277.5101 | K8: =I8/Total!I8 -> 0.024023023 | L8: =F8/E8*100 -> 65.97436 | M8: =F8/D8*100 -> 14.512148 | N8: =I8/H8*100 -> 39.006677 | O8: =I8/G8*100 -> 6.1599903 | R8: 2013 | S8: =F8/F7-1 -> -0.029323887 | T8: =I8/I7-1 -> -0.0077654983
B9: 2014 | C9: 2858 | D9: 35194.36 | E9: 7086.4804 | F9: 4428.7308 | G9: 37492.497 | H9: 6088.2647 | I9: 2438.4962 | K9: =I9/Total!I9 -> 0.022832271 | L9: =F9/E9*100 -> 62.495492 | M9: =F9/D9*100 -> 12.583638 | N9: =I9/H9*100 -> 40.052402 | O9: =I9/G9*100 -> 6.5039579 | R9: 2014 | S9: =F9/F8-1 -> -0.12746864 | T9: =I9/I8-1 -> 0.070685155
B10: 2015 | C10: 2880 | D10: 35404.662 | E10: 8025.2921 | F10: 5266.3025 | G10: 37550.561 | H10: 7011.2092 | I10: 3270.46 | K10: =I10/Total!I10 -> 0.02631071 | L10: =F10/E10*100 -> 65.62132 | M10: =F10/D10*100 -> 14.874602 | N10: =I10/H10*100 -> 46.646161 | O10: =I10/G10*100 -> 8.7094836 | R10: 2015 | S10: =F10/F9-1 -> 0.1891223 | T10: =I10/I9-1 -> 0.341179
B11: 2016 | C11: 2930 | D11: 34879.79 | E11: 8747.8487 | F11: 5847.8398 | G11: 36269.981 | H11: 7786.7792 | I11: 3903.5333 | K11: =I11/Total!I11 -> 0.031866119 | L11: =F11/E11*100 -> 66.84889 | M11: =F11/D11*100 -> 16.765697 | N11: =I11/H11*100 -> 50.130268 | O11: =I11/G11*100 -> 10.762435 | R11: 2016 | S11: =F11/F10-1 -> 0.11042609 | T11: =I11/I10-1 -> 0.19357317
B12: 2017 | C12: 2962 | D12: 39027.786 | E12: 9722.9857 | F12: 6662.2528 | G12: 40151.141 | H12: 8365.89 | I12: 4270.1605 | K12: =I12/Total!I12 -> 0.03186011 | L12: =F12/E12*100 -> 68.520648 | M12: =F12/D12*100 -> 17.070538 | N12: =I12/H12*100 -> 51.042513 | O12: =I12/G12*100 -> 10.635216 | R12: 2017 | S12: =F12/F11-1 -> 0.13926734 | T12: =I12/I11-1 -> 0.093921895
B13: 2018 | C13: 2945 | D13: 40725.002 | E13: 9524.9925 | F13: 6302.8532 | G13: 40951.522 | H13: 7889.2196 | I13: 3731.1739 | K13: =I13/Total!I13 -> 0.026742368 | L13: =F13/E13*100 -> 66.171739 | M13: =F13/D13*100 -> 15.476618 | N13: =I13/H13*100 -> 47.294589 | O13: =I13/G13*100 -> 9.1111971 | R13: 2018 | S13: =F13/F12-1 -> -0.053945667 | T13: =I13/I12-1 -> -0.12622162
B14: 2019 | C14: 2928 | D14: 40448.053 | E14: 10121.198 | F14: 6802.0682 | G14: 41328.155 | H14: 8235.9071 | I14: 3788.4944 | K14: =I14/Total!I14 -> 0.025801095 | L14: =F14/E14*100 -> 67.206159 | M14: =F14/D14*100 -> 16.8168 | N14: =I14/H14*100 -> 45.999722 | O14: =I14/G14*100 -> 9.1668606 | R14: 2019 | S14: =F14/F13-1 -> 0.079204607 | T14: =I14/I13-1 -> 0.015362573
B15: 2020 | C15: 2919 | D15: 37238.311 | E15: 9603.8163 | F15: 6218.8464 | G15: 38185.784 | H15: 8558.3204 | I15: 4047.5197 | K15: =I15/Total!I15 -> 0.034958727 | L15: =F15/E15*100 -> 64.753908 | M15: =F15/D15*100 -> 16.70013 | N15: =I15/H15*100 -> 47.293388 | O15: =I15/G15*100 -> 10.599546 | R15: 2020 | S15: =F15/F14-1 -> -0.085741832 | T15: =I15/I14-1 -> 0.06837157
B16: 2021 | C16: 2927 | D16: 47065.238 | E16: 10951.963 | F16: 7453.3538 | G16: 50548.968 | H16: 10042.536 | I16: 5251.3419 | K16: =I16/Total!I16 -> 0.033713124 | L16: =F16/E16*100 -> 68.05496 | M16: =F16/D16*100 -> 15.836218 | N16: =I16/H16*100 -> 52.290992 | O16: =I16/G16*100 -> 10.388623 | R16: 2021 | S16: =F16/F15-1 -> 0.19851069 | T16: =I16/I15-1 -> 0.2974222
... B18: 2023 | C18: 2948 | D18: 50653.564 | E18: 12365.622 | F18: 8381.5488 | G18: 50837.496 | H18: 9214.4239 | I18: 3791.7829 | K18: =I18/Total!I18 -> 0.019261794 | L18: =F18/E18*100 -> 67.781053 | M18: =F18/D18*100 -> 16.54681 | N18: =I18/H18*100 -> 41.150515 | O18: =I18/G18*100 -> 7.4586342 | R18: 2023 | S18: =F18/F17-1 -> -0.023013539 | T18: =I18/I17-1 -> -0.057646045
B19: 2024 | C19: 3045 | D19: 51749.051 | E19: 12601.634 | F19: 8258.1066 | G19: =G18*(1+G22) -> 51386.926 | H19: =H18*(1+H22) -> 10018.335 | I19: =I18*(1+I22) -> 4183.4236 | K19: =I19/Total!I19 -> 0.019376082 | L19: =F19/E19*100 -> 65.53203 | M19: =F19/D19*100 -> 15.957987 | N19: =I19/H19*100 -> 41.757671 | O19: =I19/G19*100 -> 8.1410271 | R19: 2024 | S19: =F19/F18-1 -> -0.014727858 | T19: =I19/I18-1 -> 0.10328669
B20: 2025 | D20: =D19*(SUM(D88:D90)/SUM(D84:D86)) -> 51433.66 | E20: =E19*(SUM(E88:E90)/SUM(E84:E86)) -> 12145.539 | F20: =F19*(SUM(F88:F90)/SUM(F84:F86)) -> 7557.6833 | I20: =I19*(1+T20) -> 3828.6005 | L20: =F20/E20*100 -> 62.226 | M20: =F20/D20*100 -> 14.694042 | N20: =N19*(L20/L19) -> 39.651036 | O20: =O19*(M20/M19) -> 7.4962207 | R20: 2025 | S20: =F20/F19-1 -> -0.084816441 | T20: =+S20 -> -0.084816441
B22: Tasas IS pob. Cte-> | G22: 0.010807576 | H22: 0.087244903 | I22: 0.10328669
C23: D. Número de empresas | D23: A. Ventas totales | E23: S.1. Ventas - compras | F23: S.2. Indicador de resultado bruto de explotación | J23: mm4 MU sobre ventas compras | K23: mm4 MU s/ ventas | N23: Base 2016=100 | O23: Base 2016=100
B24: 20091T | C24: 2802 | D24: 6414.6485 | E24: 1483.5467 | F24: 842.06101 | L24: =F24/E24*100 -> 56.759993 | M24: =F24/D24*100 -> 13.127158 | P24: =L24/$J$53*100 -> 85.19974 | Q24: =M24/$K$53*100 -> 78.361165 | R24: 20091T
B25: 20092T | C25: 2826 | D25: 6914.5013 | E25: 1485.3985 | F25: 847.58322 | J25: =AVERAGE(L24:L27) -> 55.147428 | K25: =AVERAGE(M24:M27) -> 11.799881 | L25: =F25/E25*100 -> 57.061001 | M25: =F25/D25*100 -> 12.258053 | N25: =J25/$J$53*100 -> 82.779196 | O25: =K25/$K$53*100 -> 70.438128 | P25: =L25/$J$53*100 -> 85.651569 | Q25: =M25/$K$53*100 -> 73.173137 | R25: 20092T
B26: 20093T | C26: 2836 | D26: 6963.6919 | E26: 1533.1594 | F26: 950.30807 | J26: =AVERAGE(L25:L28) -> 55.919835 | K26: =AVERAGE(M25:M28) -> 11.731686 | L26: =F26/E26*100 -> 61.983642 | M26: =F26/D26*100 -> 13.646613 | N26: =J26/$J$53*100 -> 83.938619 | O26: =K26/$K$53*100 -> 70.031049 | P26: =L26/$J$53*100 -> 93.040713 | Q26: =M26/$K$53*100 -> 81.461998 | R26: 20093T
B27: 20094T | C27: 2845 | D27: 7100.9999 | E27: 1295.0483 | F27: 579.98837 | J27: =AVERAGE(L26:L29) -> 56.922171 | K27: =AVERAGE(M26:M29) -> 11.807562 | L27: =F27/E27*100 -> 44.785078 | M27: =F27/D27*100 -> 8.1677001 | N27: =J27/$J$53*100 -> 85.443178 | O27: =K27/$K$53*100 -> 70.483981 | P27: =L27/$J$53*100 -> 67.224762 | Q27: =M27/$K$53*100 -> 48.756213 | R27: 20094T
B28: 20101T | C28: 2797 | D28: 7318.8125 | E28: 1571.9197 | F28: 940.78793 | J28: =AVERAGE(L27:L30) -> 57.051783 | K28: =AVERAGE(M27:M30) -> 11.391338 | L28: =F28/E28*100 -> 59.84962 | M28: =F28/D28*100 -> 12.854379 | N28: =J28/$J$53*100 -> 85.637733 | O28: =K28/$K$53*100 -> 67.999375 | P28: =L28/$J$53*100 -> 89.837433 | Q28: =M28/$K$53*100 -> 76.732846 | R28: 20101T | S28: =F28/F24-1 -> 0.11724438 | T28: =AVERAGE(S28:S29) -> 0.15843408
B29: 20102T | C29: 2813 | D29: 8094.3873 | E29: 1664.9341 | F29: 1016.781 | J29: =AVERAGE(L28:L31) -> 57.148807 | K29: =AVERAGE(M28:M31) -> 11.041542 | L29: =F29/E29*100 -> 61.070344 | M29: =F29/D29*100 -> 12.561556 | N29: =J29/$J$53*100 -> 85.78337 | O29: =K29/$K$53*100 -> 65.911308 | P29: =L29/$J$53*100 -> 91.669804 | Q29: =M29/$K$53*100 -> 74.984866 | R29: 20102T | S29: =F29/F25-1 -> 0.19962377 | T29: =+T28 -> 0.15843408
B30: 20103T | C30: 2808 | D30: 8173.7054 | E30: 1566.9079 | F30: 979.35019 | J30: =AVERAGE(L29:L32) -> 57.271062 | K30: =AVERAGE(M29:M32) -> 10.714003 | L30: =F30/E30*100 -> 62.502092 | M30: =F30/D30*100 -> 11.981716 | N30: =J30/$J$53*100 -> 85.966882 | O30: =K30/$K$53*100 -> 63.956098 | P30: =L30/$J$53*100 -> 93.818934 | Q30: =M30/$K$53*100 -> 71.523576 | R30: 20103T | S30: =F30/F26-1 -> 0.030560748 | T30: =0.078396*S33+1.56291*T29-0.641306*T28 -> 0.14524846
B31: 20104T | C31: 2817 | D31: 8324.4966 | E31: 1247.3002 | F31: 563.44505 | J31: =AVERAGE(L30:L33) -> 56.95598 | K31: =AVERAGE(M30:M33) -> 10.276691 | L31: =F31/E31*100 -> 45.173171 | M31: =F31/D31*100 -> 6.768518 | N31: =J31/$J$53*100 -> 85.493927 | O31: =K31/$K$53*100 -> 61.345608 | P31: =L31/$J$53*100 -> 67.80731 | Q31: =M31/$K$53*100 -> 40.403945 | R31: 20104T | S31: =F31/F27-1 -> -0.028523542 | T31: =0.078396*S34+1.56291*T30-0.641306*T29 -> 0.13688381
B32: 20111T | C32: 2790 | D32: 8925.9413 | E32: 1707.7457 | F32: 1030.4305 | J32: =AVERAGE(L31:L34) -> 57.516786 | K32: =AVERAGE(M31:M34) -> 10.447711 | L32: =F32/E32*100 -> 60.338642 | M32: =F32/D32*100 -> 11.544223 | N32: =J32/$J$53*100 -> 86.335726 | O32: =K32/$K$53*100 -> 62.366498 | P32: =L32/$J$53*100 -> 90.571481 | Q32: =M32/$K$53*100 -> 68.912005 | R32: 20111T | S32: =F32/F28-1 -> 0.095284602 | T32: =0.078396*S35+1.56291*T31-0.641306*T30 -> 0.12373045
B33: 20112T | C33: 2809 | D33: 9312.1564 | E33: 1683.4286 | F33: 1006.8589 | J33: =AVERAGE(L32:L35) -> 57.517043 | K33: =AVERAGE(M32:M35) -> 10.513294 | L33: =F33/E33*100 -> 59.810014 | M33: =F33/D33*100 -> 10.812306 | N33: =J33/$J$53*100 -> 86.336112 | O33: =K33/$K$53*100 -> 62.757988 | P33: =L33/$J$53*100 -> 89.777983 | Q33: =M33/$K$53*100 -> 64.542907 | R33: 20112T | S33: =F33/F29-1 -> -0.0097583613 | T33: =0.078396*S36+1.56291*T32-0.641306*T31 -> 0.14489753
B34: 20113T | C34: 2813 | D34: 8864.3491 | E34: 1734.0878 | F34: 1122.7407 | J34: =AVERAGE(L33:L36) -> 59.854832 | K34: =AVERAGE(M33:M36) -> 11.845435 | L34: =F34/E34*100 -> 64.745316 | M34: =F34/D34*100 -> 12.665799 | N34: =J34/$J$53*100 -> 89.845257 | O34: =K34/$K$53*100 -> 70.710061 | P34: =L34/$J$53*100 -> 97.186131 | Q34: =M34/$K$53*100 -> 75.607136 | R34: 20113T | S34: =F34/F30-1 -> 0.14641388 | T34: =0.078396*S37+1.56291*T33-0.641306*T32 -> 0.18066926
B35: 20114T | C35: 2841 | D35: 8314.6469 | E35: 1294.08 | F35: 584.59027 | J35: =AVERAGE(L34:L37) -> 61.844915 | K35: =AVERAGE(M34:M37) -> 12.982453 | L35: =F35/E35*100 -> 45.174199 | M35: =F35/D35*100 -> 7.0308491 | N35: =J35/$J$53*100 -> 92.832476 | O35: =K35/$K$53*100 -> 77.49737 | P35: =L35/$J$53*100 -> 67.808853 | Q35: =M35/$K$53*100 -> 41.969903 | R35: 20114T | S35: =F35/F31-1 -> 0.037528456 | T35: =0.078396*S38+1.56291*T34-0.641306*T33 -> 0.21006208
B36: 20121T | C36: 2736 | D36: 9168.7159 | E36: 2219.8627 | F36: 1547.0179 | J36: =AVERAGE(L35:L38) -> 63.053469 | K36: =AVERAGE(M35:M38) -> 13.888564 | L36: =F36/E36*100 -> 69.689799 | M36: =F36/D36*100 -> 16.872786 | N36: =J36/$J$53*100 -> 94.64658 | O36: =K36/$K$53*100 -> 82.9063 | P36: =L36/$J$53*100 -> 104.60806 | Q36: =M36/$K$53*100 -> 100.7203 | R36: 20121T | S36: =F36/F32-1 -> 0.50133153 | T36: =0.078396*S39+1.56291*T35-0.641306*T34 -> 0.24484765
B37: 20122T | C37: 2764 | D37: 9360.6647 | E37: 2121.6265 | F37: 1437.8336 | J37: =AVERAGE(L36:L39) -> 65.334369 | K37: =AVERAGE(M36:M39) -> 14.554253 | L37: =F37/E37*100 -> 67.770344 | M37: =F37/D37*100 -> 15.360379 | N37: =J37/$J$53*100 -> 98.07033 | O37: =K37/$K$53*100 -> 86.880057 | P37: =L37/$J$53*100 -> 101.72686 | Q37: =M37/$K$53*100 -> 91.692143 | R37: 20122T | S37: =F37/F33-1 -> 0.42803887 | T37: =0.078396*S40+1.56291*T36-0.641306*T35 -> 0.23338223
B38: 20123T | C38: 2773 | D38: 8704.5356 | E38: 2037.941 | F38: 1417.9899 | J38: =AVERAGE(L37:L40) -> 64.416201 | K38: =AVERAGE(M37:M40) -> 13.940304 | L38: =F38/E38*100 -> 69.579536 | M38: =F38/D38*100 -> 16.290241 | N38: =J38/$J$53*100 -> 96.692113 | O38: =K38/$K$53*100 -> 83.215157 | P38: =L38/$J$53*100 -> 104.44255 | Q38: =M38/$K$53*100 -> 97.242856 | R38: 20123T | S38: =F38/F34-1 -> 0.26297187 | T38: =0.078396*S41+1.56291*T37-0.641306*T36 -> 0.21572684
B39: 20124T | C39: 2810 | D39: 8523.3721 | E39: 1521.6491 | F39: 826.22191 | J39: =AVERAGE(L38:L41) -> 65.008482 | K39: =AVERAGE(M38:M41) -> 14.318716 | L39: =F39/E39*100 -> 54.297796 | M39: =F39/D39*100 -> 9.6936037 | N39: =J39/$J$53*100 -> 97.581157 | O39: =K39/$K$53*100 -> 85.474044 | P39: =L39/$J$53*100 -> 81.503852 | Q39: =M39/$K$53*100 -> 57.864932 | R39: 20124T | S39: =F39/F35-1 -> 0.41333502 | T39: =0.078396*S42+1.56291*T38-0.641306*T37 -> 0.1782232
B40: 20131T | C40: 2727 | D40: 8735.0669 | E40: 1907.5866 | F40: 1259.3339 | J40: =AVERAGE(L39:L42) -> 64.486058 | K40: =AVERAGE(M39:M42) -> 13.914159 | L40: =F40/E40*100 -> 66.01713 | M40: =F40/D40*100 -> 14.416992 | N40: =J40/$J$53*100 -> 96.796971 | O40: =K40/$K$53*100 -> 83.059088 | P40: =L40/$J$53*100 -> 99.095191 | Q40: =M40/$K$53*100 -> 86.060697 | R40: 20131T | S40: =F40/F36-1 -> -0.18596031 | T40: =0.078396*S43+1.56291*T39-0.641306*T38 -> 0.15494422
B41: 20132T | C41: 2755 | D41: 9389.8348 | E41: 2258.9893 | F41: 1584.4431 | J41: =AVERAGE(L40:L43) -> 65.568865 | K41: =AVERAGE(M40:M43) -> 14.437168 | L41: =F41/E41*100 -> 70.139467 | M41: =F41/D41*100 -> 16.874025 | N41: =J41/$J$53*100 -> 98.422322 | O41: =K41/$K$53*100 -> 86.181133 | P41: =L41/$J$53*100 -> 105.28304 | Q41: =M41/$K$53*100 -> 100.72769 | R41: 20132T | S41: =F41/F37-1 -> 0.10196552 | T41: =0.078396*S44+1.56291*T40-0.641306*T39 -> 0.13004943
... B87: 20244T | C87: 3004 | D87: 12395.914 | E87: 2483.8674 | F87: 1336.9348 | J87: =AVERAGE(L86:L89) -> 62.697407 | K87: =AVERAGE(M86:M89) -> 14.905287 | L87: =F87/E87*100 -> 53.824726 | M87: =F87/D87*100 -> 10.785286 | N87: =J87/$J$53*100 -> 94.112111 | O87: =K87/$K$53*100 -> 88.975522 | P87: =L87/$J$53*100 -> 80.79375 | Q87: =M87/$K$53*100 -> 64.381615 | R87: 20244T | S87: =F87/F83-1 -> -0.15420006 | T87: =0.078396*S90+1.56291*T86-0.641306*T85 -> -0.054629839
B88: 20251T | C88: 2893 | D88: 13686.756 | E88: 3395.0118 | F88: 2211.1995 | J88: =AVERAGE(L87:L90) -> 62.182911 | K88: =AVERAGE(M87:M90) -> 14.847436 | L88: =F88/E88*100 -> 65.130834 | M88: =F88/D88*100 -> 16.15576 | N88: =J88/$J$53*100 -> 93.339827 | O88: =K88/$K$53*100 -> 88.630183 | P88: =L88/$J$53*100 -> 97.764814 | Q88: =M88/$K$53*100 -> 96.440083 | R88: 20251T | S88: =F88/F84-1 -> -0.1044774
B89: 20252T | C89: 2879 | D89: 12967.79 | E89: 3230.8975 | F89: 2044.1498 | L89: =F89/E89*100 -> 63.268791 | M89: =F89/D89*100 -> 15.763286 | P89: =L89/$J$53*100 -> 94.96979 | Q89: =M89/$K$53*100 -> 94.097256 | R89: 20252T | S89: =F89/F85-1 -> -0.11376424
B90: 20253T | C90: 2864 | D90: 12458.748 | E90: 3125.6621 | F90: 2078.7933 | L90: =F90/E90*100 -> 66.507294 | M90: =F90/D90*100 -> 16.685411 | P90: =L90/$J$53*100 -> 99.830953 | Q90: =M90/$K$53*100 -> 99.601777 | R90: 20253T | S90: =F90/F86-1 -> -0.031067287

Sheet Fab vehículos motor - 29
C2: FABRICACIÓN VEHÍCULOS MOTOR -29
C3: D. Número de empresas | D3: A. Ventas totales | E3: S.1. Ventas - compras | F3: S.2. Indicador de resultado bruto de explotación | G3: A. Ventas y otros ingresos (IS) | H3: S.1. Ventas - compras (IS) | I3: S.2. Resultado bruto de explotación (IS) | K3: % total | L3: Margen Ventas unitario sobre ventas-compras(IVARET) | M3: Margen Ventas unitario (IVARET) | N3: Margen Ventas unitario sobre ventas-compras(IS) | O3: Margen Ventas unitario (IS) | S3: S.2. Indicador RBE (tasa var) | T3: S.2. RBE (tasa var)
B4: 2009 | C4: 1412 | D4: 42902.608 | E4: 7230.7261 | F4: 3403.4575 | G4: 43336.305 | H4: 7003.6598 | I4: 1721.0222 | K4: =I4/Total!I4 -> 0.013607662 | L4: =F4/E4*100 -> 47.069374 | M4: =F4/D4*100 -> 7.9329852 | N4: =I4/H4*100 -> 24.573183 | O4: =I4/G4*100 -> 3.9713173 | R4: 2009
B5: 2010 | C5: 1359 | D5: 46835.386 | E5: 6637.3515 | F5: 3122.6615 | G5: 47328.415 | H5: 6926.2095 | I5: 1773.3661 | K5: =I5/Total!I5 -> 0.013958135 | L5: =F5/E5*100 -> 47.0468 | M5: =F5/D5*100 -> 6.6673124 | N5: =I5/H5*100 -> 25.603703 | O5: =I5/G5*100 -> 3.7469374 | R5: 2010 | S5: =F5/F4-1 -> -0.082503182 | T5: =I5/I4-1 -> 0.030414435
B6: 2011 | C6: 1354 | D6: 48523.38 | E6: 5659.6929 | F6: 2060.5197 | G6: 46087.27 | H6: 6307.9936 | I6: 1513.0353 | K6: =I6/Total!I6 -> 0.015014026 | L6: =F6/E6*100 -> 36.406917 | M6: =F6/D6*100 -> 4.2464472 | N6: =I6/H6*100 -> 23.986 | O6: =I6/G6*100 -> 3.2829789 | R6: 2011 | S6: =F6/F5-1 -> -0.3401399 | T6: =I6/I5-1 -> -0.14680033
B7: 2012 | C7: 1310 | D7: 44156.54 | E7: 5198.5867 | F7: 1734.8174 | G7: 44844.524 | H7: 6185.5934 | I7: 1333.3844 | K7: =I7/Total!I7 -> 0.012513801 | L7: =F7/E7*100 -> 33.370944 | M7: =F7/D7*100 -> 3.9287893 | N7: =I7/H7*100 -> 21.556289 | O7: =I7/G7*100 -> 2.9733493 | R7: 2012 | S7: =F7/F6-1 -> -0.15806801 | T7: =I7/I6-1 -> -0.11873549
B8: 2013 | C8: 1277 | D8: 48064.749 | E8: 6065.3154 | F8: 2532.1272 | G8: 48152.223 | H8: 6786.1353 | I8: 1732.1292 | K8: =I8/Total!I8 -> 0.018270382 | L8: =F8/E8*100 -> 41.74766 | M8: =F8/D8*100 -> 5.2681587 | N8: =I8/H8*100 -> 25.524531 | O8: =I8/G8*100 -> 3.5971946 | R8: 2013 | S8: =F8/F7-1 -> 0.45959291 | T8: =I8/I7-1 -> 0.29904718
B9: 2014 | C9: 1223 | D9: 53165.439 | E9: 6137.4968 | F9: 2463.7845 | G9: 53608.236 | H9: 8036.7729 | I9: 2776.8566 | K9: =I9/Total!I9 -> 0.026000427 | L9: =F9/E9*100 -> 40.14315 | M9: =F9/D9*100 -> 4.6341845 | N9: =I9/H9*100 -> 34.551886 | O9: =I9/G9*100 -> 5.1799067 | R9: 2014 | S9: =F9/F8-1 -> -0.026990234 | T9: =I9/I8-1 -> 0.60314636
B10: 2015 | C10: 1231 | D10: 63610.542 | E10: 8301.7793 | F10: 4461.9746 | G10: 61854.19 | H10: 8782.473 | I10: 3239.418 | K10: =I10/Total!I10 -> 0.026060979 | L10: =F10/E10*100 -> 53.747209 | M10: =F10/D10*100 -> 7.0145208 | N10: =I10/H10*100 -> 36.885033 | O10: =I10/G10*100 -> 5.2371845 | R10: 2015 | S10: =F10/F9-1 -> 0.8110247 | T10: =I10/I9-1 -> 0.16657735
B11: 2016 | C11: 1243 | D11: 67421.526 | E11: 7849.4092 | F11: 3777.236 | G11: 66629.642 | H11: 9252.1053 | I11: 3243.5085 | K11: =I11/Total!I11 -> 0.02647807 | L11: =F11/E11*100 -> 48.121278 | M11: =F11/D11*100 -> 5.6024184 | N11: =I11/H11*100 -> 35.056978 | O11: =I11/G11*100 -> 4.8679663 | R11: 2016 | S11: =F11/F10-1 -> -0.1534609 | T11: =I11/I10-1 -> 0.0012627277
B12: 2017 | C12: 1231 | D12: 67665.305 | E12: 7143.498 | F12: 2914.6311 | G12: 69425.243 | H12: 9786.7167 | I12: 3717.6742 | K12: =I12/Total!I12 -> 0.027737953 | L12: =F12/E12*100 -> 40.801174 | M12: =F12/D12*100 -> 4.3074232 | N12: =I12/H12*100 -> 37.98694 | O12: =I12/G12*100 -> 5.3549315 | R12: 2017 | S12: =F12/F11-1 -> -0.22836935 | T12: =I12/I11-1 -> 0.14618913
B13: 2018 | C13: 1223 | D13: 69050.123 | E13: 7658.3653 | F13: 3315.1899 | G13: 69546.585 | H13: 10092.4 | I13: 3762.128 | K13: =I13/Total!I13 -> 0.026964224 | L13: =F13/E13*100 -> 43.28848 | M13: =F13/D13*100 -> 4.8011354 | N13: =I13/H13*100 -> 37.276844 | O13: =I13/G13*100 -> 5.4095079 | R13: 2018 | S13: =F13/F12-1 -> 0.13743038 | T13: =I13/I12-1 -> 0.011957417
B14: 2019 | C14: 1221 | D14: 69072.079 | E14: 8261.7649 | F14: 3903.6194 | G14: 69170.95 | H14: 9912.4581 | I14: 3640.5437 | K14: =I14/Total!I14 -> 0.024793494 | L14: =F14/E14*100 -> 47.24922 | M14: =F14/D14*100 -> 5.6515157 | N14: =I14/H14*100 -> 36.726952 | O14: =I14/G14*100 -> 5.2631107 | R14: 2019 | S14: =F14/F13-1 -> 0.17749496 | T14: =I14/I13-1 -> -0.03231796
B15: 2020 | C15: 1210 | D15: 58216.582 | E15: 7565.1877 | F15: 3502.5803 | G15: 59812.792 | H15: 8726.0701 | I15: 2311.2911 | K15: =I15/Total!I15 -> 0.019962792 | L15: =F15/E15*100 -> 46.298656 | M15: =F15/D15*100 -> 6.016465 | N15: =I15/H15*100 -> 26.487194 | O15: =I15/G15*100 -> 3.8642087 | R15: 2020 | S15: =F15/F14-1 -> -0.10273521 | T15: =I15/I14-1 -> -0.36512475
B16: 2021 | C16: 1222 | D16: 57641.283 | E16: 6652.4347 | F16: 2419.5872 | G16: 59461.366 | H16: 9147.1273 | I16: 3054.1111 | K16: =I16/Total!I16 -> 0.019607107 | L16: =F16/E16*100 -> 36.371454 | M16: =F16/D16*100 -> 4.1976637 | N16: =I16/H16*100 -> 33.388745 | O16: =I16/G16*100 -> 5.1362948 | R16: 2021 | S16: =F16/F15-1 -> -0.30919864 | T16: =I16/I15-1 -> 0.32138745
... B18: 2023 | C18: 1219 | D18: 83173.65 | E18: 10217.366 | F18: 5672.3807 | G18: 82263.617 | H18: 10870.773 | I18: 4292.9268 | K18: =I18/Total!I18 -> 0.021807544 | L18: =F18/E18*100 -> 55.517052 | M18: =F18/D18*100 -> 6.8199251 | N18: =I18/H18*100 -> 39.490537 | O18: =I18/G18*100 -> 5.2184999 | R18: 2023 | S18: =F18/F17-1 -> 0.77608514 | T18: =I18/I17-1 -> 0.2640121
B19: 2024 | C19: 1251 | D19: 81396.872 | E19: 8976.0143 | F19: 4321.8124 | G19: =G18*(1+G22) -> 80170.585 | H19: =H18*(1+H22) -> 11041.5 | I19: =I18*(1+I22) -> 4374.2885 | K19: =I19/Total!I19 -> 0.020260099 | L19: =F19/E19*100 -> 48.148457 | M19: =F19/D19*100 -> 5.3095559 | N19: =I19/H19*100 -> 39.616796 | O19: =I19/G19*100 -> 5.4562262 | R19: 2024 | S19: =F19/F18-1 -> -0.2380955 | T19: =I19/I18-1 -> 0.018952512
B20: 2025 | D20: =D19*(SUM(D88:D90)/SUM(D84:D86)) -> 80495.284 | E20: =E19*(SUM(E88:E90)/SUM(E84:E86)) -> 8425.6124 | F20: =F19*(SUM(F88:F90)/SUM(F84:F86)) -> 3845.133 | I20: =I19*(1+T20) -> 3891.8212 | L20: =F20/E20*100 -> 45.636243 | M20: =F20/D20*100 -> 4.7768426 | N20: =N19*(L20/L19) -> 37.549734 | O20: =O19*(M20/M19) -> 4.9087974 | R20: 2025 | S20: =F20/F19-1 -> -0.11029618 | T20: =+S20 -> -0.11029618
B22: Tasas IS pob. Cte-> | G22: -0.025442984 | H22: 0.015705097 | I22: 0.018952512
C23: D. Número de empresas | D23: A. Ventas totales | E23: S.1. Ventas - compras | F23: S.2. Indicador de resultado bruto de explotación | J23: mm4 MU sobre ventas compras | K23: mm4 MU s/ ventas | N23: Base 2016=100 | O23: Base 2016=100
B24: 20091T | C24: 1389 | D24: 9043.4217 | E24: 1336.6971 | F24: 494.39066 | L24: =F24/E24*100 -> 36.98599 | M24: =F24/D24*100 -> 5.466854 | P24: =L24/$J$53*100 -> 85.174875 | Q24: =M24/$K$53*100 -> 102.67278 | R24: 20091T
B25: 20092T | C25: 1389 | D25: 11550.191 | E25: 2363.1651 | F25: 1475.101 | J25: =AVERAGE(L24:L27) -> 45.166238 | K25: =AVERAGE(M24:M27) -> 7.7896806 | L25: =F25/E25*100 -> 62.420564 | M25: =F25/D25*100 -> 12.771226 | N25: =J25/$J$53*100 -> 104.01313 | O25: =K25/$K$53*100 -> 146.2977 | P25: =L25/$J$53*100 -> 143.74804 | Q25: =M25/$K$53*100 -> 239.85592 | R25: 20092T
B26: 20093T | C26: 1385 | D26: 10218.195 | E26: 1702.5179 | F26: 699.78083 | J26: =AVERAGE(L25:L28) -> 51.682599 | K26: =AVERAGE(M25:M28) -> 9.2099266 | L26: =F26/E26*100 -> 41.102699 | M26: =F26/D26*100 -> 6.8483802 | N26: =J26/$J$53*100 -> 119.01963 | O26: =K26/$K$53*100 -> 172.97129 | P26: =L26/$J$53*100 -> 94.655226 | Q26: =M26/$K$53*100 -> 128.61918 | R26: 20093T
B27: 20094T | C27: 1393 | D27: 12090.801 | E27: 1828.346 | F27: 734.1851 | J27: =AVERAGE(L26:L29) -> 49.249338 | K27: =AVERAGE(M26:M29) -> 7.992058 | L27: =F27/E27*100 -> 40.155698 | M27: =F27/D27*100 -> 6.072262 | N27: =J27/$J$53*100 -> 113.41608 | O27: =K27/$K$53*100 -> 150.09855 | P27: =L27/$J$53*100 -> 92.474379 | Q27: =M27/$K$53*100 -> 114.04293 | R27: 20094T
B28: 20101T | C28: 1338 | D28: 12250.754 | E28: 2166.0002 | F28: 1365.6942 | J28: =AVERAGE(L27:L30) -> 43.908257 | K28: =AVERAGE(M27:M30) -> 6.8157166 | L28: =F28/E28*100 -> 63.051435 | M28: =F28/D28*100 -> 11.147838 | N28: =J28/$J$53*100 -> 101.11613 | O28: =K28/$K$53*100 -> 128.00572 | P28: =L28/$J$53*100 -> 145.20087 | Q28: =M28/$K$53*100 -> 209.36713 | R28: 20101T | S28: =F28/F24-1 -> 1.7623786 | T28: =AVERAGE(S28:S29) -> 0.71724966
B29: 20102T | C29: 1344 | D29: 12550.342 | E29: 1881.7472 | F29: 991.44592 | J29: =AVERAGE(L28:L31) -> 43.003515 | K29: =AVERAGE(M28:M31) -> 6.4379446 | L29: =F29/E29*100 -> 52.68752 | M29: =F29/D29*100 -> 7.899752 | N29: =J29/$J$53*100 -> 99.032606 | O29: =K29/$K$53*100 -> 120.9108 | P29: =L29/$J$53*100 -> 121.33386 | Q29: =M29/$K$53*100 -> 148.36495 | R29: 20102T | S29: =F29/F25-1 -> -0.32787928 | T29: =+T28 -> 0.71724966
B30: 20103T | C30: 1345 | D30: 9904.2657 | E30: 1075.3155 | F30: 212.24984 | J30: =AVERAGE(L29:L32) -> 40.669895 | K30: =AVERAGE(M29:M32) -> 5.5361367 | L30: =F30/E30*100 -> 19.738378 | M30: =F30/D30*100 -> 2.1430144 | N30: =J30/$J$53*100 -> 93.658522 | O30: =K30/$K$53*100 -> 103.97398 | P30: =L30/$J$53*100 -> 45.455424 | Q30: =M30/$K$53*100 -> 40.247874 | R30: 20103T | S30: =F30/F26-1 -> -0.69669098 | T30: =0.078396*S33+1.56291*T29-0.641306*T28 -> 0.63988907
B31: 20104T | C31: 1344 | D31: 12130.024 | E31: 1514.2886 | F31: 553.27152 | J31: =AVERAGE(L30:L33) -> 38.551862 | K31: =AVERAGE(M30:M33) -> 4.9730456 | L31: =F31/E31*100 -> 36.536728 | M31: =F31/D31*100 -> 4.5611742 | N31: =J31/$J$53*100 -> 88.780914 | O31: =K31/$K$53*100 -> 93.398585 | P31: =L31/$J$53*100 -> 84.140271 | Q31: =M31/$K$53*100 -> 85.663244 | R31: 20104T | S31: =F31/F27-1 -> -0.24641413 | T31: =0.078396*S34+1.56291*T30-0.641306*T29 -> 0.51301477
B32: 20111T | C32: 1326 | D32: 13054.681 | E32: 1832.5724 | F32: 984.40207 | J32: =AVERAGE(L31:L34) -> 37.001008 | K32: =AVERAGE(M31:M34) -> 4.7568216 | L32: =F32/E32*100 -> 53.716953 | M32: =F32/D32*100 -> 7.5406063 | N32: =J32/$J$53*100 -> 85.209458 | O32: =K32/$K$53*100 -> 89.337691 | P32: =L32/$J$53*100 -> 123.70454 | Q32: =M32/$K$53*100 -> 141.61985 | R32: 20111T | S32: =F32/F28-1 -> -0.2791929 | T32: =0.078396*S35+1.56291*T31-0.641306*T30 -> 0.3432197
B33: 20112T | C33: 1334 | D33: 12823.782 | E33: 1637.9108 | F33: 724.20863 | J33: =AVERAGE(L32:L35) -> 32.445668 | K33: =AVERAGE(M32:M35) -> 4.068672 | L33: =F33/E33*100 -> 44.215389 | M33: =F33/D33*100 -> 5.6473874 | N33: =J33/$J$53*100 -> 74.718986 | O33: =K33/$K$53*100 -> 76.413579 | P33: =L33/$J$53*100 -> 101.82343 | Q33: =M33/$K$53*100 -> 106.06337 | R33: 20112T | S33: =F33/F29-1 -> -0.26954298 | T33: =0.078396*S36+1.56291*T32-0.641306*T31 -> 0.17050808
B34: 20113T | C34: 1335 | D34: 10866.383 | E34: 1026.1224 | F34: 138.88526 | J34: =AVERAGE(L33:L36) -> 28.724317 | K34: =AVERAGE(M33:M36) -> 3.3133791 | L34: =F34/E34*100 -> 13.53496 | M34: =F34/D34*100 -> 1.2781186 | N34: =J34/$J$53*100 -> 66.149104 | O34: =K34/$K$53*100 -> 62.22845 | P34: =L34/$J$53*100 -> 31.169599 | Q34: =M34/$K$53*100 -> 24.004298 | R34: 20113T | S34: =F34/F30-1 -> -0.34565201 | T34: =0.078396*S37+1.56291*T33-0.641306*T32 -> 0.052315932
B35: 20114T | C35: 1343 | D35: 11778.535 | E35: 1163.0873 | F35: 213.02374 | J35: =AVERAGE(L34:L37) -> 29.412121 | K35: =AVERAGE(M34:M37) -> 3.5504217 | L35: =F35/E35*100 -> 18.31537 | M35: =F35/D35*100 -> 1.8085759 | N35: =J35/$J$53*100 -> 67.733045 | O35: =K35/$K$53*100 -> 66.680338 | P35: =L35/$J$53*100 -> 42.178385 | Q35: =M35/$K$53*100 -> 33.966796 | R35: 20114T | S35: =F35/F31-1 -> -0.61497432 | T35: =0.078396*S38+1.56291*T34-0.641306*T33 -> -0.12511941
B36: 20121T | C36: 1286 | D36: 11525.363 | E36: 1341.3867 | F36: 520.88126 | J36: =AVERAGE(L35:L38) -> 24.983477 | K36: =AVERAGE(M35:M38) -> 3.1409616 | L36: =F36/E36*100 -> 38.83155 | M36: =F36/D36*100 -> 4.5194345 | N36: =J36/$J$53*100 -> 57.534339 | O36: =K36/$K$53*100 -> 58.990285 | P36: =L36/$J$53*100 -> 89.425006 | Q36: =M36/$K$53*100 -> 84.879333 | R36: 20121T | S36: =F36/F32-1 -> -0.47086534 | T36: =0.078396*S39+1.56291*T35-0.641306*T34 -> -0.13497088
B37: 20122T | C37: 1297 | D37: 11811.652 | E37: 1658.7197 | F37: 779.04431 | J37: =AVERAGE(L36:L39) -> 28.853457 | K37: =AVERAGE(M36:M39) -> 3.7175237 | L37: =F37/E37*100 -> 46.966604 | M37: =F37/D37*100 -> 6.5955577 | N37: =J37/$J$53*100 -> 66.446498 | O37: =K37/$K$53*100 -> 69.818675 | P37: =L37/$J$53*100 -> 108.15919 | Q37: =M37/$K$53*100 -> 123.87092 | R37: 20122T | S37: =F37/F33-1 -> 0.075718078 | T37: =0.078396*S40+1.56291*T36-0.641306*T35 -> -0.12725885
B38: 20123T | C38: 1292 | D38: 9426.5425 | E38: 811.30126 | F38: -33.909294 | J38: =AVERAGE(L37:L40) -> 29.184761 | K38: =AVERAGE(M37:M40) -> 3.7300918 | L38: =F38/E38*100 -> -4.1796181 | M38: =F38/D38*100 -> -0.35972144 | N38: =J38/$J$53*100 -> 67.209459 | O38: =K38/$K$53*100 -> 70.054717 | P38: =L38/$J$53*100 -> -9.6252242 | Q38: =M38/$K$53*100 -> -6.755915 | R38: 20123T | S38: =F38/F34-1 -> -1.2441533 | T38: =0.078396*S41+1.56291*T37-0.641306*T36 -> -0.097793773
B39: 20124T | C39: 1295 | D39: 11392.982 | E39: 1387.179 | F39: 468.80117 | J39: =AVERAGE(L38:L41) -> 30.127347 | K39: =AVERAGE(M38:M41) -> 3.8890341 | L39: =F39/E39*100 -> 33.79529 | M39: =F39/D39*100 -> 4.114824 | N39: =J39/$J$53*100 -> 69.380135 | O39: =K39/$K$53*100 -> 73.039806 | P39: =L39/$J$53*100 -> 77.827024 | Q39: =M39/$K$53*100 -> 77.280358 | R39: 20124T | S39: =F39/F35-1 -> 1.2006991 | T39: =0.078396*S42+1.56291*T38-0.641306*T37 -> -1.2202146
B40: 20131T | C40: 1249 | D40: 11899.997 | E40: 1354.1802 | F40: 543.79501 | J40: =AVERAGE(L39:L42) -> 39.82114 | K40: =AVERAGE(M39:M42) -> 5.0748406 | L40: =F40/E40*100 -> 40.15677 | M40: =F40/D40*100 -> 4.5697071 | N40: =J40/$J$53*100 -> 91.703928 | O40: =K40/$K$53*100 -> 95.310394 | P40: =L40/$J$53*100 -> 92.476848 | Q40: =M40/$K$53*100 -> 85.823499 | R40: 20131T | S40: =F40/F36-1 -> 0.043990367 | T40: =0.078396*S43+1.56291*T39-0.641306*T38 -> -1.8221452
B41: 20132T | C41: 1256 | D41: 12771.648 | E41: 1820.29 | F41: 923.55958 | J41: =AVERAGE(L40:L43) -> 41.062692 | K41: =AVERAGE(M40:M43) -> 5.2186619 | L41: =F41/E41*100 -> 50.736946 | M41: =F41/D41*100 -> 7.2313268 | N41: =J41/$J$53*100 -> 94.563092 | O41: =K41/$K$53*100 -> 98.011497 | P41: =L41/$J$53*100 -> 116.84189 | Q41: =M41/$K$53*100 -> 135.81128 | R41: 20132T | S41: =F41/F37-1 -> 0.18550327 | T41: =0.078396*S44+1.56291*T40-0.641306*T39 -> -2.1260208
... B87: 20244T | C87: 1235 | D87: 20849.92 | E87: 1667.1322 | F87: 465.14115 | J87: =AVERAGE(L86:L89) -> 42.926949 | K87: =AVERAGE(M86:M89) -> 5.2811254 | L87: =F87/E87*100 -> 27.900676 | M87: =F87/D87*100 -> 2.2309014 | N87: =J87/$J$53*100 -> 98.856283 | O87: =K87/$K$53*100 -> 99.18462 | P87: =L87/$J$53*100 -> 64.252344 | Q87: =M87/$K$53*100 -> 41.898477 | R87: 20244T | S87: =F87/F83-1 -> -0.01721687 | T87: =0.078396*S90+1.56291*T86-0.641306*T85 -> 0.1165839
B88: 20251T | C88: 1197 | D88: 20050.995 | E88: 1630.7227 | F88: 524.38992 | J88: =AVERAGE(L87:L90) -> 39.101944 | K88: =AVERAGE(M87:M90) -> 4.6451543 | L88: =F88/E88*100 -> 32.156904 | M88: =F88/D88*100 -> 2.6152813 | N88: =J88/$J$53*100 -> 90.047695 | O88: =K88/$K$53*100 -> 87.24047 | P88: =L88/$J$53*100 -> 74.053993 | Q88: =M88/$K$53*100 -> 49.117501 | R88: 20251T | S88: =F88/F84-1 -> -0.67381198
B89: 20252T | C89: 1189 | D89: 21926.962 | E89: 3678.3365 | F89: 2442.0143 | L89: =F89/E89*100 -> 66.389094 | M89: =F89/D89*100 -> 11.137039 | P89: =L89/$J$53*100 -> 152.88715 | Q89: =M89/$K$53*100 -> 209.16432 | R89: 20252T | S89: =F89/F85-1 -> 0.8060805
B90: 20253T | C90: 1177 | D90: 17898.35 | E90: 1551.6482 | F90: 464.89091 | L90: =F90/E90*100 -> 29.961102 | M90: =F90/D90*100 -> 2.5973953 | P90: =L90/$J$53*100 -> 68.99729 | Q90: =M90/$K$53*100 -> 48.781585 | R90: 20253T | S90: =F90/F86-1 -> -0.48168841

Sheet Construcción - 41+42+43
C2: CONSTRUCCIÓN - 41+42+43
C3: D. Número de empresas | D3: A. Ventas totales | E3: S.1. Ventas - compras | F3: S.2. Indicador de resultado bruto de explotación | G3: A. Ventas y otros ingresos (IS) | H3: S.1. Ventas - compras (IS) | I3: S.2. Resultado bruto de explotación (IS) | L3: Margen Ventas unitario sobre ventas-compras(IVARET) | M3: Margen Ventas unitario (IVARET) | N3: Margen Ventas unitario sobre ventas-compras(IS) | O3: Margen Ventas unitario (IS) | S3: S.2. Indicador RBE (tasa var) | T3: S.2. RBE (tasa var)
B4: 2009 | C4: 203561 | D4: 185530.33 | E4: 52228.418 | F4: 27942.161 | G4: 219573.12 | H4: 57771.942 | I4: 23193.666 | L4: =F4/E4*100 -> 53.499918 | M4: =F4/D4*100 -> 15.060697 | N4: =I4/H4*100 -> 40.146939 | O4: =I4/G4*100 -> 10.563072 | R4: 2009
B5: 2010 | C5: 187825 | D5: 150189.74 | E5: 47480.376 | F5: 26550.857 | G5: 183154.48 | H5: 52640.102 | I5: 22595.55 | L5: =F5/E5*100 -> 55.919643 | M5: =F5/D5*100 -> 17.678209 | N5: =I5/H5*100 -> 42.924594 | O5: =I5/G5*100 -> 12.336881 | R5: 2010 | S5: =F5/F4-1 -> -0.049792276 | T5: =I5/I4-1 -> -0.025787918
B6: 2011 | C6: 184504 | D6: 125408.92 | E6: 37786.819 | F6: 18439.643 | G6: 152313.43 | H6: 35727.991 | I6: 9133.463 | L6: =F6/E6*100 -> 48.799141 | M6: =F6/D6*100 -> 14.703614 | N6: =I6/H6*100 -> 25.563887 | O6: =I6/G6*100 -> 5.9964924 | R6: 2011 | S6: =F6/F5-1 -> -0.30549724 | T6: =I6/I5-1 -> -0.59578488
B7: 2012 | C7: 169615 | D7: 94537.103 | E7: 31675.825 | F7: 16329.959 | G7: 133900.95 | H7: 34390.25 | I7: 12880.972 | L7: =F7/E7*100 -> 51.553381 | M7: =F7/D7*100 -> 17.273598 | N7: =I7/H7*100 -> 37.455302 | O7: =I7/G7*100 -> 9.6197765 | R7: 2012 | S7: =F7/F6-1 -> -0.11441026 | T7: =I7/I6-1 -> 0.41030538
B8: 2013 | C8: 156908 | D8: 60975.054 | E8: 15469.298 | F8: 2610.6851 | G8: 96746.618 | H8: 21742.978 | I8: 3204.8096 | L8: =F8/E8*100 -> 16.876559 | M8: =F8/D8*100 -> 4.2815626 | N8: =I8/H8*100 -> 14.739515 | O8: =I8/G8*100 -> 3.3125805 | R8: 2013 | S8: =F8/F7-1 -> -0.84012911 | T8: =I8/I7-1 -> -0.75119815
B9: 2014 | C9: 149682 | D9: 65164.867 | E9: 19962.039 | F9: 7617.1595 | G9: 96325.242 | H9: 24212.377 | I9: 6334.3637 | L9: =F9/E9*100 -> 38.158224 | M9: =F9/D9*100 -> 11.689059 | N9: =I9/H9*100 -> 26.161676 | O9: =I9/G9*100 -> 6.5760164 | R9: 2014 | S9: =F9/F8-1 -> 1.917686 | T9: =I9/I8-1 -> 0.97651796
B10: 2015 | C10: 147032 | D10: 69782.643 | E10: 20116.645 | F10: 7206.9649 | G10: 96566.977 | H10: 22245.201 | I10: 3710.1446 | L10: =F10/E10*100 -> 35.825878 | M10: =F10/D10*100 -> 10.327733 | N10: =I10/H10*100 -> 16.678405 | O10: =I10/G10*100 -> 3.8420428 | R10: 2015 | S10: =F10/F9-1 -> -0.05385139 | T10: =I10/I9-1 -> -0.41428299
B11: 2016 | C11: 151630 | D11: 71552.162 | E11: 20509.78 | F11: 6772.8414 | G11: 91068.015 | H11: 20422.73 | I11: 819.83805 | L11: =F11/E11*100 -> 33.022497 | M11: =F11/D11*100 -> 9.4655999 | N11: =I11/H11*100 -> 4.0143412 | O11: =I11/G11*100 -> 0.90024808 | R11: 2016 | S11: =F11/F10-1 -> -0.060236662 | T11: =I11/I10-1 -> -0.779028
B12: 2017 | C12: 154374 | D12: 79891.975 | E12: 21207.043 | F12: 6106.8077 | G12: 99724.567 | H12: 23534.946 | I12: 2079.6904 | L12: =F12/E12*100 -> 28.79613 | M12: =F12/D12*100 -> 7.6438312 | N12: =I12/H12*100 -> 8.8366058 | O12: =I12/G12*100 -> 2.0854344 | R12: 2017 | S12: =F12/F11-1 -> -0.098338889 | T12: =I12/I11-1 -> 1.5367088
B13: 2018 | C13: 155960 | D13: 91262.272 | E13: 21595.379 | F13: 4769.2181 | G13: 117044.51 | H13: 26141.28 | I13: 2552.2601 | L13: =F13/E13*100 -> 22.084438 | M13: =F13/D13*100 -> 5.2258376 | N13: =I13/H13*100 -> 9.7633326 | O13: =I13/G13*100 -> 2.1805894 | R13: 2018 | S13: =F13/F12-1 -> -0.21903253 | T13: =I13/I12-1 -> 0.22723078
B14: 2019 | C14: 158275 | D14: 100170.58 | E14: 24063.497 | F14: 5653.4447 | G14: 122652.95 | H14: 30820.282 | I14: 5081.4274 | L14: =F14/E14*100 -> 23.493862 | M14: =F14/D14*100 -> 5.6438176 | N14: =I14/H14*100 -> 16.487284 | O14: =I14/G14*100 -> 4.1429311 | R14: 2019 | S14: =F14/F13-1 -> 0.18540284 | T14: =I14/I13-1 -> 0.99095204
B15: 2020 | C15: 156332 | D15: 95193.535 | E15: 25233.449 | F15: 7386.4423 | G15: 114321.78 | H15: 30094.978 | I15: 5350.7073 | L15: =F15/E15*100 -> 29.272424 | M15: =F15/D15*100 -> 7.7593949 | N15: =I15/H15*100 -> 17.779403 | O15: =I15/G15*100 -> 4.6803921 | R15: 2020 | S15: =F15/F14-1 -> 0.30653834 | T15: =I15/I14-1 -> 0.052992953
B16: 2021 | C16: 160615 | D16: 113048.75 | E16: 30980.444 | F16: 11606.078 | G16: 134739.24 | H16: 36521.151 | I16: 9016.1049 | L16: =F16/E16*100 -> 37.462595 | M16: =F16/D16*100 -> 10.266437 | N16: =I16/H16*100 -> 24.687352 | O16: =I16/G16*100 -> 6.6915212 | R16: 2021 | S16: =F16/F15-1 -> 0.57126774 | T16: =I16/I15-1 -> 0.68503049
... B18: 2023 | C18: 167091 | D18: 137070.55 | E18: 32990.687 | F18: 9112.1328 | G18: 166983.06 | H18: 44365.143 | I18: 11065.263 | L18: =F18/E18*100 -> 27.620319 | M18: =F18/D18*100 -> 6.6477683 | N18: =I18/H18*100 -> 24.941345 | O18: =I18/G18*100 -> 6.6265783 | R18: 2023 | S18: =F18/F17-1 -> -0.043600886 | T18: =I18/I17-1 -> 0.23368155
B19: 2024 | C19: 175540 | D19: 149153.73 | E19: 35366.17 | F19: 9569.6746 | G19: =G18*(1+G22) -> 179898.31 | H19: =H18*(1+H22) -> 49064.45 | I19: =I18*(1+I22) -> 12856.231 | L19: =F19/E19*100 -> 27.058838 | M19: =F19/D19*100 -> 6.4159806 | N19: =I19/H19*100 -> 26.202742 | O19: =I19/G19*100 -> 7.1463879 | R19: 2024 | S19: =F19/F18-1 -> 0.050212368 | T19: =I19/I18-1 -> 0.16185496
B20: 2025 | D20: =D19*(SUM(D88:D90)/SUM(D84:D86)) -> 158989.5 | E20: =E19*(SUM(E88:E90)/SUM(E84:E86)) -> 37995.409 | F20: =F19*(SUM(F88:F90)/SUM(F84:F86)) -> 10527.963 | I20: =I19*(1+T20) -> 14143.629 | L20: =F20/E20*100 -> 27.708514 | M20: =F20/D20*100 -> 6.621798 | N20: =N19*(L20/L19) -> 26.831863 | O20: =O19*(M20/M19) -> 7.3756359 | R20: 2025 | S20: =F20/F19-1 -> 0.10013806 | T20: =+S20 -> 0.10013806
B22: Tasas IS pob. Cte-> | G22: 0.077344654 | H22: 0.1059234 | I22: 0.16185496
C23: D. Número de empresas | D23: A. Ventas totales | E23: S.1. Ventas - compras | F23: S.2. Indicador de resultado bruto de explotación | J23: mm4 MU sobre ventas compras | K23: mm4 MU s/ ventas | N23: Base 2016=100 | O23: Base 2016=100
B24: 20091T | C24: 197159 | D24: 42533.197 | E24: 9834.3332 | F24: 4162.352 | L24: =F24/E24*100 -> 42.3247 | M24: =F24/D24*100 -> 9.7861254 | P24: =L24/$J$53*100 -> 130.43272 | Q24: =M24/$K$53*100 -> 105.17409 | R24: 20091T
B25: 20092T | C25: 198434 | D25: 46749.592 | E25: 12001.315 | F25: 5588.6286 | J25: =AVERAGE(L24:L27) -> 51.184037 | K25: =AVERAGE(M24:M27) -> 14.603124 | L25: =F25/E25*100 -> 46.566801 | M25: =F25/D25*100 -> 11.95439 | N25: =J25/$J$53*100 -> 157.73469 | O25: =K25/$K$53*100 -> 156.94366 | P25: =L25/$J$53*100 -> 143.50568 | Q25: =M25/$K$53*100 -> 128.47701 | R25: 20092T
B26: 20093T | C26: 198470 | D26: 42527.188 | E26: 11444.986 | F26: 5733.8022 | J26: =AVERAGE(L25:L28) -> 51.556761 | K26: =AVERAGE(M25:M28) -> 15.049507 | L26: =F26/E26*100 -> 50.098815 | M26: =F26/D26*100 -> 13.482674 | N26: =J26/$J$53*100 -> 158.88332 | O26: =K26/$K$53*100 -> 161.74105 | P26: =L26/$J$53*100 -> 154.39034 | Q26: =M26/$K$53*100 -> 144.90189 | R26: 20093T
B27: 20094T | C27: 200107 | D27: 53720.356 | E27: 18947.783 | F27: 12457.378 | J27: =AVERAGE(L26:L29) -> 56.845517 | K27: =AVERAGE(M26:M29) -> 18.438099 | L27: =F27/E27*100 -> 65.745832 | M27: =F27/D27*100 -> 23.189306 | N27: =J27/$J$53*100 -> 175.18176 | O27: =K27/$K$53*100 -> 198.15916 | P27: =L27/$J$53*100 -> 202.61001 | Q27: =M27/$K$53*100 -> 249.22164 | R27: 20094T
B28: 20101T | C28: 182926 | D28: 32574.202 | E28: 8602.8156 | F28: 3769.375 | J28: =AVERAGE(L27:L30) -> 48.872146 | K28: =AVERAGE(M27:M30) -> 16.018335 | L28: =F28/E28*100 -> 43.815597 | M28: =F28/D28*100 -> 11.571657 | N28: =J28/$J$53*100 -> 150.61009 | O28: =K28/$K$53*100 -> 172.15331 | P28: =L28/$J$53*100 -> 135.02724 | Q28: =M28/$K$53*100 -> 124.36368 | R28: 20101T | S28: =F28/F24-1 -> -0.09441224 | T28: =AVERAGE(S28:S29) -> 0.4942366
B29: 20102T | C29: 184417 | D29: 45633.239 | E29: 17188.658 | F29: 11640.473 | J29: =AVERAGE(L28:L31) -> 48.426103 | K29: =AVERAGE(M28:M31) -> 16.011413 | L29: =F29/E29*100 -> 67.721825 | M29: =F29/D29*100 -> 25.50876 | N29: =J29/$J$53*100 -> 149.23552 | O29: =K29/$K$53*100 -> 172.07891 | P29: =L29/$J$53*100 -> 208.69946 | Q29: =M29/$K$53*100 -> 274.14943 | R29: 20102T | S29: =F29/F25-1 -> 1.0828854 | T29: =+T28 -> 0.4942366
B30: 20103T | C30: 184392 | D30: 28573.494 | E30: 5969.8249 | F30: 1086.8263 | J30: =AVERAGE(L29:L32) -> 47.541042 | K30: =AVERAGE(M29:M32) -> 15.846606 | L30: =F30/E30*100 -> 18.205329 | M30: =F30/D30*100 -> 3.803617 | N30: =J30/$J$53*100 -> 146.50801 | O30: =K30/$K$53*100 -> 170.30769 | P30: =L30/$J$53*100 -> 56.103662 | Q30: =M30/$K$53*100 -> 40.878484 | R30: 20103T | S30: =F30/F26-1 -> -0.81045278 | T30: =0.078396*S33+1.56291*T29-0.641306*T28 -> 0.39522312
B31: 20104T | C31: 184727 | D31: 43408.809 | E31: 15719.077 | F31: 10054.182 | J31: =AVERAGE(L30:L33) -> 39.126462 | K31: =AVERAGE(M30:M33) -> 11.684403 | L31: =F31/E31*100 -> 63.961659 | M31: =F31/D31*100 -> 23.161618 | N31: =J31/$J$53*100 -> 120.57666 | O31: =K31/$K$53*100 -> 125.57538 | P31: =L31/$J$53*100 -> 197.11169 | Q31: =M31/$K$53*100 -> 248.92407 | R31: 20104T | S31: =F31/F27-1 -> -0.19291342 | T31: =0.078396*S34+1.56291*T30-0.641306*T29 -> 0.48812198
B32: 20111T | C32: 177631 | D32: 28565.27 | E32: 7739.6325 | F32: 3117.1646 | J32: =AVERAGE(L31:L34) -> 45.845772 | K32: =AVERAGE(M31:M34) -> 13.962994 | L32: =F32/E32*100 -> 40.275356 | M32: =F32/D32*100 -> 10.912428 | N32: =J32/$J$53*100 -> 141.28367 | O32: =K32/$K$53*100 -> 150.06401 | P32: =L32/$J$53*100 -> 124.11723 | Q32: =M32/$K$53*100 -> 117.27877 | R32: 20111T | S32: =F32/F28-1 -> -0.17302881 | T32: =0.078396*S35+1.56291*T31-0.641306*T30 -> 0.50079195
B33: 20112T | C33: 178768 | D33: 30381.704 | E33: 7902.308 | F33: 2691.8029 | J33: =AVERAGE(L32:L35) -> 45.862604 | K33: =AVERAGE(M32:M35) -> 14.067608 | L33: =F33/E33*100 -> 34.063502 | M33: =F33/D33*100 -> 8.8599471 | N33: =J33/$J$53*100 -> 141.33554 | O33: =K33/$K$53*100 -> 151.18833 | P33: =L33/$J$53*100 -> 104.97405 | Q33: =M33/$K$53*100 -> 95.220209 | R33: 20112T | S33: =F33/F29-1 -> -0.76875486 | T33: =0.078396*S36+1.56291*T32-0.641306*T31 -> 0.45613353
B34: 20113T | C34: 179054 | D34: 28522.557 | E34: 8172.8676 | F34: 3684.539 | J34: =AVERAGE(L33:L36) -> 45.972619 | K34: =AVERAGE(M33:M36) -> 14.284536 | L34: =F34/E34*100 -> 45.082572 | M34: =F34/D34*100 -> 12.917983 | N34: =J34/$J$53*100 -> 141.67458 | O34: =K34/$K$53*100 -> 153.5197 | P34: =L34/$J$53*100 -> 138.9317 | Q34: =M34/$K$53*100 -> 138.833 | R34: 20113T | S34: =F34/F30-1 -> 2.390182 | T34: =0.078396*S37+1.56291*T33-0.641306*T32 -> 0.42251055
B35: 20114T | C35: 181271 | D35: 37939.39 | E35: 13972.011 | F35: 8946.137 | J35: =AVERAGE(L34:L37) -> 49.388916 | K35: =AVERAGE(M34:M37) -> 15.997575 | L35: =F35/E35*100 -> 64.028984 | M35: =F35/D35*100 -> 23.580076 | N35: =J35/$J$53*100 -> 152.20263 | O35: =K35/$K$53*100 -> 171.93019 | P35: =L35/$J$53*100 -> 197.31917 | Q35: =M35/$K$53*100 -> 253.42135 | R35: 20114T | S35: =F35/F31-1 -> -0.11020741 | T35: =0.078396*S38+1.56291*T34-0.641306*T33 -> 0.37541238
B36: 20121T | C36: 163112 | D36: 21896.521 | E36: 6335.2906 | F36: 2579.44 | J36: =AVERAGE(L35:L38) -> 51.455843 | K36: =AVERAGE(M35:M38) -> 17.226138 | L36: =F36/E36*100 -> 40.715417 | M36: =F36/D36*100 -> 11.780136 | N36: =J36/$J$53*100 -> 158.57232 | O36: =K36/$K$53*100 -> 185.13389 | P36: =L36/$J$53*100 -> 125.47337 | Q36: =M36/$K$53*100 -> 126.60426 | R36: 20121T | S36: =F36/F32-1 -> -0.17250438 | T36: =0.078396*S39+1.56291*T35-0.641306*T34 -> 0.28961682
B37: 20122T | C37: 163773 | D37: 23857.523 | E37: 7853.8061 | F37: 3748.5188 | J37: =AVERAGE(L36:L39) -> 50.483056 | K37: =AVERAGE(M36:M39) -> 17.036153 | L37: =F37/E37*100 -> 47.72869 | M37: =F37/D37*100 -> 15.712104 | N37: =J37/$J$53*100 -> 155.57446 | O37: =K37/$K$53*100 -> 183.09207 | P37: =L37/$J$53*100 -> 147.08629 | Q37: =M37/$K$53*100 -> 168.86216 | R37: 20122T | S37: =F37/F33-1 -> 0.39256809 | T37: =0.078396*S40+1.56291*T36-0.641306*T35 -> 0.12738281
B38: 20123T | C38: 163973 | D38: 22662.041 | E38: 7574.7462 | F38: 4041.1484 | J38: =AVERAGE(L37:L40) -> 38.518037 | K38: =AVERAGE(M37:M40) -> 13.704026 | L38: =F38/E38*100 -> 53.350281 | M38: =F38/D38*100 -> 17.832235 | N38: =J38/$J$53*100 -> 118.70167 | O38: =K38/$K$53*100 -> 147.28081 | P38: =L38/$J$53*100 -> 164.41044 | Q38: =M38/$K$53*100 -> 191.64777 | R38: 20123T | S38: =F38/F34-1 -> 0.096785374 | T38: =0.078396*S41+1.56291*T37-0.641306*T36 -> -0.066980915
B39: 20124T | C39: 165913 | D39: 26121.017 | E39: 9911.9824 | F39: 5960.8518 | J39: =AVERAGE(L38:L41) -> 25.879498 | K39: =AVERAGE(M38:M41) -> 9.6180029 | L39: =F39/E39*100 -> 60.137837 | M39: =F39/D39*100 -> 22.820137 | N39: =J39/$J$53*100 -> 79.753275 | O39: =K39/$K$53*100 -> 103.36724 | P39: =L39/$J$53*100 -> 185.32776 | Q39: =M39/$K$53*100 -> 245.25408 | R39: 20124T | S39: =F39/F35-1 -> -0.33369545 | T39: =0.078396*S42+1.56291*T38-0.641306*T37 -> -0.25848197
B40: 20131T | C40: 149814 | D40: 12987.93 | E40: 2814.7093 | F40: -201.10147 | J40: =AVERAGE(L39:L42) -> 14.982887 | K40: =AVERAGE(M39:M42) -> 5.7239528 | L40: =F40/E40*100 -> -7.1446622 | M40: =F40/D40*100 -> -1.548372 | N40: =J40/$J$53*100 -> 46.173009 | O40: =K40/$K$53*100 -> 61.516843 | P40: =L40/$J$53*100 -> -22.017823 | Q40: =M40/$K$53*100 -> -16.640766 | R40: 20131T | S40: =F40/F36-1 -> -1.0779632 | T40: =0.078396*S43+1.56291*T39-0.641306*T38 -> -0.40548952
B41: 20132T | C41: 151107 | D41: 14676.018 | E41: 3282.6722 | F41: -92.750657 | J41: =AVERAGE(L40:L43) -> 10.60922 | K41: =AVERAGE(M40:M43) -> 3.4251409 | L41: =F41/E41*100 -> -2.825462 | M41: =F41/D41*100 -> -0.63198791 | N41: =J41/$J$53*100 -> 32.694607 | O41: =K41/$K$53*100 -> 36.810901 | P41: =L41/$J$53*100 -> -8.7072727 | Q41: =M41/$K$53*100 -> -6.7921422 | R41: 20132T | S41: =F41/F37-1 -> -1.0247433 | T41: =0.078396*S44+1.56291*T40-0.641306*T39 -> -1.0040631
... B87: 20244T | C87: 171238 | D87: 44344.059 | E87: 11179.078 | F87: 3959.5906 | J87: =AVERAGE(L86:L89) -> 26.636598 | K87: =AVERAGE(M86:M89) -> 6.3626748 | L87: =F87/E87*100 -> 35.419652 | M87: =F87/D87*100 -> 8.9292472 | N87: =J87/$J$53*100 -> 82.08644 | O87: =K87/$K$53*100 -> 68.381359 | P87: =L87/$J$53*100 -> 109.15332 | Q87: =M87/$K$53*100 -> 95.964995 | R87: 20244T | S87: =F87/F83-1 -> 0.011794214 | T87: =0.078396*S90+1.56291*T86-0.641306*T85 -> -0.055444097
B88: 20251T | C88: 160230 | D88: 35428.551 | E88: 7926.4843 | F88: 1712.4831 | J88: =AVERAGE(L87:L90) -> 26.589939 | K88: =AVERAGE(M87:M90) -> 6.3660379 | L88: =F88/E88*100 -> 21.604573 | M88: =F88/D88*100 -> 4.8336244 | N88: =J88/$J$53*100 -> 81.942653 | O88: =K88/$K$53*100 -> 68.417503 | P88: =L88/$J$53*100 -> 66.579167 | Q88: =M88/$K$53*100 -> 51.948247 | R88: 20251T | S88: =F88/F84-1 -> 0.2173442
B89: 20252T | C89: 159248 | D89: 38339.47 | E89: 8975.4381 | F89: 1823.6767 | L89: =F89/E89*100 -> 20.318526 | M89: =F89/D89*100 -> 4.7566561 | P89: =L89/$J$53*100 -> 62.615936 | Q89: =M89/$K$53*100 -> 51.121049 | R89: 20252T | S89: =F89/F85-1 -> 0.068317107
B90: 20253T | C90: 157699 | D90: 37953.2 | E90: 9083.318 | F90: 2635.707 | L90: =F90/E90*100 -> 29.017007 | M90: =F90/D90*100 -> 6.9446239 | P90: =L90/$J$53*100 -> 89.422187 | Q90: =M90/$K$53*100 -> 74.635721 | R90: 20253T | S90: =F90/F86-1 -> 0.055849126

Sheet Comercio mayorista - (467-4671)
C2: OTRO COMERCIO MAYORISTA SIN 4671
C3: D. Número de empresas | D3: A. Ventas totales | E3: S.1. Ventas - compras | F3: S.2. Indicador de resultado bruto de explotación | G3: A. Ventas y otros ingresos (IS) | H3: S.1. Ventas - compras (IS) | I3: S.2. Resultado bruto de explotación (IS) | K3: % total | L3: Margen Ventas unitario sobre ventas-compras(IVARET) | M3: Margen Ventas unitario (IVARET) | N3: Margen Ventas unitario sobre ventas-compras(IS) | O3: Margen Ventas unitario (IS) | S3: S.2. Indicador RBE (tasa var) | T3: S.2. RBE (tasa var)
B4: 2009 | C4: 16890 | D4: 42822.864 | E4: 7554.3409 | F4: 3952.8439 | G4: 45165.972 | H4: 6118.6145 | I4: 1206.7694 | K4: =I4/Total!I4 -> 0.0095416031 | L4: =F4/E4*100 -> 52.325463 | M4: =F4/D4*100 -> 9.2306854 | N4: =I4/H4*100 -> 19.72292 | O4: =I4/G4*100 -> 2.6718553 | R4: 2009
B5: 2010 | C5: 16408 | D5: 45542.48 | E5: 6160.6476 | F5: 2834.3157 | G5: 47600.02 | H5: 6214.4769 | I5: 1710.4067 | K5: =I5/Total!I5 -> 0.013462583 | L5: =F5/E5*100 -> 46.006782 | M5: =F5/D5*100 -> 6.2234548 | N5: =I5/H5*100 -> 27.52294 | O5: =I5/G5*100 -> 3.59329 | R5: 2010 | S5: =F5/F4-1 -> -0.28296796 | T5: =I5/I4-1 -> 0.41734345
B6: 2011 | C6: 16678 | D6: 46064.977 | E6: 6768.9174 | F6: 3369.5645 | G6: 48451.948 | H6: 5659.7666 | I6: 1194.621 | K6: =I6/Total!I6 -> 0.011854363 | L6: =F6/E6*100 -> 49.779962 | M6: =F6/D6*100 -> 7.3148077 | N6: =I6/H6*100 -> 21.107249 | O6: =I6/G6*100 -> 2.4655789 | R6: 2011 | S6: =F6/F5-1 -> 0.18884586 | T6: =I6/I5-1 -> -0.30155735
B7: 2012 | C7: 16557 | D7: 44875.168 | E7: 6851.8165 | F7: 3689.9125 | G7: 46321.318 | H7: 4793.1852 | I7: 605.81039 | K7: =I7/Total!I7 -> 0.0056855255 | L7: =F7/E7*100 -> 53.853055 | M7: =F7/D7*100 -> 8.2226154 | N7: =I7/H7*100 -> 12.638994 | O7: =I7/G7*100 -> 1.3078436 | R7: 2012 | S7: =F7/F6-1 -> 0.095071035 | T7: =I7/I6-1 -> -0.49288487
B8: 2013 | C8: 16426 | D8: 41930.777 | E8: 6061.6922 | F8: 3119.3093 | G8: 44396.193 | H8: 4708.4839 | I8: 811.64803 | K8: =I8/Total!I8 -> 0.0085612089 | L8: =F8/E8*100 -> 51.459382 | M8: =F8/D8*100 -> 7.4391881 | N8: =I8/H8*100 -> 17.237991 | O8: =I8/G8*100 -> 1.8281929 | R8: 2013 | S8: =F8/F7-1 -> -0.15463867 | T8: =I8/I7-1 -> 0.33977239
B9: 2014 | C9: 16438 | D9: 43704.792 | E9: 6123.4895 | F9: 3188.5584 | G9: 45856.026 | H9: 5489.5144 | I9: 1584.0527 | K9: =I9/Total!I9 -> 0.014831895 | L9: =F9/E9*100 -> 52.070937 | M9: =F9/D9*100 -> 7.2956723 | N9: =I9/H9*100 -> 28.855972 | O9: =I9/G9*100 -> 3.4544047 | R9: 2014 | S9: =F9/F8-1 -> 0.022200127 | T9: =I9/I8-1 -> 0.95164983
B10: 2015 | C10: 16470 | D10: 46209.502 | E10: 6467.569 | F10: 3407.2985 | G10: 47773.927 | H10: 5875.1462 | I10: 1850.1225 | K10: =I10/Total!I10 -> 0.014884156 | L10: =F10/E10*100 -> 52.682832 | M10: =F10/D10*100 -> 7.3735884 | N10: =I10/H10*100 -> 31.490663 | O10: =I10/G10*100 -> 3.8726615 | R10: 2015 | S10: =F10/F9-1 -> 0.068601566 | T10: =I10/I9-1 -> 0.16796773
B11: 2016 | C11: 16806 | D11: 46255.258 | E11: 7225.7621 | F11: 4015.2093 | G11: 47372.863 | H11: 6254.2018 | I11: 2042.2662 | K11: =I11/Total!I11 -> 0.016671844 | L11: =F11/E11*100 -> 55.56797 | M11: =F11/D11*100 -> 8.6805468 | N11: =I11/H11*100 -> 32.654307 | O11: =I11/G11*100 -> 4.3110467 | R11: 2016 | S11: =F11/F10-1 -> 0.17841431 | T11: =I11/I10-1 -> 0.10385461
B12: 2017 | C12: 16938 | D12: 51393.709 | E12: 7680.3719 | F12: 4252.6496 | G12: 52553.154 | H12: 6788.2095 | I12: 2316.7487 | K12: =I12/Total!I12 -> 0.017285502 | L12: =F12/E12*100 -> 55.370361 | M12: =F12/D12*100 -> 8.2746502 | N12: =I12/H12*100 -> 34.12901 | O12: =I12/G12*100 -> 4.4083913 | R12: 2017 | S12: =F12/F11-1 -> 0.059135233 | T12: =I12/I11-1 -> 0.13440091
B13: 2018 | C13: 17025 | D13: 52613.942 | E13: 7341.9567 | F13: 3706.4904 | G13: 54975.428 | H13: 7177.7447 | I13: 2399.6452 | K13: =I13/Total!I13 -> 0.017198929 | L13: =F13/E13*100 -> 50.483686 | M13: =F13/D13*100 -> 7.0446924 | N13: =I13/H13*100 -> 33.431744 | O13: =I13/G13*100 -> 4.3649414 | R13: 2018 | S13: =F13/F12-1 -> -0.128428 | T13: =I13/I12-1 -> 0.035781415
B14: 2019 | C14: 17265 | D14: 53988.935 | E14: 8107.507 | F14: 4278.8214 | G14: 56138.496 | H14: 7545.6962 | I14: 2494.1111 | K14: =I14/Total!I14 -> 0.01698585 | L14: =F14/E14*100 -> 52.776043 | M14: =F14/D14*100 -> 7.9253672 | N14: =I14/H14*100 -> 33.053426 | O14: =I14/G14*100 -> 4.4427822 | R14: 2019 | S14: =F14/F13-1 -> 0.1544132 | T14: =I14/I13-1 -> 0.039366604
B15: 2020 | C15: 17336 | D15: 51679.686 | E15: 8774.2853 | F15: 5071.7673 | G15: 53596.341 | H15: 7607.2861 | I15: 2683.9186 | K15: =I15/Total!I15 -> 0.023181204 | L15: =F15/E15*100 -> 57.802626 | M15: =F15/D15*100 -> 9.8138508 | N15: =I15/H15*100 -> 35.280895 | O15: =I15/G15*100 -> 5.0076527 | R15: 2020 | S15: =F15/F14-1 -> 0.18531877 | T15: =I15/I14-1 -> 0.076102275
B16: 2021 | C16: 17684 | D16: 69804.905 | E16: 9301.1243 | F16: 5231.2296 | G16: 73857.963 | H16: 10243.525 | I16: 4703.6852 | K16: =I16/Total!I16 -> 0.030197219 | L16: =F16/E16*100 -> 56.242981 | M16: =F16/D16*100 -> 7.4940716 | N16: =I16/H16*100 -> 45.91862 | O16: =I16/G16*100 -> 6.3685552 | R16: 2021 | S16: =F16/F15-1 -> 0.031441164 | T16: =I16/I15-1 -> 0.75254388
... B18: 2023 | C18: 18008 | D18: 75386.557 | E18: 11871.603 | F18: 7008.9209 | G18: 77654.361 | H18: 10451.245 | I18: 4111.9676 | K18: =I18/Total!I18 -> 0.020888293 | L18: =F18/E18*100 -> 59.039379 | M18: =F18/D18*100 -> 9.2973086 | N18: =I18/H18*100 -> 39.344283 | O18: =I18/G18*100 -> 5.2952178 | R18: 2023 | S18: =F18/F17-1 -> 0.19403828 | T18: =I18/I17-1 -> -0.16473631
B19: 2024 | C19: 18148 | D19: 76017.17 | E19: 10947.276 | F19: 5752.4668 | G19: =G18*(1+G22) -> 78940.447 | H19: =H18*(1+H22) -> 10905.292 | I19: =I18*(1+I22) -> 4097.6702 | K19: =I19/Total!I19 -> 0.018978904 | L19: =F19/E19*100 -> 52.547016 | M19: =F19/D19*100 -> 7.5673256 | N19: =I19/H19*100 -> 37.575061 | O19: =I19/G19*100 -> 5.1908373 | R19: 2024 | S19: =F19/F18-1 -> -0.17926499 | T19: =I19/I18-1 -> -0.003477012
B20: 2025 | D20: =D19*(SUM(D88:D90)/SUM(D84:D86)) -> 78407.746 | E20: =E19*(SUM(E88:E90)/SUM(E84:E86)) -> 12091.05 | F20: =F19*(SUM(F88:F90)/SUM(F84:F86)) -> 6607.3322 | I20: =I19*(1+T20) -> 4706.6189 | L20: =F20/E20*100 -> 54.64647 | M20: =F20/D20*100 -> 8.4268871 | N20: =N19*(L20/L19) -> 39.076328 | O20: =O19*(M20/M19) -> 5.780457 | R20: 2025 | S20: =F20/F19-1 -> 0.1486085 | T20: =+S20 -> 0.1486085
B22: Tasas IS pob. Cte-> | G22: 0.016561675 | H22: 0.043444286 | I22: -0.003477012
C23: D. Número de empresas | D23: A. Ventas totales | E23: S.1. Ventas - compras | F23: S.2. Indicador de resultado bruto de explotación | J23: mm4 MU sobre ventas compras | K23: mm4 MU s/ ventas | N23: Base 2016=100 | O23: Base 2016=100
B24: 20091T | C24: 16402 | D24: 10405.627 | E24: 1966.9349 | F24: 1055.9699 | L24: =F24/E24*100 -> 53.686065 | M24: =F24/D24*100 -> 10.148067 | P24: =L24/$J$53*100 -> 96.741395 | Q24: =M24/$K$53*100 -> 117.05112 | R24: 20091T
B25: 20092T | C25: 16536 | D25: 10949.042 | E25: 2056.0587 | F25: 1150.8913 | J25: =AVERAGE(L24:L27) -> 52.100876 | K25: =AVERAGE(M24:M27) -> 9.2558123 | L25: =F25/E25*100 -> 55.975607 | M25: =F25/D25*100 -> 10.511343 | N25: =J25/$J$53*100 -> 93.88491 | O25: =K25/$K$53*100 -> 106.75957 | P25: =L25/$J$53*100 -> 100.86711 | Q25: =M25/$K$53*100 -> 121.24127 | R25: 20092T
B26: 20093T | C26: 16608 | D26: 10276.218 | E26: 1797.3772 | F26: 958.9316 | J26: =AVERAGE(L25:L28) -> 49.725337 | K26: =AVERAGE(M25:M28) -> 8.2843838 | L26: =F26/E26*100 -> 53.351716 | M26: =F26/D26*100 -> 9.3315613 | N26: =J26/$J$53*100 -> 89.604229 | O26: =K26/$K$53*100 -> 95.554796 | P26: =L26/$J$53*100 -> 96.138904 | Q26: =M26/$K$53*100 -> 107.63328 | R26: 20093T
B27: 20094T | C27: 16741 | D27: 11191.977 | E27: 1733.9701 | F27: 787.05101 | J27: =AVERAGE(L26:L29) -> 50.02618 | K27: =AVERAGE(M26:M29) -> 7.8718198 | L27: =F27/E27*100 -> 45.390115 | M27: =F27/D27*100 -> 7.0322785 | N27: =J27/$J$53*100 -> 90.146343 | O27: =K27/$K$53*100 -> 90.796148 | P27: =L27/$J$53*100 -> 81.792231 | Q27: =M27/$K$53*100 -> 81.112603 | R27: 20094T
B28: 20101T | C28: 16079 | D28: 10518.782 | E28: 1490.8667 | F28: 658.72323 | J28: =AVERAGE(L27:L30) -> 47.406877 | K28: =AVERAGE(M27:M30) -> 6.9048753 | L28: =F28/E28*100 -> 44.183911 | M28: =F28/D28*100 -> 6.2623527 | N28: =J28/$J$53*100 -> 85.426403 | O28: =K28/$K$53*100 -> 79.643093 | P28: =L28/$J$53*100 -> 79.618671 | Q28: =M28/$K$53*100 -> 72.232027 | R28: 20101T | S28: =F28/F24-1 -> -0.3761913 | T28: =AVERAGE(S28:S29) -> -0.20673499
B29: 20102T | C29: 16198 | D29: 12503.97 | E29: 1937.7535 | F29: 1107.9876 | J29: =AVERAGE(L28:L31) -> 44.866437 | K29: =AVERAGE(M28:M31) -> 6.1656609 | L29: =F29/E29*100 -> 57.178978 | M29: =F29/D29*100 -> 8.8610867 | N29: =J29/$J$53*100 -> 80.848572 | O29: =K29/$K$53*100 -> 71.116751 | P29: =L29/$J$53*100 -> 103.03556 | Q29: =M29/$K$53*100 -> 102.20668 | R29: 20102T | S29: =F29/F25-1 -> -0.037278673 | T29: =+T28 -> -0.20673499
B30: 20103T | C30: 16267 | D30: 10791.934 | E30: 1375.2879 | F30: 589.64789 | J30: =AVERAGE(L29:L32) -> 47.258752 | K30: =AVERAGE(M29:M32) -> 6.6377011 | L30: =F30/E30*100 -> 42.874505 | M30: =F30/D30*100 -> 5.4637832 | N30: =J30/$J$53*100 -> 85.159483 | O30: =K30/$K$53*100 -> 76.561418 | P30: =L30/$J$53*100 -> 77.259144 | Q30: =M30/$K$53*100 -> 63.021065 | R30: 20103T | S30: =F30/F26-1 -> -0.38509911 | T30: =0.078396*S33+1.56291*T29-0.641306*T28 -> -0.21314811
B31: 20104T | C31: 16292 | D31: 11727.794 | E31: 1356.7394 | F31: 477.95696 | J31: =AVERAGE(L30:L33) -> 44.989744 | K31: =AVERAGE(M30:M33) -> 6.0399173 | L31: =F31/E31*100 -> 35.228354 | M31: =F31/D31*100 -> 4.0754208 | N31: =J31/$J$53*100 -> 81.070769 | O31: =K31/$K$53*100 -> 69.666384 | P31: =L31/$J$53*100 -> 63.480907 | Q31: =M31/$K$53*100 -> 47.007238 | R31: 20104T | S31: =F31/F27-1 -> -0.39272429 | T31: =0.078396*S34+1.56291*T30-0.641306*T29 -> -0.17534998
B32: 20111T | C32: 16081 | D32: 12054.261 | E32: 1827.7698 | F32: 982.48419 | J32: =AVERAGE(L31:L34) -> 46.574159 | K32: =AVERAGE(M31:M34) -> 6.4753724 | L32: =F32/E32*100 -> 53.75317 | M32: =F32/D32*100 -> 8.1505139 | N32: =J32/$J$53*100 -> 83.92586 | O32: =K32/$K$53*100 -> 74.689065 | P32: =L32/$J$53*100 -> 96.862317 | Q32: =M32/$K$53*100 -> 94.010696 | R32: 20111T | S32: =F32/F28-1 -> 0.49149771 | T32: =0.078396*S35+1.56291*T31-0.641306*T30 -> -0.081326338
B33: 20112T | C33: 16246 | D33: 12183.859 | E33: 1638.7557 | F33: 788.28979 | J33: =AVERAGE(L32:L35) -> 49.686354 | K33: =AVERAGE(M32:M35) -> 7.3170152 | L33: =F33/E33*100 -> 48.102947 | M33: =F33/D33*100 -> 6.4699515 | N33: =J33/$J$53*100 -> 89.533983 | O33: =K33/$K$53*100 -> 84.396849 | P33: =L33/$J$53*100 -> 86.68071 | Q33: =M33/$K$53*100 -> 74.626539 | R33: 20112T | S33: =F33/F29-1 -> -0.28853917 | T33: =0.078396*S36+1.56291*T32-0.641306*T31 -> -0.016281086
B34: 20113T | C34: 16326 | D34: 10813.727 | E34: 1583.3367 | F34: 779.19431 | J34: =AVERAGE(L33:L36) -> 49.929939 | K34: =AVERAGE(M33:M36) -> 7.3372001 | L34: =F34/E34*100 -> 49.212167 | M34: =F34/D34*100 -> 7.2056034 | N34: =J34/$J$53*100 -> 89.972919 | O34: =K34/$K$53*100 -> 84.629669 | P34: =L34/$J$53*100 -> 88.679504 | Q34: =M34/$K$53*100 -> 83.111789 | R34: 20113T | S34: =F34/F30-1 -> 0.32145695 | T34: =0.078396*S37+1.56291*T33-0.641306*T32 -> 0.049060089
B35: 20114T | C35: 16540 | D35: 11013.129 | E35: 1719.0552 | F35: 819.59621 | J35: =AVERAGE(L34:L37) -> 51.856694 | K35: =AVERAGE(M34:M37) -> 7.8511766 | L35: =F35/E35*100 -> 47.677133 | M35: =F35/D35*100 -> 7.441992 | N35: =J35/$J$53*100 -> 93.444898 | O35: =K35/$K$53*100 -> 90.558041 | P35: =L35/$J$53*100 -> 85.913399 | Q35: =M35/$K$53*100 -> 85.838372 | R35: 20114T | S35: =F35/F31-1 -> 0.71479083 | T35: =0.078396*S38+1.56291*T34-0.641306*T33 -> 0.10344783
B36: 20121T | C36: 15877 | D36: 11688.102 | E36: 1757.941 | F36: 962.07737 | J36: =AVERAGE(L35:L38) -> 53.544389 | K36: =AVERAGE(M35:M38) -> 8.2827686 | L36: =F36/E36*100 -> 54.727511 | M36: =F36/D36*100 -> 8.2312537 | N36: =J36/$J$53*100 -> 96.486097 | O36: =K36/$K$53*100 -> 95.536165 | P36: =L36/$J$53*100 -> 98.618062 | Q36: =M36/$K$53*100 -> 94.941976 | R36: 20121T | S36: =F36/F32-1 -> -0.020770632 | T36: =0.078396*S39+1.56291*T35-0.641306*T34 -> 0.12578867
B37: 20122T | C37: 16078 | D37: 11881.892 | E37: 1815.1475 | F37: 1013.0332 | J37: =AVERAGE(L36:L39) -> 53.735456 | K37: =AVERAGE(M36:M39) -> 8.2182421 | L37: =F37/E37*100 -> 55.809965 | M37: =F37/D37*100 -> 8.5258571 | N37: =J37/$J$53*100 -> 96.830397 | O37: =K37/$K$53*100 -> 94.791895 | P37: =L37/$J$53*100 -> 100.56863 | Q37: =M37/$K$53*100 -> 98.340028 | R37: 20122T | S37: =F37/F33-1 -> 0.28510247 | T37: =0.078396*S40+1.56291*T36-0.641306*T35 -> 0.10696694
B38: 20123T | C38: 16192 | D38: 10540.822 | E38: 1682.3689 | F38: 941.50324 | J38: =AVERAGE(L37:L40) -> 52.161205 | K38: =AVERAGE(M37:M40) -> 7.8328343 | L38: =F38/E38*100 -> 55.962948 | M38: =F38/D38*100 -> 8.9319716 | N38: =J38/$J$53*100 -> 93.993622 | O38: =K38/$K$53*100 -> 90.346476 | P38: =L38/$J$53*100 -> 100.8443 | Q38: =M38/$K$53*100 -> 103.02428 | R38: 20123T | S38: =F38/F34-1 -> 0.20830354 | T38: =0.078396*S41+1.56291*T37-0.641306*T36 -> 0.075274208
B39: 20124T | C39: 16403 | D39: 10764.351 | E39: 1596.3591 | F39: 773.29871 | J39: =AVERAGE(L38:L41) -> 51.740491 | K39: =AVERAGE(M38:M41) -> 7.6212352 | L39: =F39/E39*100 -> 48.441401 | M39: =F39/D39*100 -> 7.1838858 | N39: =J39/$J$53*100 -> 93.235503 | O39: =K39/$K$53*100 -> 87.905822 | P39: =L39/$J$53*100 -> 87.290598 | Q39: =M39/$K$53*100 -> 82.861292 | R39: 20124T | S39: =F39/F35-1 -> -0.056488178 | T39: =0.078396*S42+1.56291*T38-0.641306*T37 -> 0.032876168
B40: 20131T | C40: 15753 | D40: 10109.539 | E40: 1396.4134 | F40: 676.29003 | J40: =AVERAGE(L39:L42) -> 50.660028 | K40: =AVERAGE(M39:M42) -> 7.2944443 | L40: =F40/E40*100 -> 48.430505 | M40: =F40/D40*100 -> 6.6896227 | N40: =J40/$J$53*100 -> 91.288526 | O40: =K40/$K$53*100 -> 84.136509 | P40: =L40/$J$53*100 -> 87.270962 | Q40: =M40/$K$53*100 -> 77.160299 | R40: 20131T | S40: =F40/F36-1 -> -0.29705235 | T40: =0.078396*S43+1.56291*T39-0.641306*T38 -> 0.0086441673
B41: 20132T | C41: 15917 | D41: 11300.737 | E41: 1603.3289 | F41: 867.83561 | J41: =AVERAGE(L40:L43) -> 51.366434 | K41: =AVERAGE(M40:M43) -> 7.4292436 | L41: =F41/E41*100 -> 54.12711 | M41: =F41/D41*100 -> 7.6794605 | N41: =J41/$J$53*100 -> 92.561458 | O41: =K41/$K$53*100 -> 85.691328 | P41: =L41/$J$53*100 -> 97.53615 | Q41: =M41/$K$53*100 -> 88.577412 | R41: 20132T | S41: =F41/F37-1 -> -0.14332951 | T41: =0.078396*S44+1.56291*T40-0.641306*T39 -> 0.0038215119
... B87: 20244T | C87: 17848 | D87: 19103.637 | E87: 2755.9558 | F87: 1346.5668 | J87: =AVERAGE(L86:L89) -> 51.928019 | K87: =AVERAGE(M86:M89) -> 7.5062508 | L87: =F87/E87*100 -> 48.860245 | M87: =F87/D87*100 -> 7.0487454 | N87: =J87/$J$53*100 -> 93.573424 | O87: =K87/$K$53*100 -> 86.579555 | P87: =L87/$J$53*100 -> 88.045347 | Q87: =M87/$K$53*100 -> 81.302538 | R87: 20244T | S87: =F87/F83-1 -> -0.099248551 | T87: =0.078396*S90+1.56291*T86-0.641306*T85 -> -0.0052621961
B88: 20251T | C88: 17126 | D88: 19916.986 | E88: 2972.6607 | F88: 1640.4958 | J88: =AVERAGE(L87:L90) -> 54.168511 | K88: =AVERAGE(M87:M90) -> 8.2406076 | L88: =F88/E88*100 -> 55.186112 | M88: =F88/D88*100 -> 8.2366671 | N88: =J88/$J$53*100 -> 97.610754 | O88: =K88/$K$53*100 -> 95.049867 | P88: =L88/$J$53*100 -> 99.444454 | Q88: =M88/$K$53*100 -> 95.004415 | R88: 20251T | S88: =F88/F84-1 -> -0.098470014
B89: 20252T | C89: 17031 | D89: 20486.908 | E89: 3107.2428 | F89: 1736.027 | L89: =F89/E89*100 -> 55.870335 | M89: =F89/D89*100 -> 8.4738359 | P89: =L89/$J$53*100 -> 100.67741 | Q89: =M89/$K$53*100 -> 97.739998 | R89: 20252T | S89: =F89/F85-1 -> 0.18121158
B90: 20253T | C90: 16909 | D90: 18299.447 | E90: 2967.2481 | F90: 1684.1314 | L90: =F90/E90*100 -> 56.757351 | M90: =F90/D90*100 -> 9.2031821 | P90: =L90/$J$53*100 -> 102.2758 | Q90: =M90/$K$53*100 -> 106.15252 | R90: 20253T | S90: =F90/F86-1 -> 0.50837547

Sheet Comercio minorista e.n.e - 471
C2: COMERCIO MINORISTA E.N.E. - 471
C3: D. Número de empresas | D3: A. Ventas totales | E3: S.1. Ventas - compras | F3: S.2. Indicador de resultado bruto de explotación | G3: A. Ventas y otros ingresos (IS) | H3: S.1. Ventas - compras (IS) | I3: S.2. Resultado bruto de explotación (IS) | K3: % total | L3: Margen Ventas unitario sobre ventas-compras(IVARET) | M3: Margen Ventas unitario (IVARET) | N3: Margen Ventas unitario sobre ventas-compras(IS) | O3: Margen Ventas unitario (IS) | S3: S.2. Indicador RBE (tasa var) | T3: S.2. RBE (tasa var)
B4: 2009 | C4: 7125 | D4: 76362.733 | E4: 10666.952 | F4: 3662.7533 | G4: 78080.072 | H4: 12705.353 | I4: 3447.944 | K4: =I4/Total!I4 -> 0.027261971 | L4: =F4/E4*100 -> 34.337394 | M4: =F4/D4*100 -> 4.7965195 | N4: =I4/H4*100 -> 27.137726 | O4: =I4/G4*100 -> 4.4159078 | R4: 2009
B5: 2010 | C5: 7021 | D5: 75862.42 | E5: 10756.517 | F5: 3927.2028 | G5: 78010.582 | H5: 12777.518 | I5: 3477.6176 | K5: =I5/Total!I5 -> 0.02737227 | L5: =F5/E5*100 -> 36.509986 | M5: =F5/D5*100 -> 5.1767434 | N5: =I5/H5*100 -> 27.216691 | O5: =I5/G5*100 -> 4.4578793 | R5: 2010 | S5: =F5/F4-1 -> 0.072199639 | T5: =I5/I4-1 -> 0.0086061657
B6: 2011 | C6: 7418 | D6: 76911.62 | E6: 11197.933 | F6: 4118.7343 | G6: 78288.909 | H6: 12676.305 | I6: 3244.2753 | K6: =I6/Total!I6 -> 0.032193321 | L6: =F6/E6*100 -> 36.781203 | M6: =F6/D6*100 -> 5.3551523 | N6: =I6/H6*100 -> 25.593226 | O6: =I6/G6*100 -> 4.1439781 | R6: 2011 | S6: =F6/F5-1 -> 0.048770469 | T6: =I6/I5-1 -> -0.067098322
B7: 2012 | C7: 7550 | D7: 74871.871 | E7: 10872.094 | F7: 3753.3822 | G7: 77520.034 | H7: 12402.333 | I7: 3017.5719 | K7: =I7/Total!I7 -> 0.028319887 | L7: =F7/E7*100 -> 34.523083 | M7: =F7/D7*100 -> 5.0130739 | N7: =I7/H7*100 -> 24.330679 | O7: =I7/G7*100 -> 3.8926349 | R7: 2012 | S7: =F7/F6-1 -> -0.088704948 | T7: =I7/I6-1 -> -0.069877969
B8: 2013 | C8: 7807 | D8: 76177.611 | E8: 10785.036 | F8: 3806.9222 | G8: 77801.138 | H8: 12374.377 | I8: 2927.8629 | K8: =I8/Total!I8 -> 0.030882902 | L8: =F8/E8*100 -> 35.298188 | M8: =F8/D8*100 -> 4.9974292 | N8: =I8/H8*100 -> 23.66069 | O8: =I8/G8*100 -> 3.7632649 | R8: 2013 | S8: =F8/F7-1 -> 0.014264454 | T8: =I8/I7-1 -> -0.029728849
B9: 2014 | C9: 7992 | D9: 76905.168 | E9: 10565.188 | F9: 3548.7487 | G9: 78676.033 | H9: 12569.145 | I9: 3065.6536 | K9: =I9/Total!I9 -> 0.028704507 | L9: =F9/E9*100 -> 33.589072 | M9: =F9/D9*100 -> 4.6144476 | N9: =I9/H9*100 -> 24.390312 | O9: =I9/G9*100 -> 3.8965534 | R9: 2014 | S9: =F9/F8-1 -> -0.067816842 | T9: =I9/I8-1 -> 0.04706185
B10: 2015 | C10: 8290 | D10: 81025.552 | E10: 11427.636 | F10: 4282.3119 | G10: 80716.3 | H10: 13154.667 | I10: 3478.8445 | K10: =I10/Total!I10 -> 0.027987155 | L10: =F10/E10*100 -> 37.473295 | M10: =F10/D10*100 -> 5.2851375 | N10: =I10/H10*100 -> 26.445705 | O10: =I10/G10*100 -> 4.3099652 | R10: 2015 | S10: =F10/F9-1 -> 0.20671037 | T10: =I10/I9-1 -> 0.13478068
B11: 2016 | C11: 8947 | D11: 84052.909 | E11: 12844.204 | F11: 5191.6715 | G11: 84764.245 | H11: 13976.908 | I11: 3899.3256 | K11: =I11/Total!I11 -> 0.03183177 | L11: =F11/E11*100 -> 40.420344 | M11: =F11/D11*100 -> 6.1766709 | N11: =I11/H11*100 -> 27.898342 | O11: =I11/G11*100 -> 4.600201 | R11: 2016 | S11: =F11/F10-1 -> 0.2123525 | T11: =I11/I10-1 -> 0.12086805
B12: 2017 | C12: 9061 | D12: 87256.909 | E12: 12578.203 | F12: 4684.1811 | G12: 87221.855 | H12: 14327.266 | I12: 3650.8428 | K12: =I12/Total!I12 -> 0.027239316 | L12: =F12/E12*100 -> 37.240463 | M12: =F12/D12*100 -> 5.3682638 | N12: =I12/H12*100 -> 25.481782 | O12: =I12/G12*100 -> 4.1856973 | R12: 2017 | S12: =F12/F11-1 -> -0.097750876 | T12: =I12/I11-1 -> -0.063724573
B13: 2018 | C13: 9071 | D13: 89132.929 | E13: 12541.139 | F13: 4296.2101 | G13: 89268.143 | H13: 15131.314 | I13: 3971.6439 | K13: =I13/Total!I13 -> 0.028465884 | L13: =F13/E13*100 -> 34.256937 | M13: =F13/D13*100 -> 4.8200032 | N13: =I13/H13*100 -> 26.247845 | O13: =I13/G13*100 -> 4.4491168 | R13: 2018 | S13: =F13/F12-1 -> -0.082825791 | T13: =I13/I12-1 -> 0.087870443
B14: 2019 | C14: 8997 | D14: 90599.992 | E14: 13117.045 | F14: 4504.7191 | G14: 91184.323 | H14: 15623.156 | I14: 3980.6699 | K14: =I14/Total!I14 -> 0.027109883 | L14: =F14/E14*100 -> 34.342485 | M14: =F14/D14*100 -> 4.9720966 | N14: =I14/H14*100 -> 25.479295 | O14: =I14/G14*100 -> 4.3655201 | R14: 2019 | S14: =F14/F13-1 -> 0.048533251 | T14: =I14/I13-1 -> 0.0022726028
B15: 2020 | C15: 8718 | D15: 94592.192 | E15: 14348.344 | F15: 5725.5437 | G15: 93675.993 | H15: 15625.335 | I15: 3857.4239 | K15: =I15/Total!I15 -> 0.033316855 | L15: =F15/E15*100 -> 39.903865 | M15: =F15/D15*100 -> 6.0528714 | N15: =I15/H15*100 -> 24.686983 | O15: =I15/G15*100 -> 4.1178361 | R15: 2020 | S15: =F15/F14-1 -> 0.27101015 | T15: =I15/I14-1 -> -0.030961131
B16: 2021 | C16: 8997 | D16: 95822.17 | E16: 14693.732 | F16: 5573.8108 | G16: 98461.342 | H16: 17317.635 | I16: 4888.488 | K16: =I16/Total!I16 -> 0.031383636 | L16: =F16/E16*100 -> 37.933255 | M16: =F16/D16*100 -> 5.816828 | N16: =I16/H16*100 -> 28.228381 | O16: =I16/G16*100 -> 4.9648805 | R16: 2021 | S16: =F16/F15-1 -> -0.026501055 | T16: =I16/I15-1 -> 0.26729344
... B18: 2023 | C18: 9123 | D18: 115496.41 | E18: 16097.068 | F18: 5799.3861 | G18: 118674.45 | H18: 19950.52 | I18: 5715.678 | K18: =I18/Total!I18 -> 0.029034946 | L18: =F18/E18*100 -> 36.027592 | M18: =F18/D18*100 -> 5.0212696 | N18: =I18/H18*100 -> 28.649268 | O18: =I18/G18*100 -> 4.8162668 | R18: 2023 | S18: =F18/F17-1 -> 0.20820118 | T18: =I18/I17-1 -> 0.16571231
B19: 2024 | C19: 9871 | D19: 120812.62 | E19: 17795.049 | F19: 6788.7652 | G19: =G18*(1+G22) -> 122752.3 | H19: =H18*(1+H22) -> 21566.954 | I19: =I18*(1+I22) -> 6395.7659 | K19: =I19/Total!I19 -> 0.02962284 | L19: =F19/E19*100 -> 38.149742 | M19: =F19/D19*100 -> 5.6192516 | N19: =I19/H19*100 -> 29.655397 | O19: =I19/G19*100 -> 5.2103023 | R19: 2024 | S19: =F19/F18-1 -> 0.17060066 | T19: =I19/I18-1 -> 0.11898639
B20: 2025 | D20: =D19*(SUM(D88:D90)/SUM(D84:D86)) -> 126531.34 | E20: =E19*(SUM(E88:E90)/SUM(E84:E86)) -> 19867.436 | F20: =F19*(SUM(F88:F90)/SUM(F84:F86)) -> 7958.2168 | I20: =I19*(1+T20) -> 7497.5183 | L20: =F20/E20*100 -> 40.056587 | M20: =F20/D20*100 -> 6.2895222 | N20: =N19*(L20/L19) -> 31.137667 | O20: =O19*(M20/M19) -> 5.831793 | R20: 2025 | S20: =F20/F19-1 -> 0.17226278 | T20: =+S20 -> 0.17226278
B22: Tasas IS pob. Cte-> | G22: 0.034361666 | H22: 0.081022179 | I22: 0.11898639
C23: D. Número de empresas | D23: A. Ventas totales | E23: S.1. Ventas - compras | F23: S.2. Indicador de resultado bruto de explotación | J23: mm4 MU sobre ventas compras | K23: mm4 MU s/ ventas | N23: Base 2016=100 | O23: Base 2016=100
B24: 20091T | C24: 6750 | D24: 17838.418 | E24: 2264.9958 | F24: 479.6795 | L24: =F24/E24*100 -> 21.177943 | M24: =F24/D24*100 -> 2.689025 | P24: =L24/$J$53*100 -> 53.17279 | Q24: =M24/$K$53*100 -> 44.008322 | R24: 20091T
B25: 20092T | C25: 6849 | D25: 18146.518 | E25: 2564.8466 | F25: 903.18411 | J25: =AVERAGE(L24:L27) -> 33.428978 | K25: =AVERAGE(M24:M27) -> 4.7233517 | L25: =F25/E25*100 -> 35.213961 | M25: =F25/D25*100 -> 4.9771758 | N25: =J25/$J$53*100 -> 83.932234 | O25: =K25/$K$53*100 -> 77.301915 | P25: =L25/$J$53*100 -> 88.413904 | Q25: =M25/$K$53*100 -> 81.455976 | R25: 20092T
B26: 20093T | C26: 6944 | D26: 19481.324 | E26: 2615.9311 | F26: 911.33137 | J26: =AVERAGE(L25:L28) -> 36.119027 | K26: =AVERAGE(M25:M28) -> 5.1869958 | L26: =F26/E26*100 -> 34.837743 | M26: =F26/D26*100 -> 4.6779744 | N26: =J26/$J$53*100 -> 90.68631 | O26: =K26/$K$53*100 -> 84.889871 | P26: =L26/$J$53*100 -> 87.469309 | Q26: =M26/$K$53*100 -> 76.559275 | R26: 20093T
B27: 20094T | C27: 7033 | D27: 20896.472 | E27: 3221.1784 | F27: 1368.5584 | J27: =AVERAGE(L26:L29) -> 38.072583 | K27: =AVERAGE(M26:M29) -> 5.6294502 | L27: =F27/E27*100 -> 42.486264 | M27: =F27/D27*100 -> 6.5492316 | N27: =J27/$J$53*100 -> 95.591223 | O27: =K27/$K$53*100 -> 92.131036 | P27: =L27/$J$53*100 -> 106.67293 | Q27: =M27/$K$53*100 -> 107.18409 | R27: 20094T
B28: 20101T | C28: 6697 | D28: 17892.94 | E28: 2545.4954 | F28: 812.9839 | J28: =AVERAGE(L27:L30) -> 38.54502 | K28: =AVERAGE(M27:M30) -> 5.7343589 | L28: =F28/E28*100 -> 31.938141 | M28: =F28/D28*100 -> 4.5436016 | N28: =J28/$J$53*100 -> 96.777402 | O28: =K28/$K$53*100 -> 93.847961 | P28: =L28/$J$53*100 -> 80.189095 | Q28: =M28/$K$53*100 -> 74.360144 | R28: 20101T | S28: =F28/F24-1 -> 0.69484811 | T28: =AVERAGE(S28:S29) -> 0.53274069
B29: 20102T | C29: 6843 | D29: 18347.938 | E29: 2877.0311 | F29: 1237.9342 | J29: =AVERAGE(L28:L31) -> 36.33951 | K29: =AVERAGE(M28:M31) -> 5.1978098 | L29: =F29/E29*100 -> 43.028182 | M29: =F29/D29*100 -> 6.7469933 | N29: =J29/$J$53*100 -> 91.23989 | O29: =K29/$K$53*100 -> 85.066851 | P29: =L29/$J$53*100 -> 108.03356 | Q29: =M29/$K$53*100 -> 110.42064 | R29: 20102T | S29: =F29/F25-1 -> 0.37063327 | T29: =+T28 -> 0.53274069
B30: 20103T | C30: 6918 | D30: 18966.205 | E30: 2632.4231 | F30: 966.82299 | J30: =AVERAGE(L29:L32) -> 36.111568 | K30: =AVERAGE(M29:M32) -> 5.1900095 | L30: =F30/E30*100 -> 36.727493 | M30: =F30/D30*100 -> 5.0976089 | N30: =J30/$J$53*100 -> 90.667581 | O30: =K30/$K$53*100 -> 84.939192 | P30: =L30/$J$53*100 -> 92.214021 | Q30: =M30/$K$53*100 -> 83.426973 | R30: 20103T | S30: =F30/F26-1 -> 0.060890716 | T30: =0.078396*S33+1.56291*T29-0.641306*T28 -> 0.48117213
B31: 20104T | C31: 6924 | D31: 20655.336 | E31: 2701.5674 | F31: 909.46174 | J31: =AVERAGE(L30:L33) -> 35.106631 | K31: =AVERAGE(M30:M33) -> 4.9556467 | L31: =F31/E31*100 -> 33.664226 | M31: =F31/D31*100 -> 4.4030353 | N31: =J31/$J$53*100 -> 88.144421 | O31: =K31/$K$53*100 -> 81.103634 | P31: =L31/$J$53*100 -> 84.522885 | Q31: =M31/$K$53*100 -> 72.059648 | R31: 20104T | S31: =F31/F27-1 -> -0.33546002 | T31: =0.078396*S34+1.56291*T30-0.641306*T29 -> 0.42379901
B32: 20111T | C32: 6860 | D32: 17781.869 | E32: 2586.1519 | F32: 802.38913 | J32: =AVERAGE(L31:L34) -> 35.749216 | K32: =AVERAGE(M31:M34) -> 5.1105965 | L32: =F32/E32*100 -> 31.026372 | M32: =F32/D32*100 -> 4.5124005 | N32: =J32/$J$53*100 -> 89.757801 | O32: =K32/$K$53*100 -> 83.639526 | P32: =L32/$J$53*100 -> 77.899861 | Q32: =M32/$K$53*100 -> 73.849509 | R32: 20111T | S32: =F32/F28-1 -> -0.013031953 | T32: =0.078396*S35+1.56291*T31-0.641306*T30 -> 0.3702827
B33: 20112T | C33: 7019 | D33: 18643.883 | E33: 2776.6414 | F33: 1083.1242 | J33: =AVERAGE(L32:L35) -> 36.650952 | K33: =AVERAGE(M32:M35) -> 5.3406434 | L33: =F33/E33*100 -> 39.008432 | M33: =F33/D33*100 -> 5.8095422 | N33: =J33/$J$53*100 -> 92.021846 | O33: =K33/$K$53*100 -> 87.404452 | P33: =L33/$J$53*100 -> 97.940918 | Q33: =M33/$K$53*100 -> 95.078404 | R33: 20112T | S33: =F33/F29-1 -> -0.12505506 | T33: =0.078396*S36+1.56291*T32-0.641306*T31 -> 0.31339348
B34: 20113T | C34: 7136 | D34: 19804.897 | E34: 2881.3973 | F34: 1132.3267 | J34: =AVERAGE(L33:L36) -> 37.0287 | K34: =AVERAGE(M33:M36) -> 5.4077367 | L34: =F34/E34*100 -> 39.297835 | M34: =F34/D34*100 -> 5.7174079 | N34: =J34/$J$53*100 -> 92.970282 | O34: =K34/$K$53*100 -> 88.502494 | P34: =L34/$J$53*100 -> 98.667541 | Q34: =M34/$K$53*100 -> 93.570543 | R34: 20113T | S34: =F34/F30-1 -> 0.17118311 | T34: =0.078396*S37+1.56291*T33-0.641306*T32 -> 0.24178762
B35: 20114T | C35: 7293 | D35: 20680.971 | E35: 2953.7421 | F35: 1100.8942 | J35: =AVERAGE(L34:L37) -> 36.089351 | K35: =AVERAGE(M34:M37) -> 5.2179499 | L35: =F35/E35*100 -> 37.27117 | M35: =F35/D35*100 -> 5.323223 | N35: =J35/$J$53*100 -> 90.6118 | O35: =K35/$K$53*100 -> 85.396462 | P35: =L35/$J$53*100 -> 93.579066 | Q35: =M35/$K$53*100 -> 87.119351 | R35: 20114T | S35: =F35/F31-1 -> 0.21048985 | T35: =0.078396*S38+1.56291*T34-0.641306*T33 -> 0.18708572
B36: 20121T | C36: 6958 | D36: 18166.635 | E36: 2669.2564 | F36: 868.5057 | J36: =AVERAGE(L35:L38) -> 36.887381 | K36: =AVERAGE(M35:M38) -> 5.4236061 | L36: =F36/E36*100 -> 32.537365 | M36: =F36/D36*100 -> 4.7807735 | N36: =J36/$J$53*100 -> 92.615463 | O36: =K36/$K$53*100 -> 88.762212 | P36: =L36/$J$53*100 -> 81.693604 | Q36: =M36/$K$53*100 -> 78.241676 | R36: 20121T | S36: =F36/F32-1 -> 0.082399631 | T36: =0.078396*S39+1.56291*T35-0.641306*T34 -> 0.10653116
B37: 20122T | C37: 7083 | D37: 18559.22 | E37: 2658.9686 | F37: 937.31398 | J37: =AVERAGE(L36:L39) -> 34.165105 | K37: =AVERAGE(M36:M39) -> 4.9917393 | L37: =F37/E37*100 -> 35.251037 | M37: =F37/D37*100 -> 5.0503953 | N37: =J37/$J$53*100 -> 85.780474 | O37: =K37/$K$53*100 -> 81.694321 | P37: =L37/$J$53*100 -> 88.506991 | Q37: =M37/$K$53*100 -> 82.654279 | R37: 20122T | S37: =F37/F33-1 -> -0.13462007 | T37: =0.078396*S40+1.56291*T36-0.641306*T35 -> 0.0031628404
